BEGIN:VCALENDAR
VERSION:2.0
PRODID:-//SF Tango With.Us - ECPv6.6.2//NONSGML v1.0//EN
CALSCALE:GREGORIAN
METHOD:PUBLISH
X-WR-CALNAME:SF Tango With.Us
X-ORIGINAL-URL:https://sftangowith.us
X-WR-CALDESC:Events for SF Tango With.Us
REFRESH-INTERVAL;VALUE=DURATION:PT1H
X-Robots-Tag:noindex
X-PUBLISHED-TTL:PT1H
BEGIN:VTIMEZONE
TZID:America/Los_Angeles
BEGIN:DAYLIGHT
TZOFFSETFROM:-0800
TZOFFSETTO:-0700
TZNAME:PDT
DTSTART:20230312T100000
END:DAYLIGHT
BEGIN:STANDARD
TZOFFSETFROM:-0700
TZOFFSETTO:-0800
TZNAME:PST
DTSTART:20231105T090000
END:STANDARD
END:VTIMEZONE
BEGIN:VEVENT
DTSTART;TZID=America/Los_Angeles:20230224T190000
DTEND;TZID=America/Los_Angeles:20230224T210000
DTSTAMP:20260424T175241
CREATED:20230217T011054Z
LAST-MODIFIED:20230221T235608Z
UID:10008713-1677265200-1677272400@sftangowith.us
SUMMARY:Sumi Lee Tango Concert @ Artist Migration (Live Music)
DESCRIPTION:Sumi Lee presents tango and folklore music from Argentina. Dancing encouraged!
URL:https://sftangowith.us/event/sumi-lee-tango-concert-artist-migration/
LOCATION:The Drawing Room • Annex\, 780 Valencia St\, San Francisco\, CA\, United States
CATEGORIES:music (live)
ATTACH;FMTTYPE=image/jpeg:https://sftangowith.us/wp-content/uploads/2023/02/Sumi-Lee-BW.jpg
GEO:37.7605299;-122.4218176
X-APPLE-STRUCTURED-LOCATION;VALUE=URI;X-ADDRESS=The Drawing Room • Annex 780 Valencia St San Francisco CA United States;X-APPLE-RADIUS=500;X-TITLE=780 Valencia St:geo:-122.4218176,37.7605299
END:VEVENT
BEGIN:VEVENT
DTSTART;TZID=America/Los_Angeles:20230224T203000
DTEND;TZID=America/Los_Angeles:20230225T003000
DTSTAMP:20260424T175241
CREATED:20230217T011217Z
LAST-MODIFIED:20230220T205358Z
UID:10008013-1677270600-1677285000@sftangowith.us
SUMMARY:La Milonga Genesis w/ DJ Ming Zhou from New York
DESCRIPTION:La Milonga: 8:30pm-12:30am \n– Discounts offered for those in financial hardship\nemail: tangosaborsf@nullgmail.com \nPLEASE DO NOT ATTEND IF YOU ARE NOT FEELING WELL
URL:https://sftangowith.us/event/la-milonga-genesis-23-8/
LOCATION:Genesis Dance\, 404 Clement St.\, San Francisco\, CA
CATEGORIES:milonga,Recommended for Visitors
ATTACH;FMTTYPE=image/jpeg:https://sftangowith.us/wp-content/uploads/2021/04/Genesis-2021-06.jpg
GEO:37.7832315;-122.4636431
X-APPLE-STRUCTURED-LOCATION;VALUE=URI;X-ADDRESS=Genesis Dance 404 Clement St. San Francisco CA;X-APPLE-RADIUS=500;X-TITLE=404 Clement St.:geo:-122.4636431,37.7832315
END:VEVENT
END:VCALENDAR