BEGIN:VCALENDAR
VERSION:2.0
PRODID:-//SF Tango With.Us - ECPv6.6.2//NONSGML v1.0//EN
CALSCALE:GREGORIAN
METHOD:PUBLISH
X-WR-CALNAME:SF Tango With.Us
X-ORIGINAL-URL:https://sftangowith.us
X-WR-CALDESC:Events for SF Tango With.Us
REFRESH-INTERVAL;VALUE=DURATION:PT1H
X-Robots-Tag:noindex
X-PUBLISHED-TTL:PT1H
BEGIN:VTIMEZONE
TZID:America/Los_Angeles
BEGIN:DAYLIGHT
TZOFFSETFROM:-0800
TZOFFSETTO:-0700
TZNAME:PDT
DTSTART:20230312T100000
END:DAYLIGHT
BEGIN:STANDARD
TZOFFSETFROM:-0700
TZOFFSETTO:-0800
TZNAME:PST
DTSTART:20231105T090000
END:STANDARD
END:VTIMEZONE
BEGIN:VEVENT
DTSTART;TZID=America/Los_Angeles:20230225T110000
DTEND;TZID=America/Los_Angeles:20230225T160000
DTSTAMP:20260424T175232
CREATED:20220902T090853Z
LAST-MODIFIED:20221222T003927Z
UID:10008065-1677322800-1677340800@sftangowith.us
SUMMARY:Class & Practica w/ Glenn @ Bissap Baobab
DESCRIPTION:11:00 – 12:00 Basics Class\n12:00 – 01:00 Exploration / Improv Class\n01:00 – 04:00 PRACTICA \n$15/each class\n$20 – one class + practica\n$30 – two classes + practica\n$15 – Practica only \nBASICS CLASS is for all levels who wish to have a solid foundation by studying the language of tango. We focus on movement quality and clear communication. Master the basics! \nEXPLORATION / IMPROV is on learning how to dance with minimal effort\, get insight on improvisation\, plus grooving to the music. \nLet’s have fun! 🙂 \nsfotango@nullyahoo.com
URL:https://sftangowith.us/event/bissap-baobab/2023-02-25/
LOCATION:Bissap Baobab\, 2243 Mission Street\, San Francisco\, CA
CATEGORIES:class,practica,Recommended for Visitors
ATTACH;FMTTYPE=image/jpeg:https://sftangowith.us/wp-content/uploads/2022/09/Bissap-Baobab.jpg
GEO:37.7604434;-122.4187949
X-APPLE-STRUCTURED-LOCATION;VALUE=URI;X-ADDRESS=Bissap Baobab 2243 Mission Street San Francisco CA;X-APPLE-RADIUS=500;X-TITLE=2243 Mission Street:geo:-122.4187949,37.7604434
END:VEVENT
BEGIN:VEVENT
DTSTART;TZID=America/Los_Angeles:20230225T190000
DTEND;TZID=America/Los_Angeles:20230225T210000
DTSTAMP:20260424T175232
CREATED:20230221T212802Z
LAST-MODIFIED:20230221T212802Z
UID:10008725-1677351600-1677358800@sftangowith.us
SUMMARY:Scott O'Day Tango Trio (Live Music)
DESCRIPTION:21st Century Contemporary Tango \nScott O’Day Tango Trio presents contemporary tango in a unique formation. With the guitar as a central voice\, this power trio features all originally arranged music for guitar\, piano\, and double bass. Influenced by the sounds and colors from jazz but with the rhythmic intensity of rock\, the trio forges a new and exciting path for today’s tango. The trio will be joined by guest vocalist Verónica Freidkes from Buenos Aires\, Argentina. \nScott O’Day – guitar\nElyse Weakley – piano\nDaniel Fabricant – double bass\nVeronica Freidkes – voice
URL:https://sftangowith.us/event/scott-oday-tango-trio-live-music/
LOCATION:Red Poppy Art House\, 2698 Folsom St\, San Francisco\, CA\, 94110\, United States
CATEGORIES:music (live)
ATTACH;FMTTYPE=image/jpeg:https://sftangowith.us/wp-content/uploads/2023/02/Scott-ODay-Tango-Trio.jpeg
GEO:37.7542165;-122.4145282
X-APPLE-STRUCTURED-LOCATION;VALUE=URI;X-ADDRESS=Red Poppy Art House 2698 Folsom St San Francisco CA 94110 United States;X-APPLE-RADIUS=500;X-TITLE=2698 Folsom St:geo:-122.4145282,37.7542165
END:VEVENT
BEGIN:VEVENT
DTSTART;TZID=America/Los_Angeles:20230225T200000
DTEND;TZID=America/Los_Angeles:20230226T020000
DTSTAMP:20260424T175232
CREATED:20230206T232758Z
LAST-MODIFIED:20230217T011550Z
UID:10008123-1677355200-1677376800@sftangowith.us
SUMMARY:All Night Milonga "mini" w/ Chacarera Workshop (DJ Prashant Iyer )
DESCRIPTION:8:00 – 9:00 Chacarera workshop with Dom Bhuphaibool\n9:00 – 2:00a Milonga with Guest DJ Prashant\nChacarera break around 11:30pm \nWorkshop+Milonga $30-35 sliding scale (you can pay any amount between $30-35)\nMilonga only $20-25 sliding scale (you can pay any amount between $20 and $25) \nRegistration\, full vaccusation + booster\, high quality mask (KF94/KN95/N95) required.\nCapacity limited. \nRegistration link\nhttps://tangonnection.wixsite.com/felipetango/allnightmilongaregistration \nWe will email you confirmation of your spot upon receipt of payment.
URL:https://sftangowith.us/event/all-nighter-mini-23-3/
LOCATION:The Beat\, 2560 Ninth Street\, Berkeley\, CA\, United States
CATEGORIES:milonga,workshop
ATTACH;FMTTYPE=image/jpeg:https://sftangowith.us/wp-content/uploads/2021/06/Prashant-at-the-Beat-1.jpg
GEO:37.8591971;-122.2917693
X-APPLE-STRUCTURED-LOCATION;VALUE=URI;X-ADDRESS=The Beat 2560 Ninth Street Berkeley CA United States;X-APPLE-RADIUS=500;X-TITLE=2560 Ninth Street:geo:-122.2917693,37.8591971
END:VEVENT
END:VCALENDAR