BEGIN:VCALENDAR
VERSION:2.0
PRODID:-//SF Tango With.Us - ECPv6.6.2//NONSGML v1.0//EN
CALSCALE:GREGORIAN
METHOD:PUBLISH
X-ORIGINAL-URL:https://sftangowith.us
X-WR-CALDESC:Events for SF Tango With.Us
REFRESH-INTERVAL;VALUE=DURATION:PT1H
X-Robots-Tag:noindex
X-PUBLISHED-TTL:PT1H
BEGIN:VTIMEZONE
TZID:America/Los_Angeles
BEGIN:DAYLIGHT
TZOFFSETFROM:-0800
TZOFFSETTO:-0700
TZNAME:PDT
DTSTART:20230312T100000
END:DAYLIGHT
BEGIN:STANDARD
TZOFFSETFROM:-0700
TZOFFSETTO:-0800
TZNAME:PST
DTSTART:20231105T090000
END:STANDARD
END:VTIMEZONE
BEGIN:VEVENT
DTSTART;TZID=America/Los_Angeles:20230310T190000
DTEND;TZID=America/Los_Angeles:20230310T210000
DTSTAMP:20260424T201028
CREATED:20230217T014416Z
LAST-MODIFIED:20230217T015227Z
UID:10008723-1678474800-1678482000@sftangowith.us
SUMMARY:Buena Onda Tango Ensemble @ Drawing Room (Live Music)
DESCRIPTION:7:00 – 9:00 concert \nSumi Lee’s Buena Onda Tango ensemble will celebrate Piazzolla’s 102 b-day and the notable contemporary tango composer’s pieces are entertaining but have complex layers and uncommon musical effects which will grab your attention. Our goal is to introduce jewels of contemporary tango pieces that are written by living maestros but not often performed outside of Buenos Aires. \n 
URL:https://sftangowith.us/event/buena-onda-tango-ensemble-drawing-room/
LOCATION:The Drawing Room • Annex\, 780 Valencia St\, San Francisco\, CA\, United States
CATEGORIES:music (live)
ATTACH;FMTTYPE=image/jpeg:https://sftangowith.us/wp-content/uploads/2022/12/Buena-Onda-Tango-Ensemble.jpg
GEO:37.7605299;-122.4218176
X-APPLE-STRUCTURED-LOCATION;VALUE=URI;X-ADDRESS=The Drawing Room • Annex 780 Valencia St San Francisco CA United States;X-APPLE-RADIUS=500;X-TITLE=780 Valencia St:geo:-122.4218176,37.7605299
END:VEVENT
BEGIN:VEVENT
DTSTART;TZID=America/Los_Angeles:20230310T203000
DTEND;TZID=America/Los_Angeles:20230311T003000
DTSTAMP:20260424T201028
CREATED:20230228T013955Z
LAST-MODIFIED:20230228T013956Z
UID:10008015-1678480200-1678494600@sftangowith.us
SUMMARY:La Milonga Genesis w/ DJ Kostas
DESCRIPTION:La Milonga: 8:30pm-12:30am \n– Discounts offered for those in financial hardship\nemail: tangosaborsf@nullgmail.com \nPLEASE DO NOT ATTEND IF YOU ARE NOT FEELING WELL
URL:https://sftangowith.us/event/la-milonga-genesis-23-10/
LOCATION:Genesis Dance\, 404 Clement St.\, San Francisco\, CA
CATEGORIES:milonga,Recommended for Visitors
ATTACH;FMTTYPE=image/jpeg:https://sftangowith.us/wp-content/uploads/2021/04/Genesis-2021-06.jpg
GEO:37.7832315;-122.4636431
X-APPLE-STRUCTURED-LOCATION;VALUE=URI;X-ADDRESS=Genesis Dance 404 Clement St. San Francisco CA;X-APPLE-RADIUS=500;X-TITLE=404 Clement St.:geo:-122.4636431,37.7832315
END:VEVENT
END:VCALENDAR