BEGIN:VCALENDAR
VERSION:2.0
PRODID:-//SF Tango With.Us - ECPv6.6.2//NONSGML v1.0//EN
CALSCALE:GREGORIAN
METHOD:PUBLISH
X-WR-CALNAME:SF Tango With.Us
X-ORIGINAL-URL:https://sftangowith.us
X-WR-CALDESC:Events for SF Tango With.Us
REFRESH-INTERVAL;VALUE=DURATION:PT1H
X-Robots-Tag:noindex
X-PUBLISHED-TTL:PT1H
BEGIN:VTIMEZONE
TZID:America/Los_Angeles
BEGIN:DAYLIGHT
TZOFFSETFROM:-0800
TZOFFSETTO:-0700
TZNAME:PDT
DTSTART:20230312T100000
END:DAYLIGHT
BEGIN:STANDARD
TZOFFSETFROM:-0700
TZOFFSETTO:-0800
TZNAME:PST
DTSTART:20231105T090000
END:STANDARD
END:VTIMEZONE
BEGIN:VEVENT
DTSTART;TZID=America/Los_Angeles:20230311T110000
DTEND;TZID=America/Los_Angeles:20230311T160000
DTSTAMP:20260424T153934
CREATED:20220902T090853Z
LAST-MODIFIED:20221222T003927Z
UID:10008067-1678532400-1678550400@sftangowith.us
SUMMARY:Class & Practica w/ Glenn @ Bissap Baobab
DESCRIPTION:11:00 – 12:00 Basics Class\n12:00 – 01:00 Exploration / Improv Class\n01:00 – 04:00 PRACTICA \n$15/each class\n$20 – one class + practica\n$30 – two classes + practica\n$15 – Practica only \nBASICS CLASS is for all levels who wish to have a solid foundation by studying the language of tango. We focus on movement quality and clear communication. Master the basics! \nEXPLORATION / IMPROV is on learning how to dance with minimal effort\, get insight on improvisation\, plus grooving to the music. \nLet’s have fun! 🙂 \nsfotango@nullyahoo.com
URL:https://sftangowith.us/event/bissap-baobab/2023-03-11/
LOCATION:Bissap Baobab\, 2243 Mission Street\, San Francisco\, CA
CATEGORIES:class,practica,Recommended for Visitors
ATTACH;FMTTYPE=image/jpeg:https://sftangowith.us/wp-content/uploads/2022/09/Bissap-Baobab.jpg
GEO:37.7604434;-122.4187949
X-APPLE-STRUCTURED-LOCATION;VALUE=URI;X-ADDRESS=Bissap Baobab 2243 Mission Street San Francisco CA;X-APPLE-RADIUS=500;X-TITLE=2243 Mission Street:geo:-122.4187949,37.7604434
END:VEVENT
BEGIN:VEVENT
DTSTART;TZID=America/Los_Angeles:20230311T153000
DTEND;TZID=America/Los_Angeles:20230311T183000
DTSTAMP:20260424T153934
CREATED:20230222T000154Z
LAST-MODIFIED:20230222T000155Z
UID:10008112-1678548600-1678559400@sftangowith.us
SUMMARY:Mixed-Music Tango Practica @ The Beat (Cancelled)
DESCRIPTION:
URL:https://sftangowith.us/event/mixed-music-tango-practica-the-beat-23-3/
LOCATION:The Beat\, 2560 Ninth Street\, Berkeley\, CA\, United States
GEO:37.8591971;-122.2917693
X-APPLE-STRUCTURED-LOCATION;VALUE=URI;X-ADDRESS=The Beat 2560 Ninth Street Berkeley CA United States;X-APPLE-RADIUS=500;X-TITLE=2560 Ninth Street:geo:-122.2917693,37.8591971
END:VEVENT
BEGIN:VEVENT
DTSTART;TZID=America/Los_Angeles:20230311T193000
DTEND;TZID=America/Los_Angeles:20230311T203000
DTSTAMP:20260424T153934
CREATED:20230217T014639Z
LAST-MODIFIED:20230217T014639Z
UID:10008724-1678563000-1678566600@sftangowith.us
SUMMARY:Piazzolla's Birthday w/ Buena Onda Tango Ensemble (Live Music)
DESCRIPTION:Tango music by Astor Piazzolla and the notable contemporary tango composers \n$20 in advance; $25 at the door (general admission)\n$23.18 in advance\, $20 at the door (seniors and students) \nBuena Onda Tango Ensemble\nSumi Lee\, piano\nFabrizio Colombo\, bandoneon\nBasma Edrees\, violin \nSunset Music and Arts\nhttps://sunsetarts.wordpress.com \n 
URL:https://sftangowith.us/event/piazzollas-birthday-w-buena-onda-tango-ensemble-live-music/
LOCATION:Episcopal Church of the Incarnation\, 1750 29th Ave\, San Francisco\, CA\, 94122\, United States
ATTACH;FMTTYPE=image/jpeg:https://sftangowith.us/wp-content/uploads/2022/12/Buena-Onda-Tango-Ensemble.jpg
GEO:37.7545309;-122.4869506
X-APPLE-STRUCTURED-LOCATION;VALUE=URI;X-ADDRESS=Episcopal Church of the Incarnation 1750 29th Ave San Francisco CA 94122 United States;X-APPLE-RADIUS=500;X-TITLE=1750 29th Ave:geo:-122.4869506,37.7545309
END:VEVENT
BEGIN:VEVENT
DTSTART;TZID=America/Los_Angeles:20230311T210000
DTEND;TZID=America/Los_Angeles:20230312T013000
DTSTAMP:20260424T153934
CREATED:20230228T014027Z
LAST-MODIFIED:20230228T014027Z
UID:10008366-1678568400-1678584600@sftangowith.us
SUMMARY:Che! Milonga w/ DJ Madeleine
DESCRIPTION:Milonga: 9pm – 1:30am\nHosted by Ramada and Elaine \n$20: MILONGA ONLY\nCash or Venmo at the door \n~Fully Vaccinated Event. Vaccination information is required upon entry and masks are recommended but optional.\n~We are dedicated to providing a welcoming\, inclusive\, safe\, and comfortable environment for everyone\, regardless of gender\, age\, sexual orientation\, race\, ethnicity\, religion\, or any other characteristic or trait.\n~We reserve the right to refuse entry to anyone who causes discomfort\, unsafe feelings\, and physical hazards to our attendees.\n~Respect for the line of dance and floor craft is enforced.\n~This is a switch-role-friendly and queer-friendly event.\n~Bring your own beverage (BYOB)\, snacks\, and drinking vessels. Water will be provided.\n~Tables are first come first served\, no reservations.\n~Parking lot on site. Park in the numbered lots EXCEPT numbers: 24\, 25\, 28\, 29\, 30\, 31\, 35\, 36\, 40.
URL:https://sftangowith.us/event/che-milonga-2-2/
LOCATION:La Pista\, 3450 3rd St\, Building 5\, San Francisco\, CA\, 94124\, United States
CATEGORIES:milonga,Recommended for Visitors
ATTACH;FMTTYPE=image/jpeg:https://sftangowith.us/wp-content/uploads/2022/08/CheMilonga_default.jpeg
GEO:37.7457575;-122.3878168
X-APPLE-STRUCTURED-LOCATION;VALUE=URI;X-ADDRESS=La Pista 3450 3rd St Building 5 San Francisco CA 94124 United States;X-APPLE-RADIUS=500;X-TITLE=3450 3rd St\, Building 5:geo:-122.3878168,37.7457575
END:VEVENT
END:VCALENDAR