BEGIN:VCALENDAR
VERSION:2.0
PRODID:-//SF Tango With.Us - ECPv6.6.2//NONSGML v1.0//EN
CALSCALE:GREGORIAN
METHOD:PUBLISH
X-ORIGINAL-URL:https://sftangowith.us
X-WR-CALDESC:Events for SF Tango With.Us
REFRESH-INTERVAL;VALUE=DURATION:PT1H
X-Robots-Tag:noindex
X-PUBLISHED-TTL:PT1H
BEGIN:VTIMEZONE
TZID:America/Los_Angeles
BEGIN:DAYLIGHT
TZOFFSETFROM:-0800
TZOFFSETTO:-0700
TZNAME:PDT
DTSTART:20230312T100000
END:DAYLIGHT
BEGIN:STANDARD
TZOFFSETFROM:-0700
TZOFFSETTO:-0800
TZNAME:PST
DTSTART:20231105T090000
END:STANDARD
END:VTIMEZONE
BEGIN:VEVENT
DTSTART;TZID=America/Los_Angeles:20230320T201500
DTEND;TZID=America/Los_Angeles:20230321T002000
DTSTAMP:20260424T031726
CREATED:20230228T204618Z
LAST-MODIFIED:20230228T204618Z
UID:10008489-1679343300-1679358000@sftangowith.us
SUMMARY:Monday Night Tango @ The Beat w/ Jonas & Xiaomin
DESCRIPTION:8:15 – 9:30   All – level class with Jonas & Xiaomin\n9:30 – 0:30a   Practica \n$20 class & practica or practica only\n$10 for full-time students\nCash\, Venmo\, PayPal accepted \nThis weekly class+practica is hosted by Jonas & Xiaomin. \nWe want to provide a safe environment; therefore\, we have implemented the following protocol:\nPre-registration is required for EVERYONE\, EVERY WEEK:\nwww.jonastango.com/jx-at-the-beat/\nFully vaccinated & boosted dancers only\nMask required (N95\, KN95\, KF94) \nIf this is your first time coming to MONDAY Tango at the Beat after re-opening\, bring your vaccine card (image OK) & official photo ID.\nPlease stay home if you have in the last 7 days\na) tested positive\, or\nb) attended large tango events (150+)* \n*you may attend if you wear a high-quality mask\, or test negative on the day of the event and share the result with Jonas & Xiaomin.
URL:https://sftangowith.us/event/monday-night-tango-the-beat-8/
LOCATION:The Beat\, 2560 Ninth Street\, Berkeley\, CA\, United States
CATEGORIES:class,milonga,practica,Recommended for Visitors
ATTACH;FMTTYPE=image/jpeg:https://sftangowith.us/wp-content/uploads/2021/06/Jonas-and-Xiaomin.jpg
ORGANIZER;CN="Felipe and Ayano":MAILTO:tangonnection@gmail.com
GEO:37.8591971;-122.2917693
X-APPLE-STRUCTURED-LOCATION;VALUE=URI;X-ADDRESS=The Beat 2560 Ninth Street Berkeley CA United States;X-APPLE-RADIUS=500;X-TITLE=2560 Ninth Street:geo:-122.2917693,37.8591971
END:VEVENT
END:VCALENDAR