BEGIN:VCALENDAR
VERSION:2.0
PRODID:-//SF Tango With.Us - ECPv6.6.2//NONSGML v1.0//EN
CALSCALE:GREGORIAN
METHOD:PUBLISH
X-ORIGINAL-URL:https://sftangowith.us
X-WR-CALDESC:Events for SF Tango With.Us
REFRESH-INTERVAL;VALUE=DURATION:PT1H
X-Robots-Tag:noindex
X-PUBLISHED-TTL:PT1H
BEGIN:VTIMEZONE
TZID:America/Los_Angeles
BEGIN:DAYLIGHT
TZOFFSETFROM:-0800
TZOFFSETTO:-0700
TZNAME:PDT
DTSTART:20230312T100000
END:DAYLIGHT
BEGIN:STANDARD
TZOFFSETFROM:-0700
TZOFFSETTO:-0800
TZNAME:PST
DTSTART:20231105T090000
END:STANDARD
END:VTIMEZONE
BEGIN:VEVENT
DTSTART;TZID=America/Los_Angeles:20230322T190000
DTEND;TZID=America/Los_Angeles:20230322T220000
DTSTAMP:20260424T015308
CREATED:20230206T234237Z
LAST-MODIFIED:20230214T174027Z
UID:10008647-1679511600-1679522400@sftangowith.us
SUMMARY:Beginning Tango Series w/ David Orly-Thompson at La Bruja (5 classes)
DESCRIPTION:Wednesdays in March\, join us for beginning tango with David Orly-Thompson! We will explore the fundamentals of social tango together. This is a series of five classes.\nMasks are required.\n6:45-7:00 pm check-in\n7:00-8:00 pm tango class\n8:00-10:00 pm practica\n$100 general admission\, 5 classes\n$75 students with ID\, 5 classes\n$10 practica drop-in (after 8:00 pm)\nThis is a queer-friendly event where all genders are welcome to lead and follow. No partner necessary. Dance whatever role you like!\n\nRegister on eventbrite:  https://www.eventbrite.com/e/544623081297\n\nThis class takes place in the ballroom or drawing room of the Berkeley City Club. To enter the building\, ring the bell and say “tango.” We are a 10-minute walk from Downtown Berkeley BART. No non-member parking in the Berkeley City Club lot.\nwww.labrujatangoberkeley.com\ninfo@nulllabrujatangoberkeley.com
URL:https://sftangowith.us/event/beginner-series-with-david-orly-thompson-5-classes/2023-03-22/
LOCATION:Berkeley City Club\, 2315 Durant Ave\, Berkeley\, 94704\, United States
CATEGORIES:class,practica
ATTACH;FMTTYPE=image/jpeg:https://sftangowith.us/wp-content/uploads/2023/02/David.jpg
ORGANIZER;CN="Berkeley City Club":MAILTO:info@labrujatangoberkeley.com
GEO:37.8676008;-122.2627745
X-APPLE-STRUCTURED-LOCATION;VALUE=URI;X-ADDRESS=Berkeley City Club 2315 Durant Ave Berkeley 94704 United States;X-APPLE-RADIUS=500;X-TITLE=2315 Durant Ave:geo:-122.2627745,37.8676008
END:VEVENT
BEGIN:VEVENT
DTSTART;TZID=America/Los_Angeles:20230322T190000
DTEND;TZID=America/Los_Angeles:20230322T230000
DTSTAMP:20260424T015308
CREATED:20230320T212117Z
LAST-MODIFIED:20230320T212216Z
UID:10008221-1679511600-1679526000@sftangowith.us
SUMMARY:Sunnyvale Spring Milonga @ 905 Kifer w/ DJ Rene
DESCRIPTION:Come celebrate spring with us. Bring a dish and your dance shoes. Come on your own or bring a partner and join the fun. Rene Quebec is our DJ
URL:https://sftangowith.us/event/sunnyvale-practica-the-moose-lodge-5/
LOCATION:Moose Lodge\, 922 Weddell Court\, Sunnyvale\, CA\, 94089\, United States
CATEGORIES:milonga
ATTACH;FMTTYPE=image/jpeg:https://sftangowith.us/wp-content/uploads/2017/06/ReneQuebec-DJ.jpg
GEO:37.3747868;-122.0099086
X-APPLE-STRUCTURED-LOCATION;VALUE=URI;X-ADDRESS=Moose Lodge 922 Weddell Court Sunnyvale CA 94089 United States;X-APPLE-RADIUS=500;X-TITLE=922 Weddell Court:geo:-122.0099086,37.3747868
END:VEVENT
END:VCALENDAR