BEGIN:VCALENDAR
VERSION:2.0
PRODID:-//SF Tango With.Us - ECPv6.6.2//NONSGML v1.0//EN
CALSCALE:GREGORIAN
METHOD:PUBLISH
X-ORIGINAL-URL:https://sftangowith.us
X-WR-CALDESC:Events for SF Tango With.Us
REFRESH-INTERVAL;VALUE=DURATION:PT1H
X-Robots-Tag:noindex
X-PUBLISHED-TTL:PT1H
BEGIN:VTIMEZONE
TZID:America/Los_Angeles
BEGIN:DAYLIGHT
TZOFFSETFROM:-0800
TZOFFSETTO:-0700
TZNAME:PDT
DTSTART:20230312T100000
END:DAYLIGHT
BEGIN:STANDARD
TZOFFSETFROM:-0700
TZOFFSETTO:-0800
TZNAME:PST
DTSTART:20231105T090000
END:STANDARD
END:VTIMEZONE
BEGIN:VEVENT
DTSTART;TZID=America/Los_Angeles:20230326T170000
DTEND;TZID=America/Los_Angeles:20230326T183000
DTSTAMP:20260424T001924
CREATED:20230308T030508Z
LAST-MODIFIED:20230317T205948Z
UID:10008876-1679850000-1679855400@sftangowith.us
SUMMARY:Pancho Martinez Pey & Raquel Makow Workshop @ Alberto's
DESCRIPTION:Workshop for Advanced Dancers by Pancho Martinez Pey & Raquel Makow \n“Milonga – The Rhythm & The Feet !” \ncontact: espiritulibretango@nullyahoo.com
URL:https://sftangowith.us/event/pancho-martinez-pey-raquel-makow-workshop-albertos/
LOCATION:Alberto’s Night Club\, 736 W. Dana St.\, Mountain View\, CA\, United States
CATEGORIES:workshop
ATTACH;FMTTYPE=image/jpeg:https://sftangowith.us/wp-content/uploads/2023/03/Pancho-Raquel.jpg
GEO:37.3923683;-122.0789214
X-APPLE-STRUCTURED-LOCATION;VALUE=URI;X-ADDRESS=Alberto’s Night Club 736 W. Dana St. Mountain View CA United States;X-APPLE-RADIUS=500;X-TITLE=736 W. Dana St.:geo:-122.0789214,37.3923683
END:VEVENT
BEGIN:VEVENT
DTSTART;TZID=America/Los_Angeles:20230326T190000
DTEND;TZID=America/Los_Angeles:20230327T000000
DTSTAMP:20260424T001924
CREATED:20230213T220944Z
LAST-MODIFIED:20230213T220944Z
UID:10008151-1679857200-1679875200@sftangowith.us
SUMMARY:Milonga @ Alberto's w/ DJ Olga Botova
DESCRIPTION:7pm – Midnight\n \nEntrance $15 \n736 W. Dana\, Mountain View\,  California 94041 \nFULLY VACCINATED DANCERS ONLY.\nMask optional if you’re up to date with vaccine and booster.\nPlease show vaccination card\, or phone image.\nNo entry without proof of vaccination. \nNo communal food or water – bring your own water (but no alcohol).\nLicensed bar will be open all evening.
URL:https://sftangowith.us/event/milonga-albertos-23-13/
LOCATION:Alberto’s Night Club\, 736 W. Dana St.\, Mountain View\, CA\, United States
CATEGORIES:milonga,Recommended for Visitors
ATTACH;FMTTYPE=image/jpeg:https://sftangowith.us/wp-content/uploads/2017/06/Olga-Bogatova-DJ.jpg
GEO:37.3923683;-122.0789214
X-APPLE-STRUCTURED-LOCATION;VALUE=URI;X-ADDRESS=Alberto’s Night Club 736 W. Dana St. Mountain View CA United States;X-APPLE-RADIUS=500;X-TITLE=736 W. Dana St.:geo:-122.0789214,37.3923683
END:VEVENT
END:VCALENDAR