BEGIN:VCALENDAR
VERSION:2.0
PRODID:-//SF Tango With.Us - ECPv6.6.2//NONSGML v1.0//EN
CALSCALE:GREGORIAN
METHOD:PUBLISH
X-ORIGINAL-URL:https://sftangowith.us
X-WR-CALDESC:Events for SF Tango With.Us
REFRESH-INTERVAL;VALUE=DURATION:PT1H
X-Robots-Tag:noindex
X-PUBLISHED-TTL:PT1H
BEGIN:VTIMEZONE
TZID:America/Los_Angeles
BEGIN:DAYLIGHT
TZOFFSETFROM:-0800
TZOFFSETTO:-0700
TZNAME:PDT
DTSTART:20230312T100000
END:DAYLIGHT
BEGIN:STANDARD
TZOFFSETFROM:-0700
TZOFFSETTO:-0800
TZNAME:PST
DTSTART:20231105T090000
END:STANDARD
END:VTIMEZONE
BEGIN:VEVENT
DTSTART;VALUE=DATE:20230406
DTEND;VALUE=DATE:20230411
DTSTAMP:20260424T011443
CREATED:20230228T014613Z
LAST-MODIFIED:20230317T211257Z
UID:10008750-1680764400-1681109999@sftangowith.us
SUMMARY:ATUSA Tango Championship & Festival
DESCRIPTION:ATUSA is the only OFFICIAL BRANCH of TANGO BUENOS AIRES FESTIVAL & DANCE WORLD CUP in the US\, sanctioned by the Ministry of Culture of the City of Buenos Aires. \nLINE UP of RENOWNED MAESTROS from BUENOS AIRES:\nGuillermina Quiroga & Mariano Logiudice\nJunior Cervila & Guadalupe Garcia\nMarcos Pereira and Florencia Borgnia\nMiriam Larici & Leonardo Barrionuevo \nThursday\, Apr. 6\n9:00 – 3:00a OPENING MILONGA w/ Demo by the MAESTROS \nFriday\, Apr. 7\n9:15 – 3:00   EVENING MILONGA \nSaturday\, Apr. 8\n9:15 – 3:00a GALA MILONGA w/ MAIN MASTER SHOW \nSunday\, Apr. 9\n9:15 – 3:00a   FAREWELL MILONGA w/ SHOW \nFull And Complete Festival Schedule
URL:https://sftangowith.us/event/atusa-tango-championship-festival-2023/
LOCATION:Double Tree Hotel\, 2050 Gateway Place\, San Jose\, CA
CATEGORIES:festival,milonga,workshop
ATTACH;FMTTYPE=image/png:https://sftangowith.us/wp-content/uploads/2023/02/ATUSA-2023.png
GEO:37.3717496;-121.9226256
X-APPLE-STRUCTURED-LOCATION;VALUE=URI;X-ADDRESS=Double Tree Hotel 2050 Gateway Place San Jose CA;X-APPLE-RADIUS=500;X-TITLE=2050 Gateway Place:geo:-121.9226256,37.3717496
END:VEVENT
BEGIN:VEVENT
DTSTART;TZID=America/Los_Angeles:20230406T200000
DTEND;TZID=America/Los_Angeles:20230407T000000
DTSTAMP:20260424T011443
CREATED:20230313T081047Z
LAST-MODIFIED:20230407T210413Z
UID:10007726-1680811200-1680825600@sftangowith.us
SUMMARY:Milonga Malevaje w/ DJ Loco Howoon
DESCRIPTION:Every Thursday from 8:00 to 12:00\nWhen Class. from 7:00 to 8:00 \nBar Open\, No Outside Drinks Allowed. \nVaccinated Persons with proof required (No Exceptions )\nMasks: Optional\, But Highly Recommended.
URL:https://sftangowith.us/event/milonga-malevaje-12/
LOCATION:Verdi Club\, 2424 Mariposa St\, San Francisco\, CA\, United States
CATEGORIES:milonga,Recommended for Visitors
ATTACH;FMTTYPE=image/jpeg:https://sftangowith.us/wp-content/uploads/2021/06/Loco-Howoon-DJ.jpg
GEO:37.7634058;-122.4079386
X-APPLE-STRUCTURED-LOCATION;VALUE=URI;X-ADDRESS=Verdi Club 2424 Mariposa St San Francisco CA United States;X-APPLE-RADIUS=500;X-TITLE=2424 Mariposa St:geo:-122.4079386,37.7634058
END:VEVENT
END:VCALENDAR