BEGIN:VCALENDAR
VERSION:2.0
PRODID:-//SF Tango With.Us - ECPv6.6.2//NONSGML v1.0//EN
CALSCALE:GREGORIAN
METHOD:PUBLISH
X-WR-CALNAME:SF Tango With.Us
X-ORIGINAL-URL:https://sftangowith.us
X-WR-CALDESC:Events for SF Tango With.Us
REFRESH-INTERVAL;VALUE=DURATION:PT1H
X-Robots-Tag:noindex
X-PUBLISHED-TTL:PT1H
BEGIN:VTIMEZONE
TZID:America/Los_Angeles
BEGIN:DAYLIGHT
TZOFFSETFROM:-0800
TZOFFSETTO:-0700
TZNAME:PDT
DTSTART:20230312T100000
END:DAYLIGHT
BEGIN:STANDARD
TZOFFSETFROM:-0700
TZOFFSETTO:-0800
TZNAME:PST
DTSTART:20231105T090000
END:STANDARD
END:VTIMEZONE
BEGIN:VEVENT
DTSTART;VALUE=DATE:20230406
DTEND;VALUE=DATE:20230411
DTSTAMP:20260423T234949
CREATED:20230228T014613Z
LAST-MODIFIED:20230317T211257Z
UID:10008750-1680764400-1681109999@sftangowith.us
SUMMARY:ATUSA Tango Championship & Festival
DESCRIPTION:ATUSA is the only OFFICIAL BRANCH of TANGO BUENOS AIRES FESTIVAL & DANCE WORLD CUP in the US\, sanctioned by the Ministry of Culture of the City of Buenos Aires. \nLINE UP of RENOWNED MAESTROS from BUENOS AIRES:\nGuillermina Quiroga & Mariano Logiudice\nJunior Cervila & Guadalupe Garcia\nMarcos Pereira and Florencia Borgnia\nMiriam Larici & Leonardo Barrionuevo \nThursday\, Apr. 6\n9:00 – 3:00a OPENING MILONGA w/ Demo by the MAESTROS \nFriday\, Apr. 7\n9:15 – 3:00   EVENING MILONGA \nSaturday\, Apr. 8\n9:15 – 3:00a GALA MILONGA w/ MAIN MASTER SHOW \nSunday\, Apr. 9\n9:15 – 3:00a   FAREWELL MILONGA w/ SHOW \nFull And Complete Festival Schedule
URL:https://sftangowith.us/event/atusa-tango-championship-festival-2023/
LOCATION:Double Tree Hotel\, 2050 Gateway Place\, San Jose\, CA
CATEGORIES:festival,milonga,workshop
ATTACH;FMTTYPE=image/png:https://sftangowith.us/wp-content/uploads/2023/02/ATUSA-2023.png
GEO:37.3717496;-121.9226256
X-APPLE-STRUCTURED-LOCATION;VALUE=URI;X-ADDRESS=Double Tree Hotel 2050 Gateway Place San Jose CA;X-APPLE-RADIUS=500;X-TITLE=2050 Gateway Place:geo:-121.9226256,37.3717496
END:VEVENT
BEGIN:VEVENT
DTSTART;TZID=America/Los_Angeles:20230409T190000
DTEND;TZID=America/Los_Angeles:20230409T203000
DTSTAMP:20260423T234949
CREATED:20230330T083624Z
LAST-MODIFIED:20230330T083624Z
UID:10008900-1681066800-1681072200@sftangowith.us
SUMMARY:Las Almas Tango-Journey from the Past to Tango's Present (Live Music)
DESCRIPTION:A View into Tango’s Diversity\nLas Almas’s program is a reflection of the duo’s diverse musical backgrounds. They will be joined by guest artist\, Basma Edrees\, to present a mixture of some classic tangos and contemporary tangos. Las Almas hope to show their audience the diverse richness that tango has to offer.\nSumi Lee – piano\nHeyni Solera – bandoneon\nBasma Edrees – violin \nSumi Lee and Heyni Solera both started their musical lives as classical musicians. Sumi Lee has been playing classical piano since the age of four\, and obtained her Masters from the San Francisco Conservatory of Music. Heyni Solera started out as a classically trained pianist but is now a bandoneonist and ethnomusicologist. What drew this dynamic duo together was their mutual passion for contemporary tango music.\nBoth Sumi and Heyni studied in some of the most prestigious Argentine tango orchestra schools\, such as La Orquesta Escuela de Emilio Balcarce and La Orquesta de Tango de la Una\,” and have studied and performed with leading contemporary tango composers such Ramiro Boero\, Victor LaVallen\, among others.\n 
URL:https://sftangowith.us/event/las-almas-tango-journey-from-the-past-to-tangos-present-live-music/
LOCATION:Red Poppy Art House\, 2698 Folsom St\, San Francisco\, CA\, 94110\, United States
CATEGORIES:music (live)
ATTACH;FMTTYPE=image/jpeg:https://sftangowith.us/wp-content/uploads/2023/03/2023-04-09-Las-Almas-Tango.jpg
GEO:37.7542165;-122.4145282
X-APPLE-STRUCTURED-LOCATION;VALUE=URI;X-ADDRESS=Red Poppy Art House 2698 Folsom St San Francisco CA 94110 United States;X-APPLE-RADIUS=500;X-TITLE=2698 Folsom St:geo:-122.4145282,37.7542165
END:VEVENT
BEGIN:VEVENT
DTSTART;TZID=America/Los_Angeles:20230409T190000
DTEND;TZID=America/Los_Angeles:20230410T000000
DTSTAMP:20260423T234949
CREATED:20230308T031201Z
LAST-MODIFIED:20230308T031201Z
UID:10008153-1681066800-1681084800@sftangowith.us
SUMMARY:Milonga @ Alberto's (Closed for ATUSA)
DESCRIPTION:
URL:https://sftangowith.us/event/milonga-albertos-23-16/
LOCATION:Alberto’s Night Club\, 736 W. Dana St.\, Mountain View\, CA\, United States
GEO:37.3923683;-122.0789214
X-APPLE-STRUCTURED-LOCATION;VALUE=URI;X-ADDRESS=Alberto’s Night Club 736 W. Dana St. Mountain View CA United States;X-APPLE-RADIUS=500;X-TITLE=736 W. Dana St.:geo:-122.0789214,37.3923683
END:VEVENT
END:VCALENDAR