BEGIN:VCALENDAR
VERSION:2.0
PRODID:-//SF Tango With.Us - ECPv6.6.2//NONSGML v1.0//EN
CALSCALE:GREGORIAN
METHOD:PUBLISH
X-WR-CALNAME:SF Tango With.Us
X-ORIGINAL-URL:https://sftangowith.us
X-WR-CALDESC:Events for SF Tango With.Us
REFRESH-INTERVAL;VALUE=DURATION:PT1H
X-Robots-Tag:noindex
X-PUBLISHED-TTL:PT1H
BEGIN:VTIMEZONE
TZID:America/Los_Angeles
BEGIN:DAYLIGHT
TZOFFSETFROM:-0800
TZOFFSETTO:-0700
TZNAME:PDT
DTSTART:20230312T100000
END:DAYLIGHT
BEGIN:STANDARD
TZOFFSETFROM:-0700
TZOFFSETTO:-0800
TZNAME:PST
DTSTART:20231105T090000
END:STANDARD
END:VTIMEZONE
BEGIN:VEVENT
DTSTART;TZID=America/Los_Angeles:20230418T190000
DTEND;TZID=America/Los_Angeles:20230418T230000
DTSTAMP:20260423T171046
CREATED:20230418T225214Z
LAST-MODIFIED:20230418T225355Z
UID:10008987-1681844400-1681858800@sftangowith.us
SUMMARY:Tango Tuesdays w/ Villareal Crom (Live Music)
DESCRIPTION:7:00 – 7:45 Beg/int class Christy\n7:45 – 8:00 practica\n8:00 – 9:00 int/adv class\n9:00 – 11:00 Tango Tuesdays Live Music Práctica with Villareal Crom from Argentina \n$25 per class & práctica\n$40 for both classes & práctica\nPre-payment is appreciated with Zelle or PayPal using christycote@nullgmail.com or Venmo using @christy-cote (if needed for verification use 415 519-1333 \nCovid precautions: All students must show proof of vaccination/booster\, masks highly recommended and bring your own water bottle (filtered water is available). \nTo join Christy’s mailing list send request to:\nchristy@nullchristycote.com
URL:https://sftangowith.us/event/tango-tuesdays-w-villareal-crom-live-music/
LOCATION:La Pista\, 3450 3rd St\, Building 5\, San Francisco\, CA\, 94124\, United States
CATEGORIES:class,music (live),practica
ATTACH;FMTTYPE=image/jpeg:https://sftangowith.us/wp-content/uploads/2023/02/JuanPatoFB.jpg
GEO:37.7457575;-122.3878168
X-APPLE-STRUCTURED-LOCATION;VALUE=URI;X-ADDRESS=La Pista 3450 3rd St Building 5 San Francisco CA 94124 United States;X-APPLE-RADIUS=500;X-TITLE=3450 3rd St\, Building 5:geo:-122.3878168,37.7457575
END:VEVENT
BEGIN:VEVENT
DTSTART;TZID=America/Los_Angeles:20230418T200000
DTEND;TZID=America/Los_Angeles:20230419T003000
DTSTAMP:20260423T171046
CREATED:20230416T231020Z
LAST-MODIFIED:20230509T013806Z
UID:10007916-1681848000-1681864200@sftangowith.us
SUMMARY:El Valenciano Milonga w/ Miranda Lindelow Workshop
DESCRIPTION:8-9pm – Tango Workshop w/ Miranda Lindelow\nTopic: Close embrace\, cadence and genuine figures for the social dance floor \n9pm-12:30am? – Milonga-Tango Social \n$40 Workshop & Milonga\n$25 Workshop Only\n$20 Milonga only\n$5 discount for full-time college student
URL:https://sftangowith.us/event/el-valenciano-milonga-23-17/
LOCATION:El Valenciano\, 1153 Valencia Street\, San Francisco\, CA\, United States
CATEGORIES:class,milonga,Recommended for Visitors
ATTACH;FMTTYPE=image/jpeg:https://sftangowith.us/wp-content/uploads/2017/07/El-Valenciano-e1543830832700.jpg
GEO:37.7545379;-122.4205807
X-APPLE-STRUCTURED-LOCATION;VALUE=URI;X-ADDRESS=El Valenciano 1153 Valencia Street San Francisco CA United States;X-APPLE-RADIUS=500;X-TITLE=1153 Valencia Street:geo:-122.4205807,37.7545379
END:VEVENT
END:VCALENDAR