BEGIN:VCALENDAR
VERSION:2.0
PRODID:-//SF Tango With.Us - ECPv6.6.2//NONSGML v1.0//EN
CALSCALE:GREGORIAN
METHOD:PUBLISH
X-WR-CALNAME:SF Tango With.Us
X-ORIGINAL-URL:https://sftangowith.us
X-WR-CALDESC:Events for SF Tango With.Us
REFRESH-INTERVAL;VALUE=DURATION:PT1H
X-Robots-Tag:noindex
X-PUBLISHED-TTL:PT1H
BEGIN:VTIMEZONE
TZID:America/Los_Angeles
BEGIN:DAYLIGHT
TZOFFSETFROM:-0800
TZOFFSETTO:-0700
TZNAME:PDT
DTSTART:20230312T100000
END:DAYLIGHT
BEGIN:STANDARD
TZOFFSETFROM:-0700
TZOFFSETTO:-0800
TZNAME:PST
DTSTART:20231105T090000
END:STANDARD
END:VTIMEZONE
BEGIN:VEVENT
DTSTART;TZID=America/Los_Angeles:20230430T160000
DTEND;TZID=America/Los_Angeles:20230430T190000
DTSTAMP:20260424T001350
CREATED:20230404T204454Z
LAST-MODIFIED:20230428T184423Z
UID:10008976-1682870400-1682881200@sftangowith.us
SUMMARY:Milonga Fiat Lux at UCB w/ DJ Una
DESCRIPTION:4:00 – 7:00 Milonga \nFree for UC Berkeley students and affiliates\n$15 for community members \nEshleman Hall 240\n2465 Bancroft Way\nBerkeley\, CA \nMilonga Fiat Lux\, organized by the Argentine Tango Club of Berkeley! Beginners welcome. \nMask required if unvaccinated\, highly recommended otherwise. \nFor questions and/or info on volunteering\, contact ucbtango@nullgmail.com \nhttps://argentinetangoclubofberkeley.weebly.com \nThe Argentine Tango Club of Berkeley seeks to create safe spaces for all who want to learn\, practice\, and dance Argentine tango. Events hosted by the ATCB support the safety and well-being of everyone in attendance regardless of ability\, age\, ethnicity\, gender identity\, race\, religion\, role preference\, or sexual preference.
URL:https://sftangowith.us/event/milonga-fiat-lux-at-ucb-w-dj-una/
LOCATION:Eshleman Hall\, 2457 Bancroft Way\, Berkeley\, CA\, 94720-4501\, United States
CATEGORIES:milonga,Recommended for Visitors
ATTACH;FMTTYPE=image/jpeg:https://sftangowith.us/wp-content/uploads/2018/06/Una-SDTF2016_7628-Web.jpg
GEO:37.8687659;-122.2604844
X-APPLE-STRUCTURED-LOCATION;VALUE=URI;X-ADDRESS=Eshleman Hall 2457 Bancroft Way Berkeley CA 94720-4501 United States;X-APPLE-RADIUS=500;X-TITLE=2457 Bancroft Way:geo:-122.2604844,37.8687659
END:VEVENT
BEGIN:VEVENT
DTSTART;TZID=America/Los_Angeles:20230430T190000
DTEND;TZID=America/Los_Angeles:20230501T000000
DTSTAMP:20260424T001350
CREATED:20230404T203352Z
LAST-MODIFIED:20230404T203352Z
UID:10008156-1682881200-1682899200@sftangowith.us
SUMMARY:Milonga @ Alberto's w/ DJ Ashvin
DESCRIPTION:7pm – Midnight\n \nEntrance $15 \n736 W. Dana\, Mountain View\,  California 94041 \nFULLY VACCINATED DANCERS ONLY.\nMask optional if you’re up to date with vaccine and booster.\nPlease show vaccination card\, or phone image.\nNo entry without proof of vaccination. \nNo communal food or water – bring your own water (but no alcohol).\nLicensed bar will be open all evening.
URL:https://sftangowith.us/event/milonga-albertos-23-19/
LOCATION:Alberto’s Night Club\, 736 W. Dana St.\, Mountain View\, CA\, United States
CATEGORIES:milonga,Recommended for Visitors
GEO:37.3923683;-122.0789214
X-APPLE-STRUCTURED-LOCATION;VALUE=URI;X-ADDRESS=Alberto’s Night Club 736 W. Dana St. Mountain View CA United States;X-APPLE-RADIUS=500;X-TITLE=736 W. Dana St.:geo:-122.0789214,37.3923683
END:VEVENT
END:VCALENDAR