BEGIN:VCALENDAR
VERSION:2.0
PRODID:-//SF Tango With.Us - ECPv6.6.2//NONSGML v1.0//EN
CALSCALE:GREGORIAN
METHOD:PUBLISH
X-WR-CALNAME:SF Tango With.Us
X-ORIGINAL-URL:https://sftangowith.us
X-WR-CALDESC:Events for SF Tango With.Us
REFRESH-INTERVAL;VALUE=DURATION:PT1H
X-Robots-Tag:noindex
X-PUBLISHED-TTL:PT1H
BEGIN:VTIMEZONE
TZID:America/Los_Angeles
BEGIN:DAYLIGHT
TZOFFSETFROM:-0800
TZOFFSETTO:-0700
TZNAME:PDT
DTSTART:20230312T100000
END:DAYLIGHT
BEGIN:STANDARD
TZOFFSETFROM:-0700
TZOFFSETTO:-0800
TZNAME:PST
DTSTART:20231105T090000
END:STANDARD
END:VTIMEZONE
BEGIN:VEVENT
DTSTART;TZID=America/Los_Angeles:20230511T180000
DTEND;TZID=America/Los_Angeles:20230512T000000
DTSTAMP:20260423T040725
CREATED:20230501T190057Z
LAST-MODIFIED:20230501T191439Z
UID:10007731-1683828000-1683849600@sftangowith.us
SUMMARY:Milonga Malevaje w/ Ariadna Naveira & Fernando Sanchez Workshop
DESCRIPTION:Workshop with Ariadna Naveira & Fernando Sanchez\n6 – 7:30pm – Technique for Tango Dancers – axis\, walk\, pivot (both roles). No partner required. \n8pm – 01: 00 am – Milonga (not included with classes) \nDJ: Ariadna / Fernando \nMilonga Only $20\nClass Only $ ? \nTickets for Workshops Purchased Separately \nProof of vaccination Required for newcomers\nMasks Highly Recommended\nBar is open! No outside drinks allowed\, please. Separately
URL:https://sftangowith.us/event/milonga-malevaje-18/
LOCATION:Verdi Club\, 2424 Mariposa St\, San Francisco\, CA\, United States
CATEGORIES:milonga,Recommended for Visitors,workshop
ATTACH;FMTTYPE=image/jpeg:https://sftangowith.us/wp-content/uploads/2022/11/Ariadna-Naveira-Fernando-Sanchez.jpg
GEO:37.7634058;-122.4079386
X-APPLE-STRUCTURED-LOCATION;VALUE=URI;X-ADDRESS=Verdi Club 2424 Mariposa St San Francisco CA United States;X-APPLE-RADIUS=500;X-TITLE=2424 Mariposa St:geo:-122.4079386,37.7634058
END:VEVENT
END:VCALENDAR