BEGIN:VCALENDAR
VERSION:2.0
PRODID:-//SF Tango With.Us - ECPv6.6.2//NONSGML v1.0//EN
CALSCALE:GREGORIAN
METHOD:PUBLISH
X-WR-CALNAME:SF Tango With.Us
X-ORIGINAL-URL:https://sftangowith.us
X-WR-CALDESC:Events for SF Tango With.Us
REFRESH-INTERVAL;VALUE=DURATION:PT1H
X-Robots-Tag:noindex
X-PUBLISHED-TTL:PT1H
BEGIN:VTIMEZONE
TZID:America/Los_Angeles
BEGIN:DAYLIGHT
TZOFFSETFROM:-0800
TZOFFSETTO:-0700
TZNAME:PDT
DTSTART:20230312T100000
END:DAYLIGHT
BEGIN:STANDARD
TZOFFSETFROM:-0700
TZOFFSETTO:-0800
TZNAME:PST
DTSTART:20231105T090000
END:STANDARD
END:VTIMEZONE
BEGIN:VEVENT
DTSTART;TZID=America/Los_Angeles:20230512T170000
DTEND;TZID=America/Los_Angeles:20230512T201500
DTSTAMP:20260423T040729
CREATED:20230501T190423Z
LAST-MODIFIED:20230501T191501Z
UID:10009020-1683910800-1683922500@sftangowith.us
SUMMARY:Ariadna Naveira & Fernando Sanchez Workshops @ La Pista
DESCRIPTION:5-6:30pm – Milonga – Steps to have fun to the rhythm of Milonga\n6:45-8:15pm – Vals – favorite sequences of Ariadna & Fernando \nTickets for Workshops
URL:https://sftangowith.us/event/ariadna-naveira-fernando-sanchez-workshops-la-pista/
LOCATION:La Pista\, 3450 3rd St\, Building 5\, San Francisco\, CA\, 94124\, United States
CATEGORIES:workshop
ATTACH;FMTTYPE=image/jpeg:https://sftangowith.us/wp-content/uploads/2022/11/Ariadna-Naveira-Fernando-Sanchez.jpg
GEO:37.7457575;-122.3878168
X-APPLE-STRUCTURED-LOCATION;VALUE=URI;X-ADDRESS=La Pista 3450 3rd St Building 5 San Francisco CA 94124 United States;X-APPLE-RADIUS=500;X-TITLE=3450 3rd St\, Building 5:geo:-122.3878168,37.7457575
END:VEVENT
BEGIN:VEVENT
DTSTART;TZID=America/Los_Angeles:20230512T190000
DTEND;TZID=America/Los_Angeles:20230513T003000
DTSTAMP:20260423T040729
CREATED:20230509T011850Z
LAST-MODIFIED:20230509T011850Z
UID:10009030-1683918000-1683937800@sftangowith.us
SUMMARY:Nicolas & German Filipeli Workshop @ Dance Boulevard
DESCRIPTION:7:00 – 8:00   Symmetry in Tango 1 : Sacadas and Alterations\n8:00 – 9:00   Symmetry in Tango 2 : Different types of Boleos and their dynamics\n9:00 – 12:30a   Milonga w/ DJ Don An \n$25 One Workshop + Milonga\n$40 Two Workshops + Milonga\n$15 Milonga Only \nTango Twins Nicolas & German teach symmetry in tango as only twin maestro teachers can! Two workshops not to be missed! \n✅ It is important to mention that the use of symmetry in tango not only implies the execution of symmetrical figures\, but also the symmetrical connection and communication between the dancers. Techniques can be taught to achieve a better connection and symmetrical communication between dancers\, such as active listening and non-verbal communication. \n✅ At the end of the class\, the students will be able to put into practice what they have learned in the milonga\, using symmetrical figures and alterations in their dance. They could also practice connecting and symmetrical communication with their dance partner.
URL:https://sftangowith.us/event/nicolas-german-filipeli-workshop-dance-boulevard/
LOCATION:Dance Boulevard\, 1824 Hillsdale Ave.\, San Jose\, CA\, United States
CATEGORIES:milonga,workshop
ATTACH;FMTTYPE=image/jpeg:https://sftangowith.us/wp-content/uploads/2021/06/Los-Twins.jpg
GEO:37.2620436;-121.9179649
X-APPLE-STRUCTURED-LOCATION;VALUE=URI;X-ADDRESS=Dance Boulevard 1824 Hillsdale Ave. San Jose CA United States;X-APPLE-RADIUS=500;X-TITLE=1824 Hillsdale Ave.:geo:-121.9179649,37.2620436
END:VEVENT
BEGIN:VEVENT
DTSTART;TZID=America/Los_Angeles:20230512T203000
DTEND;TZID=America/Los_Angeles:20230513T003000
DTSTAMP:20260423T040729
CREATED:20230425T174608Z
LAST-MODIFIED:20230502T012845Z
UID:10008024-1683923400-1683937800@sftangowith.us
SUMMARY:La Milonga Genesis w/ DJ Felipe
DESCRIPTION:La Milonga: 8:30pm-12:30am \n– Discounts offered for those in financial hardship\nemail: tangosaborsf@nullgmail.com \nPLEASE DO NOT ATTEND IF YOU ARE NOT FEELING WELL
URL:https://sftangowith.us/event/la-milonga-genesis-23-19/
LOCATION:Genesis Dance\, 404 Clement St.\, San Francisco\, CA
CATEGORIES:milonga,Recommended for Visitors
ATTACH;FMTTYPE=image/jpeg:https://sftangowith.us/wp-content/uploads/2021/11/felipesingaporeCropped2.jpg
GEO:37.7832315;-122.4636431
X-APPLE-STRUCTURED-LOCATION;VALUE=URI;X-ADDRESS=Genesis Dance 404 Clement St. San Francisco CA;X-APPLE-RADIUS=500;X-TITLE=404 Clement St.:geo:-122.4636431,37.7832315
END:VEVENT
END:VCALENDAR