BEGIN:VCALENDAR
VERSION:2.0
PRODID:-//SF Tango With.Us - ECPv6.6.2//NONSGML v1.0//EN
CALSCALE:GREGORIAN
METHOD:PUBLISH
X-WR-CALNAME:SF Tango With.Us
X-ORIGINAL-URL:https://sftangowith.us
X-WR-CALDESC:Events for SF Tango With.Us
REFRESH-INTERVAL;VALUE=DURATION:PT1H
X-Robots-Tag:noindex
X-PUBLISHED-TTL:PT1H
BEGIN:VTIMEZONE
TZID:America/Los_Angeles
BEGIN:DAYLIGHT
TZOFFSETFROM:-0800
TZOFFSETTO:-0700
TZNAME:PDT
DTSTART:20230312T100000
END:DAYLIGHT
BEGIN:STANDARD
TZOFFSETFROM:-0700
TZOFFSETTO:-0800
TZNAME:PST
DTSTART:20231105T090000
END:STANDARD
END:VTIMEZONE
BEGIN:VEVENT
DTSTART;TZID=America/Los_Angeles:20230531T190000
DTEND;TZID=America/Los_Angeles:20230531T220000
DTSTAMP:20260423T060331
CREATED:20221208T041116Z
LAST-MODIFIED:20240725T045147Z
UID:10008231-1685559600-1685570400@sftangowith.us
SUMMARY:Sunnyvale Practica @ The Moose Lodge
DESCRIPTION:We are all inclusive tango community of dedicated tango lovers .We come every Wednesday to work hard on improving our tango skills. Join us on this journey and enjoy welcoming environment and great music played by our DJ in residence Rene Quebec or a guest DJ. \n¡¡DO NOT: Double park\, block other cars\, block the fire lane\, park in disabled parking\, or in the front of the building!! \nAlternate parking locations: 1) Behind the building to the north at Fortinet or 2) one lot to the west at 901 Kifer.
URL:https://sftangowith.us/event/sunnyvale-practica-the-moose-lodge/2023-05-31/
LOCATION:Moose Lodge\, 922 Weddell Court\, Sunnyvale\, CA\, 94089\, United States
CATEGORIES:practica,Recommended for Visitors
GEO:37.3747868;-122.0099086
X-APPLE-STRUCTURED-LOCATION;VALUE=URI;X-ADDRESS=Moose Lodge 922 Weddell Court Sunnyvale CA 94089 United States;X-APPLE-RADIUS=500;X-TITLE=922 Weddell Court:geo:-122.0099086,37.3747868
END:VEVENT
BEGIN:VEVENT
DTSTART;TZID=America/Los_Angeles:20230531T190000
DTEND;TZID=America/Los_Angeles:20230531T220000
DTSTAMP:20260423T060331
CREATED:20230306T184506Z
LAST-MODIFIED:20230502T222407Z
UID:10008822-1685559600-1685570400@sftangowith.us
SUMMARY:Tango with Diego and Alejandra at La Bruja
DESCRIPTION:For five Wednesdays in May\, join us for classes with Diego Lanau and Alejandra Saravia!  Drop-in classes\, all levels welcome.  The practica is included with the class.\nMasks are optional.\n\n6:45-7:00 check-in\n7:00-8:00 tango class\n8:00-10:00 practica\n\n$20 general admission (cash only)\n$15 students with ID (cash only)\n$10 practica drop-in (cash only)\n\nThis is a queer-friendly event where all genders are welcome to lead and follow. No partner necessary. Dance whatever role you like!\nThis event takes place in the ballroom of the Berkeley City Club. To enter the building\, ring the bell and say “tango.” We are a 10-minute walk from Downtown Berkeley BART. No non-member parking in the Berkeley City Club lot.  Extra parking is available for $2 per hour at Ellsworth Structure\, located at Ellsworth St. and Channing Way.\nwww.labrujatangoberkeley.com\ninfo@nulllabrujatangoberkeley.com
URL:https://sftangowith.us/event/tango-with-diego-and-alejandra-at-la-bruja/2023-05-31/
LOCATION:Berkeley City Club\, 2315 Durant Ave\, Berkeley\, 94704\, United States
CATEGORIES:class,practica
ATTACH;FMTTYPE=image/jpeg:https://sftangowith.us/wp-content/uploads/2023/03/DiegoAleFB.jpg
ORGANIZER;CN="Berkeley City Club":MAILTO:info@labrujatangoberkeley.com
GEO:37.8676008;-122.2627745
X-APPLE-STRUCTURED-LOCATION;VALUE=URI;X-ADDRESS=Berkeley City Club 2315 Durant Ave Berkeley 94704 United States;X-APPLE-RADIUS=500;X-TITLE=2315 Durant Ave:geo:-122.2627745,37.8676008
END:VEVENT
BEGIN:VEVENT
DTSTART;TZID=America/Los_Angeles:20230531T190000
DTEND;TZID=America/Los_Angeles:20230531T230000
DTSTAMP:20260423T060331
CREATED:20230526T002918Z
LAST-MODIFIED:20230526T002918Z
UID:10009083-1685559600-1685574000@sftangowith.us
SUMMARY:Stanford Milonga w/ DJ Jerry
DESCRIPTION:Stanford’s quarterly milonga with DJ Jerry.\nLight refreshment and a welcoming environment. \nAll are encouraged to dance in the role(s) that they want. We are working to make a STC a queer-friendly and safe environment for enjoying tango. \nWe also expect attendees to use tango etiquette and proper navigation on the floor. \nWe do not tolerate harassment or discrimination of any form. If you are able\, please report any harassment to leadership (Abhinav\, Styopa\, Juna\,Crystal or Rima) asap so we can take the appropriate action\, such as removal from the event. You can also contact us at stanfordtangoclub@nullgmail.com if you have been made to feel uncomfortable. \n$10 general\nFree for students
URL:https://sftangowith.us/event/stanford-milonga-w-dj-jerry/
LOCATION:Koret Pavilion\, 564 O'Connor Ln\, Stanford\, CA\, 94305\, United States
CATEGORIES:milonga
ATTACH;FMTTYPE=image/jpeg:https://sftangowith.us/wp-content/uploads/2023/05/Stanford-Milonga-05-2023.jpg
GEO:37.4221895;-122.1679327
X-APPLE-STRUCTURED-LOCATION;VALUE=URI;X-ADDRESS=Koret Pavilion 564 O'Connor Ln Stanford CA 94305 United States;X-APPLE-RADIUS=500;X-TITLE=564 O'Connor Ln:geo:-122.1679327,37.4221895
END:VEVENT
END:VCALENDAR