BEGIN:VCALENDAR
VERSION:2.0
PRODID:-//SF Tango With.Us - ECPv6.6.2//NONSGML v1.0//EN
CALSCALE:GREGORIAN
METHOD:PUBLISH
X-ORIGINAL-URL:https://sftangowith.us
X-WR-CALDESC:Events for SF Tango With.Us
REFRESH-INTERVAL;VALUE=DURATION:PT1H
X-Robots-Tag:noindex
X-PUBLISHED-TTL:PT1H
BEGIN:VTIMEZONE
TZID:America/Los_Angeles
BEGIN:DAYLIGHT
TZOFFSETFROM:-0800
TZOFFSETTO:-0700
TZNAME:PDT
DTSTART:20230312T100000
END:DAYLIGHT
BEGIN:STANDARD
TZOFFSETFROM:-0700
TZOFFSETTO:-0800
TZNAME:PST
DTSTART:20231105T090000
END:STANDARD
END:VTIMEZONE
BEGIN:VEVENT
DTSTART;TZID=America/Los_Angeles:20230617T110000
DTEND;TZID=America/Los_Angeles:20230617T160000
DTSTAMP:20260423T083200
CREATED:20220902T090853Z
LAST-MODIFIED:20221222T003927Z
UID:10008081-1686999600-1687017600@sftangowith.us
SUMMARY:Class & Practica w/ Glenn @ Bissap Baobab
DESCRIPTION:11:00 – 12:00 Basics Class\n12:00 – 01:00 Exploration / Improv Class\n01:00 – 04:00 PRACTICA \n$15/each class\n$20 – one class + practica\n$30 – two classes + practica\n$15 – Practica only \nBASICS CLASS is for all levels who wish to have a solid foundation by studying the language of tango. We focus on movement quality and clear communication. Master the basics! \nEXPLORATION / IMPROV is on learning how to dance with minimal effort\, get insight on improvisation\, plus grooving to the music. \nLet’s have fun! 🙂 \nsfotango@nullyahoo.com
URL:https://sftangowith.us/event/bissap-baobab/2023-06-17/
LOCATION:Bissap Baobab\, 2243 Mission Street\, San Francisco\, CA
CATEGORIES:class,practica,Recommended for Visitors
ATTACH;FMTTYPE=image/jpeg:https://sftangowith.us/wp-content/uploads/2022/09/Bissap-Baobab.jpg
GEO:37.7604434;-122.4187949
X-APPLE-STRUCTURED-LOCATION;VALUE=URI;X-ADDRESS=Bissap Baobab 2243 Mission Street San Francisco CA;X-APPLE-RADIUS=500;X-TITLE=2243 Mission Street:geo:-122.4187949,37.7604434
END:VEVENT
BEGIN:VEVENT
DTSTART;TZID=America/Los_Angeles:20230617T193000
DTEND;TZID=America/Los_Angeles:20230617T204500
DTSTAMP:20260423T083200
CREATED:20230612T061849Z
LAST-MODIFIED:20230612T061856Z
UID:10009101-1687030200-1687034700@sftangowith.us
SUMMARY:Recital by Latin Grammy Winner Pablo Estigarribia (Live Music)
DESCRIPTION:Symphony Parnassus Presents a Special Solo Recital\nSoloist: Pablo Estigarribia\n\nProgram: Tangos for Solo Piano \n\n7:30 – 8:45 Concert (without intermission) \nNot to be missed\, 2022 Latin-Grammy-Award-winner (Best Tango Album) pianist/composer/arranger Pablo Estigarribia presents a solo recital of tangos for piano\, featuring his acclaimed transcriptions of Horacio Salgan compositions. The program will include traditional and original tango selections. At the beautiful SFCM concert hall. \nOpen seating \n$25 General\n$20 Seniors\n$15 Students (with ID) \n 
URL:https://sftangowith.us/event/recital-by-latin-grammy-winner-pablo-estigarribia-live-music/
LOCATION:SF Conservatory of Music – Caroline Hume Concert Hall\, 50 Oak Street\, San Francisco\, CA\, United States
CATEGORIES:music (live)
ATTACH;FMTTYPE=image/jpeg:https://sftangowith.us/wp-content/uploads/2023/06/Pablo-Estigarribia.jpg
END:VEVENT
BEGIN:VEVENT
DTSTART;TZID=America/Los_Angeles:20230617T193000
DTEND;TZID=America/Los_Angeles:20230618T013000
DTSTAMP:20260423T083200
CREATED:20230609T011854Z
LAST-MODIFIED:20230609T222818Z
UID:10009064-1687030200-1687051800@sftangowith.us
SUMMARY:Vecher Tango w/ Daniel Juarez y Alejandra Armenti Workshop (DJ Ayano)
DESCRIPTION:7:30 – 9:00   Workshop by Daniel Juarez y Alejandra Armenti “Integrating Simple Elements into Complex Sequences”\n9:00 – 1:30a   Milonga w/ DJ Ayano\n11:30 Performance by Daniel Juarez y Alejandra Armenti \n$20 Milonga only\n$30 Workshop only\nMilonga and Workshop priced separately\n$10 after the Performance\nMasks highly recommended
URL:https://sftangowith.us/event/vecher-tango-5-5/
LOCATION:Russian Center of San Francisco\, 2460 Sutter St\, San Francisco\, CA\, United States
CATEGORIES:milonga,workshop
ATTACH;FMTTYPE=image/jpeg:https://sftangowith.us/wp-content/uploads/2017/06/Daniel-Juarez-Alejandra-Armenti.jpg
GEO:37.7853848;-122.440907
X-APPLE-STRUCTURED-LOCATION;VALUE=URI;X-ADDRESS=Russian Center of San Francisco 2460 Sutter St San Francisco CA United States;X-APPLE-RADIUS=500;X-TITLE=2460 Sutter St:geo:-122.440907,37.7853848
END:VEVENT
BEGIN:VEVENT
DTSTART;TZID=America/Los_Angeles:20230617T200000
DTEND;TZID=America/Los_Angeles:20230618T000000
DTSTAMP:20260423T083200
CREATED:20230604T003706Z
LAST-MODIFIED:20230604T003707Z
UID:10008902-1687032000-1687046400@sftangowith.us
SUMMARY:Milonga Uno w/ DJ Loco
DESCRIPTION:Milonga: 8pm – 12am \nHosted by Ramada and Elaine. We are sharing this venue with Nora’s milonga and we will alternate every other month. \n$20: MILONGA ONLY \n~Fully Vaccinated Event. Vaccination information is required upon entry and masks are recommended but optional.\n~We are dedicated to providing a welcoming\, inclusive\, safe\, and comfortable environment for everyone\, regardless of gender\, age\, sexual orientation\, race\, ethnicity\, religion\, or any other characteristic or trait.\n~We reserve the right to refuse entry to anyone who causes discomfort\, unsafe feelings\, and physical hazards to our attendees\n~This is a switch-role-friendly and a queer-friendly event\n~Respect for the line of dance and floor craft is enforced.\n~Bring your own beverage (BYOB) and drinking vessels Water will be provided.\n~Tables are first come first served\, no reservations.\n~Parking lot on site.
URL:https://sftangowith.us/event/milonga-uno-4/
LOCATION:Congregation Etz Chayim\, 4161 Alma St.\, Palo Alto\, CA\, United States
CATEGORIES:milonga,Recommended for Visitors
ATTACH;FMTTYPE=image/jpeg:https://sftangowith.us/wp-content/uploads/2021/06/Loco-Howoon-DJ.jpg
GEO:37.4112553;-122.1119247
X-APPLE-STRUCTURED-LOCATION;VALUE=URI;X-ADDRESS=Congregation Etz Chayim 4161 Alma St. Palo Alto CA United States;X-APPLE-RADIUS=500;X-TITLE=4161 Alma St.:geo:-122.1119247,37.4112553
END:VEVENT
END:VCALENDAR