BEGIN:VCALENDAR
VERSION:2.0
PRODID:-//SF Tango With.Us - ECPv6.6.2//NONSGML v1.0//EN
CALSCALE:GREGORIAN
METHOD:PUBLISH
X-WR-CALNAME:SF Tango With.Us
X-ORIGINAL-URL:https://sftangowith.us
X-WR-CALDESC:Events for SF Tango With.Us
REFRESH-INTERVAL;VALUE=DURATION:PT1H
X-Robots-Tag:noindex
X-PUBLISHED-TTL:PT1H
BEGIN:VTIMEZONE
TZID:America/Los_Angeles
BEGIN:DAYLIGHT
TZOFFSETFROM:-0800
TZOFFSETTO:-0700
TZNAME:PDT
DTSTART:20230312T100000
END:DAYLIGHT
BEGIN:STANDARD
TZOFFSETFROM:-0700
TZOFFSETTO:-0800
TZNAME:PST
DTSTART:20231105T090000
END:STANDARD
END:VTIMEZONE
BEGIN:VEVENT
DTSTART;VALUE=DATE:20230630
DTEND;VALUE=DATE:20230704
DTSTAMP:20260423T150343
CREATED:20230211T013840Z
LAST-MODIFIED:20240530T192008Z
UID:10008686-1688108400-1688367599@sftangowith.us
SUMMARY:Tangamente Festival: A Tango Immersion
DESCRIPTION:We are thrilled to bring you a new kind of tango experience and gathering in San Francisco from June 30th to July 2nd. A weekend of embracing and immersing yourself in Tango\, be it an intensive learning weekend\, a dance-your-heart-out marathon\, or both\, you get to choose how you want to experience this Tango Immersion with your friends while making some new ones.
URL:https://sftangowith.us/event/tangamente-festival-a-tango-immersion/
LOCATION:Russian Center of San Francisco\, 2460 Sutter St\, San Francisco\, CA\, United States
CATEGORIES:festival,milonga,Recommended for Visitors,workshop
ATTACH;FMTTYPE=image/jpeg:https://sftangowith.us/wp-content/uploads/2023/02/Tangamente-Poster.jpg
GEO:37.7853848;-122.440907
X-APPLE-STRUCTURED-LOCATION;VALUE=URI;X-ADDRESS=Russian Center of San Francisco 2460 Sutter St San Francisco CA United States;X-APPLE-RADIUS=500;X-TITLE=2460 Sutter St:geo:-122.440907,37.7853848
END:VEVENT
BEGIN:VEVENT
DTSTART;TZID=America/Los_Angeles:20230702T190000
DTEND;TZID=America/Los_Angeles:20230702T230000
DTSTAMP:20260423T150343
CREATED:20221222T005811Z
LAST-MODIFIED:20221222T010515Z
UID:10008406-1688324400-1688338800@sftangowith.us
SUMMARY:Milonga Rubia al Sur
DESCRIPTION:This is a twice a month Milonga (every 1st & 3rd Sundays) at Just Dance Ballroom. There are different DJs for each event. \nBig spacious dance floor\, lots of parking in the front and back of building with a security guard on duty. \nPLEASE BRING PROOF OF VACCINATION .\nNever hurts to BYOB . No food provided at this time. \nHosted by Lisette Perelle\nContact: Lisette at Lisette4tango@nullgmail.com. or (510) 282-8118
URL:https://sftangowith.us/event/milonga-rubia-al-sur-23/2023-07-02/
LOCATION:Just Dance Ballroom\, 2500 Embarcadero\, Oakland\, CA\, United States
CATEGORIES:milonga
ATTACH;FMTTYPE=image/jpeg:https://sftangowith.us/wp-content/uploads/2021/07/Milonga-Rubia-al-Sur.jpg
GEO:37.7757272;-122.2395977
X-APPLE-STRUCTURED-LOCATION;VALUE=URI;X-ADDRESS=Just Dance Ballroom 2500 Embarcadero Oakland CA United States;X-APPLE-RADIUS=500;X-TITLE=2500 Embarcadero:geo:-122.2395977,37.7757272
END:VEVENT
BEGIN:VEVENT
DTSTART;TZID=America/Los_Angeles:20230702T190000
DTEND;TZID=America/Los_Angeles:20230703T000000
DTSTAMP:20260423T150343
CREATED:20230628T074835Z
LAST-MODIFIED:20230628T074836Z
UID:10008165-1688324400-1688342400@sftangowith.us
SUMMARY:Milonga @ Alberto's w/ Israel Lipinsky
DESCRIPTION:7pm – Midnight\n \nEntrance $15 \n736 W. Dana\, Mountain View\,  California 94041 \nFULLY VACCINATED DANCERS ONLY.\nMask optional if you’re up to date with vaccine and booster.\nPlease show vaccination card\, or phone image.\nNo entry without proof of vaccination. \nNo communal food or water – bring your own water (but no alcohol).\nLicensed bar will be open all evening.
URL:https://sftangowith.us/event/milonga-albertos-23-29/
LOCATION:Alberto’s Night Club\, 736 W. Dana St.\, Mountain View\, CA\, United States
CATEGORIES:milonga,Recommended for Visitors
ATTACH;FMTTYPE=image/jpeg:https://sftangowith.us/wp-content/uploads/2017/06/Albertos.jpg
GEO:37.3923683;-122.0789214
X-APPLE-STRUCTURED-LOCATION;VALUE=URI;X-ADDRESS=Alberto’s Night Club 736 W. Dana St. Mountain View CA United States;X-APPLE-RADIUS=500;X-TITLE=736 W. Dana St.:geo:-122.0789214,37.3923683
END:VEVENT
END:VCALENDAR