BEGIN:VCALENDAR
VERSION:2.0
PRODID:-//SF Tango With.Us - ECPv6.6.2//NONSGML v1.0//EN
CALSCALE:GREGORIAN
METHOD:PUBLISH
X-ORIGINAL-URL:https://sftangowith.us
X-WR-CALDESC:Events for SF Tango With.Us
REFRESH-INTERVAL;VALUE=DURATION:PT1H
X-Robots-Tag:noindex
X-PUBLISHED-TTL:PT1H
BEGIN:VTIMEZONE
TZID:America/Los_Angeles
BEGIN:DAYLIGHT
TZOFFSETFROM:-0800
TZOFFSETTO:-0700
TZNAME:PDT
DTSTART:20230312T100000
END:DAYLIGHT
BEGIN:STANDARD
TZOFFSETFROM:-0700
TZOFFSETTO:-0800
TZNAME:PST
DTSTART:20231105T090000
END:STANDARD
END:VTIMEZONE
BEGIN:VEVENT
DTSTART;TZID=America/Los_Angeles:20230713T190000
DTEND;TZID=America/Los_Angeles:20230713T234500
DTSTAMP:20260423T173137
CREATED:20230708T001208Z
LAST-MODIFIED:20230708T001208Z
UID:10009157-1689274800-1689291900@sftangowith.us
SUMMARY:Milonga Chez Nous w/ Tango Brumoso Quartet (Live Music\, DJ Glenn)
DESCRIPTION:Come join us for an evening of live music with Tango Brumoso! Enjoy savory treats and drinks at the Cafe in between tandas.\nDJ Glenn is spinning the tunes \n7:00 – 8:00 Tango Class with Glenn\n8:00 – 11:45 Milonga with Live Music + DJ Glenn \n$10 – Class only\n$20 – Milonga only\n$25 – Class & milonga \nfor more info email: sfotango@nullyahoo.com
URL:https://sftangowith.us/event/milonga-chez-nous-w-tango-brumoso-quartet-live-music-dj-glenn/
LOCATION:Chez Nous Cafe\, 2159 Roosevelt Ave\, Redwood City\, CA\, United States
CATEGORIES:milonga,music (live)
ATTACH;FMTTYPE=image/jpeg:https://sftangowith.us/wp-content/uploads/2023/07/Tango-Brumoso-Quartet.jpg
END:VEVENT
BEGIN:VEVENT
DTSTART;TZID=America/Los_Angeles:20230713T200000
DTEND;TZID=America/Los_Angeles:20230714T000000
DTSTAMP:20260423T173137
CREATED:20230612T063606Z
LAST-MODIFIED:20241204T031823Z
UID:10007740-1689278400-1689292800@sftangowith.us
SUMMARY:Milonga Malevaje w/ Lily Chenlo & Katia Diamond Workshop (DJ Una)
DESCRIPTION:Class 7:30 to 8:30 with Liliana Chenlo & Katia Diamond\nMilonga 8:30 to 12:30 with DJ Una Yi Lee \nMilonga only $20\nClass only $ 25\nBoth. $ 40 \nMasks Optional\nBar is open! No outside drinks allowed\, please.
URL:https://sftangowith.us/event/milonga-malevaje-23-07-13/
LOCATION:Verdi Club\, 2424 Mariposa St\, San Francisco\, CA\, United States
CATEGORIES:milonga,Recommended for Visitors,workshop
ATTACH;FMTTYPE=image/jpeg:https://sftangowith.us/wp-content/uploads/2023/06/Lily-Chenlo-Katia-Diamond.jpg
GEO:37.7634058;-122.4079386
X-APPLE-STRUCTURED-LOCATION;VALUE=URI;X-ADDRESS=Verdi Club 2424 Mariposa St San Francisco CA United States;X-APPLE-RADIUS=500;X-TITLE=2424 Mariposa St:geo:-122.4079386,37.7634058
END:VEVENT
END:VCALENDAR