BEGIN:VCALENDAR
VERSION:2.0
PRODID:-//SF Tango With.Us - ECPv6.6.2//NONSGML v1.0//EN
CALSCALE:GREGORIAN
METHOD:PUBLISH
X-WR-CALNAME:SF Tango With.Us
X-ORIGINAL-URL:https://sftangowith.us
X-WR-CALDESC:Events for SF Tango With.Us
REFRESH-INTERVAL;VALUE=DURATION:PT1H
X-Robots-Tag:noindex
X-PUBLISHED-TTL:PT1H
BEGIN:VTIMEZONE
TZID:America/Los_Angeles
BEGIN:DAYLIGHT
TZOFFSETFROM:-0800
TZOFFSETTO:-0700
TZNAME:PDT
DTSTART:20230312T100000
END:DAYLIGHT
BEGIN:STANDARD
TZOFFSETFROM:-0700
TZOFFSETTO:-0800
TZNAME:PST
DTSTART:20231105T090000
END:STANDARD
END:VTIMEZONE
BEGIN:VEVENT
DTSTART;TZID=America/Los_Angeles:20230714T203000
DTEND;TZID=America/Los_Angeles:20230715T003000
DTSTAMP:20260423T224506
CREATED:20230703T085909Z
LAST-MODIFIED:20230710T014005Z
UID:10008033-1689366600-1689381000@sftangowith.us
SUMMARY:Milonga Genesis w/ Liliana Chenlo & Katia Diamond Workshop (DJ Loco)
DESCRIPTION:8:30pm-9:30pm – Liliana Chenlo & Katia Diamond Workshop\nTopic Combination of Barridas and Sacadas\n9:30pm-12:30am – Milonga w/ DJ Loco Howoon \nWorkshop only $30\nMilonga only $20\nWorkshop & Milonga $45 \n$5 Discount for full-time college students
URL:https://sftangowith.us/event/la-milonga-genesis-23-28/
LOCATION:Genesis Dance\, 404 Clement St.\, San Francisco\, CA
CATEGORIES:milonga,Recommended for Visitors,workshop
ATTACH;FMTTYPE=image/jpeg:https://sftangowith.us/wp-content/uploads/2023/06/Lily-Chenlo-Katia-Diamond.jpg
GEO:37.7832315;-122.4636431
X-APPLE-STRUCTURED-LOCATION;VALUE=URI;X-ADDRESS=Genesis Dance 404 Clement St. San Francisco CA;X-APPLE-RADIUS=500;X-TITLE=404 Clement St.:geo:-122.4636431,37.7832315
END:VEVENT
END:VCALENDAR