BEGIN:VCALENDAR
VERSION:2.0
PRODID:-//SF Tango With.Us - ECPv6.6.2//NONSGML v1.0//EN
CALSCALE:GREGORIAN
METHOD:PUBLISH
X-WR-CALNAME:SF Tango With.Us
X-ORIGINAL-URL:https://sftangowith.us
X-WR-CALDESC:Events for SF Tango With.Us
REFRESH-INTERVAL;VALUE=DURATION:PT1H
X-Robots-Tag:noindex
X-PUBLISHED-TTL:PT1H
BEGIN:VTIMEZONE
TZID:America/Los_Angeles
BEGIN:DAYLIGHT
TZOFFSETFROM:-0800
TZOFFSETTO:-0700
TZNAME:PDT
DTSTART:20230312T100000
END:DAYLIGHT
BEGIN:STANDARD
TZOFFSETFROM:-0700
TZOFFSETTO:-0800
TZNAME:PST
DTSTART:20231105T090000
END:STANDARD
END:VTIMEZONE
BEGIN:VEVENT
DTSTART;VALUE=DATE:20230720
DTEND;VALUE=DATE:20230725
DTSTAMP:20260423T121833
CREATED:20230707T010442Z
LAST-MODIFIED:20230707T010631Z
UID:10009145-1689836400-1690181999@sftangowith.us
SUMMARY:Gabriel Missé & Maru Rifourcat Workshops
DESCRIPTION:Workshops Schedules & Themes:\n1) Thursday\, July 20: 7-9 pm – Fundamental Tango Technique.\n2) Friday\, July 21: 7-9 pm  – Traditional Tango Steps\n3) Saturday\, July 22: 6-8 pm – Enrosque\, Aguja & Giros\n4) Sunday\, July 23: 6-8 pm – Tango I Combine Sequences\n5) Thursday\, July 27: 7-9 pm – Traditional Steps Tango & Vals\n6) Friday\, July 28: 7-9 pm – Tango II Combine Sequences\n7) Saturday\, July 29: 6-8 pm – Advance Tango Structure\nSunday\, July 30: 6-8 pm – Traditional Tango & Milonga steps \nCost:\n$75 a workshop\n$280 4 workshops\n$550 8 workshops \nWorkshops are limited to 30 participants\nFor info contact Natasha\nnatasha_ng @ sbcglobal.net\nPrivate lessons with maestros contact Natasha
URL:https://sftangowith.us/event/gabriel-misse-maru-rifourcat-workshops-2/
LOCATION:Shall We Dance Tango\, 2209 S El Camino Real\, San Mateo\, CA\, 94403\, United States
CATEGORIES:workshop
ATTACH;FMTTYPE=image/jpeg:https://sftangowith.us/wp-content/uploads/2023/07/Gabriel-Misse-Maru-Rifourcat-Wksps.jpg
END:VEVENT
BEGIN:VEVENT
DTSTART;TZID=America/Los_Angeles:20230722T110000
DTEND;TZID=America/Los_Angeles:20230722T160000
DTSTAMP:20260423T121833
CREATED:20220902T090853Z
LAST-MODIFIED:20221222T003927Z
UID:10008086-1690023600-1690041600@sftangowith.us
SUMMARY:Class & Practica w/ Glenn @ Bissap Baobab
DESCRIPTION:11:00 – 12:00 Basics Class\n12:00 – 01:00 Exploration / Improv Class\n01:00 – 04:00 PRACTICA \n$15/each class\n$20 – one class + practica\n$30 – two classes + practica\n$15 – Practica only \nBASICS CLASS is for all levels who wish to have a solid foundation by studying the language of tango. We focus on movement quality and clear communication. Master the basics! \nEXPLORATION / IMPROV is on learning how to dance with minimal effort\, get insight on improvisation\, plus grooving to the music. \nLet’s have fun! 🙂 \nsfotango@nullyahoo.com
URL:https://sftangowith.us/event/bissap-baobab/2023-07-22/
LOCATION:Bissap Baobab\, 2243 Mission Street\, San Francisco\, CA
CATEGORIES:class,practica,Recommended for Visitors
ATTACH;FMTTYPE=image/jpeg:https://sftangowith.us/wp-content/uploads/2022/09/Bissap-Baobab.jpg
GEO:37.7604434;-122.4187949
X-APPLE-STRUCTURED-LOCATION;VALUE=URI;X-ADDRESS=Bissap Baobab 2243 Mission Street San Francisco CA;X-APPLE-RADIUS=500;X-TITLE=2243 Mission Street:geo:-122.4187949,37.7604434
END:VEVENT
BEGIN:VEVENT
DTSTART;TZID=America/Los_Angeles:20230722T210000
DTEND;TZID=America/Los_Angeles:20230723T030000
DTSTAMP:20260423T121833
CREATED:20230711T181833Z
LAST-MODIFIED:20230716T081419Z
UID:10008128-1690059600-1690081200@sftangowith.us
SUMMARY:All Night Milonga "mini" w/ Liliana Chenlo Workshop (DJ Selene)
DESCRIPTION:This July All-nighter is on the usual 4th Saturday of the month\, July 22\, hosted by Jonas & Xiaomin. \n9pm – 10pm: Class with guest teacher Liliana Chenlo\n10pm – 3am: Milonga with guest DJ Selene\nChacarera intermission around midnight! \nSliding scale\n$30-35 class & milonga\n$20-25 milonga only\n(you can pay any amount in between)\n$5 discount for full-time students \nRegistration is required ONLY for NEW dancers (if attending for the first time since reopening in 2021)\nwww.jonastango.com/jx-at-the-beat/
URL:https://sftangowith.us/event/all-nighter-mini-23-8/
LOCATION:The Beat\, 2560 Ninth Street\, Berkeley\, CA\, United States
CATEGORIES:milonga
ATTACH;FMTTYPE=image/jpeg:https://sftangowith.us/wp-content/uploads/2023/07/2023-07-22-All-Nighter.jpg
GEO:37.8591971;-122.2917693
X-APPLE-STRUCTURED-LOCATION;VALUE=URI;X-ADDRESS=The Beat 2560 Ninth Street Berkeley CA United States;X-APPLE-RADIUS=500;X-TITLE=2560 Ninth Street:geo:-122.2917693,37.8591971
END:VEVENT
END:VCALENDAR