BEGIN:VCALENDAR
VERSION:2.0
PRODID:-//SF Tango With.Us - ECPv6.6.2//NONSGML v1.0//EN
CALSCALE:GREGORIAN
METHOD:PUBLISH
X-WR-CALNAME:SF Tango With.Us
X-ORIGINAL-URL:https://sftangowith.us
X-WR-CALDESC:Events for SF Tango With.Us
REFRESH-INTERVAL;VALUE=DURATION:PT1H
X-Robots-Tag:noindex
X-PUBLISHED-TTL:PT1H
BEGIN:VTIMEZONE
TZID:America/Los_Angeles
BEGIN:DAYLIGHT
TZOFFSETFROM:-0800
TZOFFSETTO:-0700
TZNAME:PDT
DTSTART:20230312T100000
END:DAYLIGHT
BEGIN:STANDARD
TZOFFSETFROM:-0700
TZOFFSETTO:-0800
TZNAME:PST
DTSTART:20231105T090000
END:STANDARD
END:VTIMEZONE
BEGIN:VEVENT
DTSTART;TZID=America/Los_Angeles:20230802T190000
DTEND;TZID=America/Los_Angeles:20230802T220000
DTSTAMP:20260423T105539
CREATED:20221208T041116Z
LAST-MODIFIED:20240725T045147Z
UID:10008240-1691002800-1691013600@sftangowith.us
SUMMARY:Sunnyvale Practica @ The Moose Lodge
DESCRIPTION:We are all inclusive tango community of dedicated tango lovers .We come every Wednesday to work hard on improving our tango skills. Join us on this journey and enjoy welcoming environment and great music played by our DJ in residence Rene Quebec or a guest DJ. \n¡¡DO NOT: Double park\, block other cars\, block the fire lane\, park in disabled parking\, or in the front of the building!! \nAlternate parking locations: 1) Behind the building to the north at Fortinet or 2) one lot to the west at 901 Kifer.
URL:https://sftangowith.us/event/sunnyvale-practica-the-moose-lodge/2023-08-02/
LOCATION:Moose Lodge\, 922 Weddell Court\, Sunnyvale\, CA\, 94089\, United States
CATEGORIES:practica,Recommended for Visitors
GEO:37.3747868;-122.0099086
X-APPLE-STRUCTURED-LOCATION;VALUE=URI;X-ADDRESS=Moose Lodge 922 Weddell Court Sunnyvale CA 94089 United States;X-APPLE-RADIUS=500;X-TITLE=922 Weddell Court:geo:-122.0099086,37.3747868
END:VEVENT
BEGIN:VEVENT
DTSTART;TZID=America/Los_Angeles:20230802T190000
DTEND;TZID=America/Los_Angeles:20230802T220000
DTSTAMP:20260423T105539
CREATED:20230625T025215Z
LAST-MODIFIED:20230625T030154Z
UID:10009113-1691002800-1691013600@sftangowith.us
SUMMARY:Tango class and practica with Diego and Alejandra at La Bruja
DESCRIPTION:7:00-8:00 pm: Tango class with Diego Lanau and Alejandra Saravia!  All levels of experience welcome. \n8:00-10:00 pm: Practica with DJ TBA \n$20 class and practica (cash only)\n$15 for students with ID (cash only)\n$10 practica without class (cash only) \nThis is a queer-friendly event where all genders are welcome to lead and follow. \nThis event takes place in the ballroom or drawing room of the Berkeley City Club. To enter the building\, ring the bell and say “tango.” We are a 10-minute walk from Downtown Berkeley BART. No non-member parking in the Berkeley City Club lot.  Extra parking is available for $2 per hour at Ellsworth Structure\, located at Ellsworth St. and Channing Way. \nwww.labrujatangoberkeley.com
URL:https://sftangowith.us/event/tango-class-and-practica-with-diego-and-alejandra-at-la-bruno/2023-08-02/
LOCATION:Berkeley City Club\, 2315 Durant Ave\, Berkeley\, 94704\, United States
CATEGORIES:class,practica
ATTACH;FMTTYPE=image/jpeg:https://sftangowith.us/wp-content/uploads/2023/03/DiegoAleFB.jpg
ORGANIZER;CN="Berkeley City Club":MAILTO:info@labrujatangoberkeley.com
GEO:37.8676008;-122.2627745
X-APPLE-STRUCTURED-LOCATION;VALUE=URI;X-ADDRESS=Berkeley City Club 2315 Durant Ave Berkeley 94704 United States;X-APPLE-RADIUS=500;X-TITLE=2315 Durant Ave:geo:-122.2627745,37.8676008
END:VEVENT
BEGIN:VEVENT
DTSTART;TZID=America/Los_Angeles:20230802T193000
DTEND;TZID=America/Los_Angeles:20230802T213000
DTSTAMP:20260423T105540
CREATED:20230828T063003Z
LAST-MODIFIED:20231016T231545Z
UID:10009422-1691004600-1691011800@sftangowith.us
SUMMARY:Tango Fundamentals with Ramada & Elaine
DESCRIPTION:~This series is for beginners.\n~Suitable for beginner dancers who want to revisit and refine the basic elements.\n~Guided practice time included\n~Masks are recommended but not required.\n~Switch-role-friendly and queer-friendly.\n~ Parking lot across the street.\n620 El Camino Real\, Millbrae\, CA\n($100 for 5wks series / $25 for drop-ins Cash/Venmo/Zelle)
URL:https://sftangowith.us/event/tango-fundamentals-with-ramada-elaine-2-2/2023-08-02/
LOCATION:CA
CATEGORIES:class,practica
ATTACH;FMTTYPE=image/jpeg:https://sftangowith.us/wp-content/uploads/2023/08/AEF23B94-6373-47CD-B919-1D1515C2A5F4.jpg
END:VEVENT
END:VCALENDAR