BEGIN:VCALENDAR
VERSION:2.0
PRODID:-//SF Tango With.Us - ECPv6.6.2//NONSGML v1.0//EN
CALSCALE:GREGORIAN
METHOD:PUBLISH
X-WR-CALNAME:SF Tango With.Us
X-ORIGINAL-URL:https://sftangowith.us
X-WR-CALDESC:Events for SF Tango With.Us
REFRESH-INTERVAL;VALUE=DURATION:PT1H
X-Robots-Tag:noindex
X-PUBLISHED-TTL:PT1H
BEGIN:VTIMEZONE
TZID:America/Los_Angeles
BEGIN:DAYLIGHT
TZOFFSETFROM:-0800
TZOFFSETTO:-0700
TZNAME:PDT
DTSTART:20230312T100000
END:DAYLIGHT
BEGIN:STANDARD
TZOFFSETFROM:-0700
TZOFFSETTO:-0800
TZNAME:PST
DTSTART:20231105T090000
END:STANDARD
END:VTIMEZONE
BEGIN:VEVENT
DTSTART;TZID=America/Los_Angeles:20230805T200000
DTEND;TZID=America/Los_Angeles:20230806T013000
DTSTAMP:20260423T085252
CREATED:20230721T014311Z
LAST-MODIFIED:20230721T014311Z
UID:10009162-1691265600-1691285400@sftangowith.us
SUMMARY:Vecher 9th Anniversary Special w/ Seth & Adrian (Live Music)
DESCRIPTION:Live music by the incomparable Seth Asarnow and Adrian Jost duo and Tango on Vinyl by DJ Charles Carbone headline the 9th Anniversary Special Vecher Tango milonga. This is also a farewell party for Adrian\, who is leaving the Bay Area for a while. Vecher Tango is held in the magnificent Grand Ballroom at the Russian Center of San Francisco. Awesome sound system\, silk smooth floor\, Art Deco ambiance\, great space for dancing! Basics Series class by Glenn and Julia prior to the milonga. Full licensed bar with zakuski (light snacks). No outside alcohol please. Bar opens at 9pm. Small table reservations for a party of 2 – 3\, large table reservation for 4- 8. \n8:00 – 9:00 Basics Series Class/Workshop with Glenn and Julia\n9:00 – 1:30a Milonga with Live Music by Seth and Adrian duo and Tangos on Vinyl by DJ Charles Carbone \n$25 Milonga with Live Music\n$30 Class + Milonga\n$10 Class Only\n$10 after Midnight \nvechertango@nullgmail.com
URL:https://sftangowith.us/event/vecher-tango-5-8/
LOCATION:Russian Center of San Francisco\, 2460 Sutter St\, San Francisco\, CA\, United States
CATEGORIES:class,milonga,music (live)
ATTACH;FMTTYPE=image/jpeg:https://sftangowith.us/wp-content/uploads/2022/04/SethAdrianFaces.jpg
GEO:37.7853848;-122.440907
X-APPLE-STRUCTURED-LOCATION;VALUE=URI;X-ADDRESS=Russian Center of San Francisco 2460 Sutter St San Francisco CA United States;X-APPLE-RADIUS=500;X-TITLE=2460 Sutter St:geo:-122.440907,37.7853848
END:VEVENT
BEGIN:VEVENT
DTSTART;TZID=America/Los_Angeles:20230805T210000
DTEND;TZID=America/Los_Angeles:20230806T013000
DTSTAMP:20260423T085252
CREATED:20230723T212806Z
LAST-MODIFIED:20230723T212807Z
UID:10008639-1691269200-1691285400@sftangowith.us
SUMMARY:Che! Milonga (Canceled)
DESCRIPTION:See you on 8/12
URL:https://sftangowith.us/event/che-milonga-11/
LOCATION:La Pista\, 3450 3rd St\, Building 5\, San Francisco\, CA\, 94124\, United States
GEO:37.7457575;-122.3878168
X-APPLE-STRUCTURED-LOCATION;VALUE=URI;X-ADDRESS=La Pista 3450 3rd St Building 5 San Francisco CA 94124 United States;X-APPLE-RADIUS=500;X-TITLE=3450 3rd St\, Building 5:geo:-122.3878168,37.7457575
END:VEVENT
END:VCALENDAR