BEGIN:VCALENDAR
VERSION:2.0
PRODID:-//SF Tango With.Us - ECPv6.6.2//NONSGML v1.0//EN
CALSCALE:GREGORIAN
METHOD:PUBLISH
X-ORIGINAL-URL:https://sftangowith.us
X-WR-CALDESC:Events for SF Tango With.Us
REFRESH-INTERVAL;VALUE=DURATION:PT1H
X-Robots-Tag:noindex
X-PUBLISHED-TTL:PT1H
BEGIN:VTIMEZONE
TZID:America/Los_Angeles
BEGIN:DAYLIGHT
TZOFFSETFROM:-0800
TZOFFSETTO:-0700
TZNAME:PDT
DTSTART:20230312T100000
END:DAYLIGHT
BEGIN:STANDARD
TZOFFSETFROM:-0700
TZOFFSETTO:-0800
TZNAME:PST
DTSTART:20231105T090000
END:STANDARD
END:VTIMEZONE
BEGIN:VEVENT
DTSTART;TZID=America/Los_Angeles:20230812T130000
DTEND;TZID=America/Los_Angeles:20230812T180000
DTSTAMP:20260423T075340
CREATED:20230721T102842Z
LAST-MODIFIED:20230728T002051Z
UID:10009178-1691845200-1691863200@sftangowith.us
SUMMARY:Luciana Valle Intensive Workshops
DESCRIPTION:Saturday Aug 12: \nWS #1 (1:00 – 2:30 pm): Tango Fundamentals: Axis\, Posture\, Embrace and Connection. (All levels) \nWS #2 (2:45 – 4:15 pm): Perfect Pivots and Spirals\, the Other Essentials. (All levels) \nWS #3 (4:30 – 6:00 pm): From Ochos to Planeos and Turns; Center vs Circle; Rotation versus Traveling. (Intermediate)
URL:https://sftangowith.us/event/luciana-valle-intensive-workshops-august-12-13-and-19-20/
LOCATION:Monte Cristo Club\, 136 Missouri Street\, San Francisco\, 94107\, United States
CATEGORIES:workshop
ATTACH;FMTTYPE=image/jpeg:https://sftangowith.us/wp-content/uploads/2023/07/Luciana-Valle.jpg
ORGANIZER;CN="sfbaytango":MAILTO:sfbaytango@gmail.com
GEO:37.7646348;-122.3970541
X-APPLE-STRUCTURED-LOCATION;VALUE=URI;X-ADDRESS=Monte Cristo Club 136 Missouri Street San Francisco 94107 United States;X-APPLE-RADIUS=500;X-TITLE=136 Missouri Street:geo:-122.3970541,37.7646348
END:VEVENT
BEGIN:VEVENT
DTSTART;TZID=America/Los_Angeles:20230812T193000
DTEND;TZID=America/Los_Angeles:20230813T000000
DTSTAMP:20260423T075340
CREATED:20230728T001512Z
LAST-MODIFIED:20230728T001633Z
UID:10009226-1691868600-1691884800@sftangowith.us
SUMMARY:Milonga Tukis w/ Tango Brumoso (Live Music)
DESCRIPTION:7:30 – 12:00 Midnight \n$25 Live Music Milonga\nCash only \nEvery 2nd 3rd \, 4th Saturday of the Month\nHosted By: Troy More and TangoMen-Yak team\nDJ: Charles Carbon
URL:https://sftangowith.us/event/milonga-tukis-w-tango-brumoso-live-music/
LOCATION:CA
CATEGORIES:milonga,music (live)
ATTACH;FMTTYPE=image/jpeg:https://sftangowith.us/wp-content/uploads/2023/07/Tango-Brumoso-Quartet.jpg
END:VEVENT
BEGIN:VEVENT
DTSTART;TZID=America/Los_Angeles:20230812T210000
DTEND;TZID=America/Los_Angeles:20230813T013000
DTSTAMP:20260423T075340
CREATED:20230723T212855Z
LAST-MODIFIED:20230723T212856Z
UID:10008371-1691874000-1691890200@sftangowith.us
SUMMARY:Che 1st Anniversay Milonga w/ DJ Selene
DESCRIPTION:Milonga: 9pm – 1:30am\nHosted by Ramada and Elaine \n$20: MILONGA ONLY\nCash or Venmo at the door \n~Fully Vaccinated Event. Vaccination information is required upon entry and masks are recommended but optional.\n~We are dedicated to providing a welcoming\, inclusive\, safe\, and comfortable environment for everyone\, regardless of gender\, age\, sexual orientation\, race\, ethnicity\, religion\, or any other characteristic or trait.\n~We reserve the right to refuse entry to anyone who causes discomfort\, unsafe feelings\, and physical hazards to our attendees.\n~Respect for the line of dance and floor craft is enforced.\n~This is a switch-role-friendly and queer-friendly event.\n~Bring your own beverage (BYOB)\, snacks\, and drinking vessels. Water will be provided.\n~Tables are first come first served\, no reservations.\n~Parking lot on site. Park in the numbered lots EXCEPT numbers: 24\, 25\, 28\, 29\, 30\, 31\, 35\, 36\, 40.
URL:https://sftangowith.us/event/che-milonga-2-6/
LOCATION:La Pista\, 3450 3rd St\, Building 5\, San Francisco\, CA\, 94124\, United States
CATEGORIES:milonga,Recommended for Visitors
ATTACH;FMTTYPE=image/jpeg:https://sftangowith.us/wp-content/uploads/2022/08/CheMilonga_default.jpeg
GEO:37.7457575;-122.3878168
X-APPLE-STRUCTURED-LOCATION;VALUE=URI;X-ADDRESS=La Pista 3450 3rd St Building 5 San Francisco CA 94124 United States;X-APPLE-RADIUS=500;X-TITLE=3450 3rd St\, Building 5:geo:-122.3878168,37.7457575
END:VEVENT
END:VCALENDAR