BEGIN:VCALENDAR
VERSION:2.0
PRODID:-//SF Tango With.Us - ECPv6.6.2//NONSGML v1.0//EN
CALSCALE:GREGORIAN
METHOD:PUBLISH
X-WR-CALNAME:SF Tango With.Us
X-ORIGINAL-URL:https://sftangowith.us
X-WR-CALDESC:Events for SF Tango With.Us
REFRESH-INTERVAL;VALUE=DURATION:PT1H
X-Robots-Tag:noindex
X-PUBLISHED-TTL:PT1H
BEGIN:VTIMEZONE
TZID:America/Los_Angeles
BEGIN:DAYLIGHT
TZOFFSETFROM:-0800
TZOFFSETTO:-0700
TZNAME:PDT
DTSTART:20230312T100000
END:DAYLIGHT
BEGIN:STANDARD
TZOFFSETFROM:-0700
TZOFFSETTO:-0800
TZNAME:PST
DTSTART:20231105T090000
END:STANDARD
END:VTIMEZONE
BEGIN:VEVENT
DTSTART;TZID=America/Los_Angeles:20230813T130000
DTEND;TZID=America/Los_Angeles:20230813T180000
DTSTAMP:20260423T105440
CREATED:20230721T103533Z
LAST-MODIFIED:20230728T002352Z
UID:10009179-1691931600-1691949600@sftangowith.us
SUMMARY:Luciana Valle Intensive Workshops
DESCRIPTION:Sunday Aug 13: \nWS #4 (1:00 – 2:30 pm): Powerful and Elegant Tango Walk. (All levels) \nWS #5 (2:45 – 4:15 pm): Turns with Sacadas for Leaders & Followers. (Intermediate) \nWS #6 (4:30 – 6:00 pm): Classic Footwork in Turns: Lápiz\, Enrosques\, & Planeos for Leaders and Followers. (Intermediate/Advanced) \n 
URL:https://sftangowith.us/event/luciana-valle-intensive-workshops-aug-12-13-and-19-20/
LOCATION:Monte Cristo Club\, 136 Missouri Street\, San Francisco\, 94107\, United States
CATEGORIES:workshop
ATTACH;FMTTYPE=image/jpeg:https://sftangowith.us/wp-content/uploads/2023/07/Luciana-Valle.jpg
ORGANIZER;CN="sfbaytango":MAILTO:sfbaytango@gmail.com
GEO:37.7646348;-122.3970541
X-APPLE-STRUCTURED-LOCATION;VALUE=URI;X-ADDRESS=Monte Cristo Club 136 Missouri Street San Francisco 94107 United States;X-APPLE-RADIUS=500;X-TITLE=136 Missouri Street:geo:-122.3970541,37.7646348
END:VEVENT
BEGIN:VEVENT
DTSTART;TZID=America/Los_Angeles:20230813T190000
DTEND;TZID=America/Los_Angeles:20230814T000000
DTSTAMP:20260423T105440
CREATED:20230708T000542Z
LAST-MODIFIED:20230708T000542Z
UID:10008171-1691953200-1691971200@sftangowith.us
SUMMARY:Milonga @ Alberto's w/ DJ Olga Bogatova
DESCRIPTION:7pm – Midnight\n \nEntrance $15 \n736 W. Dana\, Mountain View\,  California 94041 \nFULLY VACCINATED DANCERS ONLY.\nMask optional if you’re up to date with vaccine and booster.\nPlease show vaccination card\, or phone image.\nNo entry without proof of vaccination. \nNo communal food or water – bring your own water (but no alcohol).\nLicensed bar will be open all evening.
URL:https://sftangowith.us/event/milonga-albertos-23-34/
LOCATION:Alberto’s Night Club\, 736 W. Dana St.\, Mountain View\, CA\, United States
CATEGORIES:milonga,Recommended for Visitors
ATTACH;FMTTYPE=image/jpeg:https://sftangowith.us/wp-content/uploads/2017/06/Olga-Bogatova-DJ.jpg
GEO:37.3923683;-122.0789214
X-APPLE-STRUCTURED-LOCATION;VALUE=URI;X-ADDRESS=Alberto’s Night Club 736 W. Dana St. Mountain View CA United States;X-APPLE-RADIUS=500;X-TITLE=736 W. Dana St.:geo:-122.0789214,37.3923683
END:VEVENT
END:VCALENDAR