BEGIN:VCALENDAR
VERSION:2.0
PRODID:-//SF Tango With.Us - ECPv6.6.2//NONSGML v1.0//EN
CALSCALE:GREGORIAN
METHOD:PUBLISH
X-WR-CALNAME:SF Tango With.Us
X-ORIGINAL-URL:https://sftangowith.us
X-WR-CALDESC:Events for SF Tango With.Us
REFRESH-INTERVAL;VALUE=DURATION:PT1H
X-Robots-Tag:noindex
X-PUBLISHED-TTL:PT1H
BEGIN:VTIMEZONE
TZID:America/Los_Angeles
BEGIN:DAYLIGHT
TZOFFSETFROM:-0800
TZOFFSETTO:-0700
TZNAME:PDT
DTSTART:20230312T100000
END:DAYLIGHT
BEGIN:STANDARD
TZOFFSETFROM:-0700
TZOFFSETTO:-0800
TZNAME:PST
DTSTART:20231105T090000
END:STANDARD
END:VTIMEZONE
BEGIN:VEVENT
DTSTART;TZID=America/Los_Angeles:20230818T203000
DTEND;TZID=America/Los_Angeles:20230819T003000
DTSTAMP:20260423T105443
CREATED:20230725T084943Z
LAST-MODIFIED:20230814T213441Z
UID:10008038-1692390600-1692405000@sftangowith.us
SUMMARY:La Milonga Genesis w/ Juan Cantone & Chantel Eril Workshop (DJ Una)
DESCRIPTION:8:30-9:30pm – Tango Workshop w/ Juan Cantone & Chantel Eril\nTopic: Lightning speed turns for crowded spaces \n9:30-12:30am(?) – Milonga  – DJ Una \n– Discounts offered for those in financial hardship\nemail: tangosaborsf@nullgmail.com \nPLEASE DO NOT ATTEND IF YOU ARE NOT FEELING WELL
URL:https://sftangowith.us/event/la-milonga-genesis-23-32/
LOCATION:Genesis Dance\, 404 Clement St.\, San Francisco\, CA
CATEGORIES:milonga,Recommended for Visitors
ATTACH;FMTTYPE=image/jpeg:https://sftangowith.us/wp-content/uploads/2018/06/Una-SDTF2016_7628-Web.jpg
GEO:37.7832315;-122.4636431
X-APPLE-STRUCTURED-LOCATION;VALUE=URI;X-ADDRESS=Genesis Dance 404 Clement St. San Francisco CA;X-APPLE-RADIUS=500;X-TITLE=404 Clement St.:geo:-122.4636431,37.7832315
END:VEVENT
END:VCALENDAR