BEGIN:VCALENDAR
VERSION:2.0
PRODID:-//SF Tango With.Us - ECPv6.6.2//NONSGML v1.0//EN
CALSCALE:GREGORIAN
METHOD:PUBLISH
X-WR-CALNAME:SF Tango With.Us
X-ORIGINAL-URL:https://sftangowith.us
X-WR-CALDESC:Events for SF Tango With.Us
REFRESH-INTERVAL;VALUE=DURATION:PT1H
X-Robots-Tag:noindex
X-PUBLISHED-TTL:PT1H
BEGIN:VTIMEZONE
TZID:America/Los_Angeles
BEGIN:DAYLIGHT
TZOFFSETFROM:-0800
TZOFFSETTO:-0700
TZNAME:PDT
DTSTART:20230312T100000
END:DAYLIGHT
BEGIN:STANDARD
TZOFFSETFROM:-0700
TZOFFSETTO:-0800
TZNAME:PST
DTSTART:20231105T090000
END:STANDARD
END:VTIMEZONE
BEGIN:VEVENT
DTSTART;TZID=America/Los_Angeles:20230903T160000
DTEND;TZID=America/Los_Angeles:20230903T180000
DTSTAMP:20260422T191438
CREATED:20230831T172425Z
LAST-MODIFIED:20230831T172626Z
UID:10009430-1693756800-1693764000@sftangowith.us
SUMMARY:UCB Tango Club classes with James Kang: all welcome
DESCRIPTION:The Argentine Tango Club of Berkeley is excited to announce another semester of dancing on campus! \nBeginner classes and practica take place every Sunday from 4-6 PM in Eshleman 240. This semester\, teaching the class will be James Kang (he/him\, they/them)\, an up-and-coming finalist at the Southern California Tango Championship and Argentine Tango USA Championship. \nSundays\n4:00 – 5:00 Class\n5:00 – 6:00 Practica \nUniversity of California\, Berkeley\nEshleman Room 240 \n2465 Bancroft Way \nOur class inclusive of folks of all genders\, non-binary & LGBTQIA+. Absolutely no dance experience required. \nClasses this semester are $5 for UCB affiliates (students and staff) and $10 for community members at the door. Community members who are not affiliated with the university must pre-register using this link: https://forms.gle/GSmkCvFa9tESiFyYA \nAny questions\, ask us at ucbtango@nullgmail.com
URL:https://sftangowith.us/event/ucb-tango-club-classes-with-james-kang-all-welcome/2023-09-03/
LOCATION:240 Eshleman\, UC Berkeley\, 2465 Bancroft Way\, Berkeley\, CA\, 94704\, United States
CATEGORIES:class,practica
ATTACH;FMTTYPE=image/jpeg:https://sftangowith.us/wp-content/uploads/2023/08/Kang.jpg
GEO:37.8687522;-122.2604703
X-APPLE-STRUCTURED-LOCATION;VALUE=URI;X-ADDRESS=240 Eshleman UC Berkeley 2465 Bancroft Way Berkeley CA 94704 United States;X-APPLE-RADIUS=500;X-TITLE=2465 Bancroft Way:geo:-122.2604703,37.8687522
END:VEVENT
BEGIN:VEVENT
DTSTART;TZID=America/Los_Angeles:20230903T190000
DTEND;TZID=America/Los_Angeles:20230903T230000
DTSTAMP:20260422T191438
CREATED:20221222T005811Z
LAST-MODIFIED:20221222T010515Z
UID:10008424-1693767600-1693782000@sftangowith.us
SUMMARY:Milonga Rubia al Sur
DESCRIPTION:This is a twice a month Milonga (every 1st & 3rd Sundays) at Just Dance Ballroom. There are different DJs for each event. \nBig spacious dance floor\, lots of parking in the front and back of building with a security guard on duty. \nPLEASE BRING PROOF OF VACCINATION .\nNever hurts to BYOB . No food provided at this time. \nHosted by Lisette Perelle\nContact: Lisette at Lisette4tango@nullgmail.com. or (510) 282-8118
URL:https://sftangowith.us/event/milonga-rubia-al-sur-23/2023-09-03/
LOCATION:Just Dance Ballroom\, 2500 Embarcadero\, Oakland\, CA\, United States
CATEGORIES:milonga
ATTACH;FMTTYPE=image/jpeg:https://sftangowith.us/wp-content/uploads/2021/07/Milonga-Rubia-al-Sur.jpg
GEO:37.7757272;-122.2395977
X-APPLE-STRUCTURED-LOCATION;VALUE=URI;X-ADDRESS=Just Dance Ballroom 2500 Embarcadero Oakland CA United States;X-APPLE-RADIUS=500;X-TITLE=2500 Embarcadero:geo:-122.2395977,37.7757272
END:VEVENT
BEGIN:VEVENT
DTSTART;TZID=America/Los_Angeles:20230903T190000
DTEND;TZID=America/Los_Angeles:20230904T000000
DTSTAMP:20260422T191438
CREATED:20230807T203116Z
LAST-MODIFIED:20230807T203117Z
UID:10008174-1693767600-1693785600@sftangowith.us
SUMMARY:Milonga @ Alberto's w/ DJ Ashvin
DESCRIPTION:7pm – Midnight\n \nEntrance $15 \n736 W. Dana\, Mountain View\,  California 94041 \nFULLY VACCINATED DANCERS ONLY.\nMask optional if you’re up to date with vaccine and booster.\nPlease show vaccination card\, or phone image.\nNo entry without proof of vaccination. \nNo communal food or water – bring your own water (but no alcohol).\nLicensed bar will be open all evening.
URL:https://sftangowith.us/event/milonga-albertos-23-37/
LOCATION:Alberto’s Night Club\, 736 W. Dana St.\, Mountain View\, CA\, United States
CATEGORIES:milonga,Recommended for Visitors
ATTACH;FMTTYPE=image/jpeg:https://sftangowith.us/wp-content/uploads/2021/06/AshvinIyer_2019jpg.jpg
GEO:37.3923683;-122.0789214
X-APPLE-STRUCTURED-LOCATION;VALUE=URI;X-ADDRESS=Alberto’s Night Club 736 W. Dana St. Mountain View CA United States;X-APPLE-RADIUS=500;X-TITLE=736 W. Dana St.:geo:-122.0789214,37.3923683
END:VEVENT
END:VCALENDAR