BEGIN:VCALENDAR
VERSION:2.0
PRODID:-//SF Tango With.Us - ECPv6.6.2//NONSGML v1.0//EN
CALSCALE:GREGORIAN
METHOD:PUBLISH
X-WR-CALNAME:SF Tango With.Us
X-ORIGINAL-URL:https://sftangowith.us
X-WR-CALDESC:Events for SF Tango With.Us
REFRESH-INTERVAL;VALUE=DURATION:PT1H
X-Robots-Tag:noindex
X-PUBLISHED-TTL:PT1H
BEGIN:VTIMEZONE
TZID:America/Los_Angeles
BEGIN:DAYLIGHT
TZOFFSETFROM:-0800
TZOFFSETTO:-0700
TZNAME:PDT
DTSTART:20230312T100000
END:DAYLIGHT
BEGIN:STANDARD
TZOFFSETFROM:-0700
TZOFFSETTO:-0800
TZNAME:PST
DTSTART:20231105T090000
END:STANDARD
END:VTIMEZONE
BEGIN:VEVENT
DTSTART;TZID=America/Los_Angeles:20230916T110000
DTEND;TZID=America/Los_Angeles:20230916T160000
DTSTAMP:20260422T191448
CREATED:20230727T040913Z
LAST-MODIFIED:20230727T040913Z
UID:10008094-1694862000-1694880000@sftangowith.us
SUMMARY:Class & Practica w/ Glenn @ Bissap Baobab
DESCRIPTION:11:00 – 12:00 Basics Class\n12:00 – 01:00 Exploration / Improv Class\n01:00 – 04:00 PRACTICA \n$15/each class\n$20 – one class + practica\n$30 – two classes + practica\n$15 – Practica only \nBASICS CLASS is for all levels who wish to have a solid foundation by studying the language of tango. We focus on movement quality and clear communication. Master the basics! \nEXPLORATION / IMPROV is on learning how to dance with minimal effort\, get insight on improvisation\, plus grooving to the music. \nLet’s have fun! 🙂 \nsfotango@nullyahoo.com
URL:https://sftangowith.us/event/bissap-baobab-4/2023-09-16/
LOCATION:Bissap Baobab\, 2243 Mission Street\, San Francisco\, CA
CATEGORIES:class,practica,Recommended for Visitors
ATTACH;FMTTYPE=image/jpeg:https://sftangowith.us/wp-content/uploads/2022/09/Bissap-Baobab.jpg
GEO:37.7604434;-122.4187949
X-APPLE-STRUCTURED-LOCATION;VALUE=URI;X-ADDRESS=Bissap Baobab 2243 Mission Street San Francisco CA;X-APPLE-RADIUS=500;X-TITLE=2243 Mission Street:geo:-122.4187949,37.7604434
END:VEVENT
BEGIN:VEVENT
DTSTART;TZID=America/Los_Angeles:20230916T200000
DTEND;TZID=America/Los_Angeles:20230917T000000
DTSTAMP:20260422T191448
CREATED:20230828T090532Z
LAST-MODIFIED:20230828T090532Z
UID:10009141-1694894400-1694908800@sftangowith.us
SUMMARY:Milonga Uno w/ DJ Dhruv
DESCRIPTION:Milonga: 8pm – 12am \nHosted by Ramada and Elaine. We are sharing this venue with Nora’s milonga and we will alternate every other month. \n$20: MILONGA ONLY \n~Fully Vaccinated Event. Vaccination information is required upon entry and masks are recommended but optional.\n~We are dedicated to providing a welcoming\, inclusive\, safe\, and comfortable environment for everyone\, regardless of gender\, age\, sexual orientation\, race\, ethnicity\, religion\, or any other characteristic or trait.\n~We reserve the right to refuse entry to anyone who causes discomfort\, unsafe feelings\, and physical hazards to our attendees\n~This is a switch-role-friendly and a queer-friendly event\n~Respect for the line of dance and floor craft is enforced.\n~Bring your own beverage (BYOB) and drinking vessels Water will be provided.\n~Tables are first come first served\, no reservations.\n~Parking lot on site.
URL:https://sftangowith.us/event/milonga-uno-7/
LOCATION:Congregation Etz Chayim\, 4161 Alma St.\, Palo Alto\, CA\, United States
CATEGORIES:milonga,Recommended for Visitors
ATTACH;FMTTYPE=image/jpeg:https://sftangowith.us/wp-content/uploads/2017/07/Dhruv-DJ.jpg
GEO:37.4112553;-122.1119247
X-APPLE-STRUCTURED-LOCATION;VALUE=URI;X-ADDRESS=Congregation Etz Chayim 4161 Alma St. Palo Alto CA United States;X-APPLE-RADIUS=500;X-TITLE=4161 Alma St.:geo:-122.1119247,37.4112553
END:VEVENT
BEGIN:VEVENT
DTSTART;TZID=America/Los_Angeles:20230916T210000
DTEND;TZID=America/Los_Angeles:20230917T013000
DTSTAMP:20260422T191448
CREATED:20230222T000311Z
LAST-MODIFIED:20231024T002821Z
UID:10009165-1694898000-1694914200@sftangowith.us
SUMMARY:Vecher Tango
DESCRIPTION:8:00 – 9:00 Basics Series Class/Workshop\n9:00 – 1:30a Milonga \n$20 Milonga only\n$25 Class + Milonga\n$10 Class only\n$10 after Midnight\nMasks highly recommended \nAwesome sound system\, silk smooth floor\, Art Deco ambiance\, great space for dancing! Basics Series class with Glenn Corteza prior to milonga. Full licensed bar with zakuski (light snacks). No outside alcohol please. Bar opens at 9pm. Small table reservations for a party of 2 – 3\, large table reservation for 4- 8. \nvechertango@nullgmail.com
URL:https://sftangowith.us/event/vecher-tango-5/2023-09-16/
LOCATION:Russian Center of San Francisco\, 2460 Sutter St\, San Francisco\, CA\, United States
CATEGORIES:class,milonga
GEO:37.7853848;-122.440907
X-APPLE-STRUCTURED-LOCATION;VALUE=URI;X-ADDRESS=Russian Center of San Francisco 2460 Sutter St San Francisco CA United States;X-APPLE-RADIUS=500;X-TITLE=2460 Sutter St:geo:-122.440907,37.7853848
END:VEVENT
END:VCALENDAR