BEGIN:VCALENDAR
VERSION:2.0
PRODID:-//SF Tango With.Us - ECPv6.6.2//NONSGML v1.0//EN
CALSCALE:GREGORIAN
METHOD:PUBLISH
X-ORIGINAL-URL:https://sftangowith.us
X-WR-CALDESC:Events for SF Tango With.Us
REFRESH-INTERVAL;VALUE=DURATION:PT1H
X-Robots-Tag:noindex
X-PUBLISHED-TTL:PT1H
BEGIN:VTIMEZONE
TZID:America/Los_Angeles
BEGIN:DAYLIGHT
TZOFFSETFROM:-0800
TZOFFSETTO:-0700
TZNAME:PDT
DTSTART:20230312T100000
END:DAYLIGHT
BEGIN:STANDARD
TZOFFSETFROM:-0700
TZOFFSETTO:-0800
TZNAME:PST
DTSTART:20231105T090000
END:STANDARD
END:VTIMEZONE
BEGIN:VEVENT
DTSTART;TZID=America/Los_Angeles:20231002T193000
DTEND;TZID=America/Los_Angeles:20231002T213000
DTSTAMP:20260422T151801
CREATED:20230828T061726Z
LAST-MODIFIED:20231016T224459Z
UID:10009356-1696275000-1696282200@sftangowith.us
SUMMARY:Tango Techniques with Ramada & Elaine
DESCRIPTION:~Fundamentals – exercise\, tips\, and drills to improve social tango skills.\n~Suitable for all-level dancers who want to brush up on their techniques or work on specific issues.\n~Guided practice time included\n~Masks are recommended but not required.\n~Switch-role-friendly and queer-friendly.\n($20 cash/Venmo/Zelle)
URL:https://sftangowith.us/event/tango-techniques-with-ramada-elaine/2023-10-02/
LOCATION:La Pista\, 3450 3rd St\, Building 5\, San Francisco\, CA\, 94124\, United States
CATEGORIES:class,practica
ATTACH;FMTTYPE=image/jpeg:https://sftangowith.us/wp-content/uploads/2023/08/70AFBDDF-9E85-460B-9DD0-7FE914B6F0B6.jpg
GEO:37.7457575;-122.3878168
X-APPLE-STRUCTURED-LOCATION;VALUE=URI;X-ADDRESS=La Pista 3450 3rd St Building 5 San Francisco CA 94124 United States;X-APPLE-RADIUS=500;X-TITLE=3450 3rd St\, Building 5:geo:-122.3878168,37.7457575
END:VEVENT
BEGIN:VEVENT
DTSTART;TZID=America/Los_Angeles:20231002T201500
DTEND;TZID=America/Los_Angeles:20231003T002000
DTSTAMP:20260422T151801
CREATED:20230517T015552Z
LAST-MODIFIED:20240920T042606Z
UID:10008982-1696277700-1696292400@sftangowith.us
SUMMARY:Monday Night Tango @ The Beat
DESCRIPTION:8:15-9:30p – Intermediate class\n9:30p-0:30a – Practica \nRegistration required for NEW DANCERS ONLY\n(if you haven’t attended Monday / Allnighter since 2021)\nhttps://tangonnection.wixsite.com/felipetango/beat \nIf you don’t feel well\, please stay at home.\nWe will keep the room well-ventilated. Please bring layers.\nStaying up to date with COVID-19 vaccines is highly recommended. \nIf you contracted COVID-19 within 5 days from attending this event\, please contact us. We will notify the attendees.
URL:https://sftangowith.us/event/monday-night-tango-the-beat-23-3/2023-10-02/
LOCATION:The Beat\, 2560 Ninth Street\, Berkeley\, CA\, United States
CATEGORIES:class,milonga,practica,Recommended for Visitors
ATTACH;FMTTYPE=image/jpeg:https://sftangowith.us/wp-content/uploads/2017/06/Felipe-Ayano-July30.jpg
ORGANIZER;CN="Felipe and Ayano":MAILTO:tangonnection@gmail.com
GEO:37.8591971;-122.2917693
X-APPLE-STRUCTURED-LOCATION;VALUE=URI;X-ADDRESS=The Beat 2560 Ninth Street Berkeley CA United States;X-APPLE-RADIUS=500;X-TITLE=2560 Ninth Street:geo:-122.2917693,37.8591971
END:VEVENT
END:VCALENDAR