BEGIN:VCALENDAR
VERSION:2.0
PRODID:-//SF Tango With.Us - ECPv6.6.2//NONSGML v1.0//EN
CALSCALE:GREGORIAN
METHOD:PUBLISH
X-WR-CALNAME:SF Tango With.Us
X-ORIGINAL-URL:https://sftangowith.us
X-WR-CALDESC:Events for SF Tango With.Us
REFRESH-INTERVAL;VALUE=DURATION:PT1H
X-Robots-Tag:noindex
X-PUBLISHED-TTL:PT1H
BEGIN:VTIMEZONE
TZID:America/Los_Angeles
BEGIN:DAYLIGHT
TZOFFSETFROM:-0800
TZOFFSETTO:-0700
TZNAME:PDT
DTSTART:20230312T100000
END:DAYLIGHT
BEGIN:STANDARD
TZOFFSETFROM:-0700
TZOFFSETTO:-0800
TZNAME:PST
DTSTART:20231105T090000
END:STANDARD
END:VTIMEZONE
BEGIN:VEVENT
DTSTART;TZID=America/Los_Angeles:20231028T110000
DTEND;TZID=America/Los_Angeles:20231028T160000
DTSTAMP:20260422T150432
CREATED:20230727T040913Z
LAST-MODIFIED:20230727T040913Z
UID:10008100-1698490800-1698508800@sftangowith.us
SUMMARY:Class & Practica w/ Glenn @ Bissap Baobab
DESCRIPTION:11:00 – 12:00 Basics Class\n12:00 – 01:00 Exploration / Improv Class\n01:00 – 04:00 PRACTICA \n$15/each class\n$20 – one class + practica\n$30 – two classes + practica\n$15 – Practica only \nBASICS CLASS is for all levels who wish to have a solid foundation by studying the language of tango. We focus on movement quality and clear communication. Master the basics! \nEXPLORATION / IMPROV is on learning how to dance with minimal effort\, get insight on improvisation\, plus grooving to the music. \nLet’s have fun! 🙂 \nsfotango@nullyahoo.com
URL:https://sftangowith.us/event/bissap-baobab-4/2023-10-28/
LOCATION:Bissap Baobab\, 2243 Mission Street\, San Francisco\, CA
CATEGORIES:class,practica,Recommended for Visitors
ATTACH;FMTTYPE=image/jpeg:https://sftangowith.us/wp-content/uploads/2022/09/Bissap-Baobab.jpg
GEO:37.7604434;-122.4187949
X-APPLE-STRUCTURED-LOCATION;VALUE=URI;X-ADDRESS=Bissap Baobab 2243 Mission Street San Francisco CA;X-APPLE-RADIUS=500;X-TITLE=2243 Mission Street:geo:-122.4187949,37.7604434
END:VEVENT
BEGIN:VEVENT
DTSTART;TZID=America/Los_Angeles:20231028T140000
DTEND;TZID=America/Los_Angeles:20231028T163000
DTSTAMP:20260422T150433
CREATED:20231024T000940Z
LAST-MODIFIED:20231024T000940Z
UID:10010010-1698501600-1698510600@sftangowith.us
SUMMARY:Maxi Alvarado & Paloma Berrios Workshop @ Dance Boulevard
DESCRIPTION:Maximiliano Alvarado & Paloma Berrios are back due to popular demand! One of our most requested maestros are back in town so don’t miss their enlightening and detailed workshops! \nThey are available for private lessons as well. For more information call 786-622-6081 or\nplease see: https://www.palomaymaximiliano.com/ \n2:00 – 3:15 Parallel vs. cross system for linear and circular dynamics. Int. Level\n3:15 – 4:30 Following each other with “Paradas”. Int. Level \n$25 One Workshop\n$45 Two Workshops
URL:https://sftangowith.us/event/maxi-alvarado-paloma-berrios-workshop-dance-boulevard-2/
LOCATION:Dance Boulevard\, 1824 Hillsdale Ave.\, San Jose\, CA\, United States
CATEGORIES:workshop
ATTACH;FMTTYPE=image/jpeg:https://sftangowith.us/wp-content/uploads/2019/10/Paloma-Rodriguez-and-Maximilliano-Alvarado-e1570477383105.jpg
GEO:37.2620436;-121.9179649
X-APPLE-STRUCTURED-LOCATION;VALUE=URI;X-ADDRESS=Dance Boulevard 1824 Hillsdale Ave. San Jose CA United States;X-APPLE-RADIUS=500;X-TITLE=1824 Hillsdale Ave.:geo:-121.9179649,37.2620436
END:VEVENT
BEGIN:VEVENT
DTSTART;TZID=America/Los_Angeles:20231028T141500
DTEND;TZID=America/Los_Angeles:20231028T170000
DTSTAMP:20260422T150433
CREATED:20230828T222916Z
LAST-MODIFIED:20231018T191145Z
UID:10010002-1698502500-1698512400@sftangowith.us
SUMMARY:Maja & Marko Workshops in SF
DESCRIPTION:We are so excited Maja & Marko will be back in SF in 2023 to share their close embraces with us!!!\nRegistration is now OPEN! (Limited to 25 couples max per workshop)\nhttps://chetangosf.com/special-events-2/\n\nSpecial Meet & Greet Milonguita on Thursday Evening 10/26 (more details to come…)\n\nIntensive Workshop Schedule:\nFriday 10/27\n(7:15-8:30pm) WS1: CIRCULARITY IN SIMPLE MOVEMENTS\nYou like how we dance but can’t exactly say why? One of the answers to that question is in this lesson. Here we’ll teach you how to smooth out the edges on your everyday tango elements and make them soft and round.\n(8:45-10:00pm) WS2: COUPLES’ TECHNIQUE: ROLLING CLOSE EMBRACE\nRolling is an essential technique for pivoting comfortably in close embrace. In this lesson\, we’ll teach you how to apply this technique in standard tango figures that require a pivot.\n\nSaturday 10/28\n(2:15-3:30pm) WS3: FAVOURITE COMBINATIONS WITH GIRO\nThere are plenty of elements that can be added to giro resulting in fun and surprising combinations. From sacadas to boleos to changes of direction\, let’s mix it all!\n(3:45-5:00pm) WS4: THE “STRANGE” SACADA\nThis sacada is the missing piece of the puzzle! Here we’ll show you one of the more unusual sacadas and we’ll explain why it’s different than the others. We’ll demonstrate how to use it in a circular or a linear fashion.\n\nSunday 10/29\n(2:15-3:30pm) WS5: MILONGUERO VARIATIONS\nIn this lesson we’ll teach you 2 fun step combinations in close embrace\, perfect for interpreting the more rhythmic and/or energetic part of the song (e.g. a variation). Both combinations can be easily adapted to any amount of space which makes them great for (crowded) milongas.\n(3:45-5:00pm) WS6: VALSING IN SMALL SPACE\nApplying the technique of traspié\, we’ll show you a few fun and useful combinations in vals. The crowded milongas are the place to show them off.\n\nWS location: La Pista Studio\n3450 3rd Street\, Building 5\, Unit H\,\nSan Francisco\, CA\n\nCost: $225 per person\, $450 per couple for ALL FRI-SUN workshops (LIMITED to 25 couples max per workshop)\n$85 per person\, $170 per couple for individual days\n\n\n\nTo register\, please fill out the form link here. Detailed payment instructions will be provided individually after registration. Payment options include cash\, Venmo\, PayPal\, or Zelle.\n\n\nYour registration will be considered complete once we receive your payment. Please note that a full refund\, minus a 5% processing fee\, is available until October 20th.\n\n\nFor couples registering\, the registration process will be finalized once both individuals have successfully made their payments.\n\n\nFor individual registrations\, we will send you the payment link once we have ensured a partner is secured for you.\n\n\n\n\nTheir performance will be at Vecher Milonga on 10/28.\nPrivate lessons will be available. Please send an email to info@nullchetangosf.com to schedule or for questions. Thank you
URL:https://sftangowith.us/event/maja-marko-in-sf/2023-10-28/
LOCATION:La Pista\, 3450 3rd St\, Building 5\, San Francisco\, CA\, 94124\, United States
CATEGORIES:class,performance,workshop
ATTACH;FMTTYPE=image/jpeg:https://sftangowith.us/wp-content/uploads/2023/08/MM-SF2023.jpg
GEO:37.7457575;-122.3878168
X-APPLE-STRUCTURED-LOCATION;VALUE=URI;X-ADDRESS=La Pista 3450 3rd St Building 5 San Francisco CA 94124 United States;X-APPLE-RADIUS=500;X-TITLE=3450 3rd St\, Building 5:geo:-122.3878168,37.7457575
END:VEVENT
BEGIN:VEVENT
DTSTART;TZID=America/Los_Angeles:20231028T193000
DTEND;TZID=America/Los_Angeles:20231029T000000
DTSTAMP:20260422T150433
CREATED:20231024T001208Z
LAST-MODIFIED:20231024T001208Z
UID:10010011-1698521400-1698537600@sftangowith.us
SUMMARY:Milonga Tukis w/ Paloma and Maximiliano @ Dance Vita
DESCRIPTION:7:30 – 8:30 Master class\n8:30 – Midnight w/ DJ Roman Zapata Tabayoyon\nSpecial extra ordinary performance \n$30 class plus Milonga\n$20 Milonga \nHosted By: Troy More and TangoMen-Yak team \nDirect Contact:\nmilongatukis@nullgmail.com\nJabonillom@nullyahoo.com
URL:https://sftangowith.us/event/milonga-tukis-w-paloma-and-maximiliano-dance-vita/
LOCATION:CA
CATEGORIES:milonga,performance,workshop
ATTACH;FMTTYPE=image/jpeg:https://sftangowith.us/wp-content/uploads/2019/10/Paloma-Rodriguez-and-Maximilliano-Alvarado-e1570477383105.jpg
END:VEVENT
BEGIN:VEVENT
DTSTART;TZID=America/Los_Angeles:20231028T200000
DTEND;TZID=America/Los_Angeles:20231029T000000
DTSTAMP:20260422T150433
CREATED:20230929T004722Z
LAST-MODIFIED:20230929T004740Z
UID:10009451-1698523200-1698537600@sftangowith.us
SUMMARY:Bandonegro From Poland @ The Dome (Live Music)
DESCRIPTION:From Poland on a world tour – It’s Bandonegro rocking Piazzolla in concert with a Bay Area guitarist and drummer. Fantastic high-powered dance music until midnight. \nDOORS OPEN AT 8:00\nSit – down concert at 8:30\nDance music until midnight \nSuggested donation:  $25
URL:https://sftangowith.us/event/bandonegro-from-poland-the-dome-live-music/
LOCATION:The Dome\, 951 62nd St\, Oakland\, CA\, United States
CATEGORIES:milonga,music (live),Recommended for Visitors
ATTACH;FMTTYPE=image/jpeg:https://sftangowith.us/wp-content/uploads/2023/09/Bandonegro-Band-The-Dome.jpg
GEO:37.8459067;-122.2777176
X-APPLE-STRUCTURED-LOCATION;VALUE=URI;X-ADDRESS=The Dome 951 62nd St Oakland CA United States;X-APPLE-RADIUS=500;X-TITLE=951 62nd St:geo:-122.2777176,37.8459067
END:VEVENT
BEGIN:VEVENT
DTSTART;TZID=America/Los_Angeles:20231028T200000
DTEND;TZID=America/Los_Angeles:20231029T013000
DTSTAMP:20260422T150433
CREATED:20231016T224945Z
LAST-MODIFIED:20231020T220642Z
UID:10009168-1698523200-1698543000@sftangowith.us
SUMMARY:Vecher Tango w/ Maja & Marko Performance (DJ Loco)
DESCRIPTION:Exclusive performance by that magnificent couple\, Maja & Marko\, headlines tonight’s James Bond 007 Theme Vecher Tango Masquerade. As the Bond theme implies\, Bondiana is a chance dress up in your most elegant black and/or white cocktail dress or tux\, as appropriate. And a masquerade mask\, if desired. Surprise us with your creativity. All this in the majestic Grand Ballroom at the Russian Center of San Francisco. Dance to selections of Classic Argentine Tango by DJ Loco. Awesome sound system\, silk smooth floor\, Art Deco ambiance\, great space for dancing! Basics Series class/workshop prior to milonga. Shaken\, not stirred cocktails in our bar. No outside alcohol please. Bar opens at 9. Small table reservations for a party of 2 – 3\, large table reservation for 4- 8. \n8:00 – 9:00 Basics Series Class by Glenn\n9:00 – 1:30a James Bond 007 Theme Masquerade Milonga (Bondiana) with DJ Loco\n11:00 Performance by Special Guests Maja Petrović and Marko Miljević \n$25 James Bond 007 Theme (Bondiana) Milonga with DJ Loco and Exclusive Performance by Maja Petrović and Marko Miljević\n$30 Basics Class + Milonga\n$10 Class only\n$10 after Performance (approximately after Midnight) \nvechertango@nullgmail.com
URL:https://sftangowith.us/event/vecher-tango-5-11/
LOCATION:Russian Center of San Francisco\, 2460 Sutter St\, San Francisco\, CA\, United States
CATEGORIES:milonga,workshop
ATTACH;FMTTYPE=image/jpeg:https://sftangowith.us/wp-content/uploads/2023/08/MM-SF2023.jpg
GEO:37.7853848;-122.440907
X-APPLE-STRUCTURED-LOCATION;VALUE=URI;X-ADDRESS=Russian Center of San Francisco 2460 Sutter St San Francisco CA United States;X-APPLE-RADIUS=500;X-TITLE=2460 Sutter St:geo:-122.440907,37.7853848
END:VEVENT
BEGIN:VEVENT
DTSTART;TZID=America/Los_Angeles:20231028T210000
DTEND;TZID=America/Los_Angeles:20231029T040000
DTSTAMP:20260422T150433
CREATED:20231006T174623Z
LAST-MODIFIED:20231016T225040Z
UID:10008131-1698526800-1698552000@sftangowith.us
SUMMARY:All Night Milonga @ The Beat w/ Special Chacarera Class (DJ Prashant)
DESCRIPTION:9:00p – 10:00p Special Chacarera Class with guest teacher Helene Eriksen\n10:00p – 4:00a Milonga with guest DJ Prashant Iyer\nChacarera break around 1:00am\n\nClass+Milonga $30-35 sliding scale (you can pay any amount between $30-35)\nMilonga only $20-25 sliding scale (you can pay any amount between $20 and $25)\nHigh-quality mask (KF94/KN95/N95) highly recommended. \nRegistration is required for first time attendees since 2021.\nhttps://tangonnection.wixsite.com/felipetango/beat \nWe’ll provide refreshments.\nYou’re welcome to bring snacks to share!\n(Please put labels with your name!)
URL:https://sftangowith.us/event/all-nighter-mini-23-1-4/
LOCATION:The Beat\, 2560 Ninth Street\, Berkeley\, CA\, United States
CATEGORIES:all-nighter,milonga,Recommended for Visitors
ATTACH;FMTTYPE=image/jpeg:https://sftangowith.us/wp-content/uploads/2023/06/DJ-Prashant.jpeg
GEO:37.8591971;-122.2917693
X-APPLE-STRUCTURED-LOCATION;VALUE=URI;X-ADDRESS=The Beat 2560 Ninth Street Berkeley CA United States;X-APPLE-RADIUS=500;X-TITLE=2560 Ninth Street:geo:-122.2917693,37.8591971
END:VEVENT
END:VCALENDAR