BEGIN:VCALENDAR
VERSION:2.0
PRODID:-//SF Tango With.Us - ECPv6.6.2//NONSGML v1.0//EN
CALSCALE:GREGORIAN
METHOD:PUBLISH
X-ORIGINAL-URL:https://sftangowith.us
X-WR-CALDESC:Events for SF Tango With.Us
REFRESH-INTERVAL;VALUE=DURATION:PT1H
X-Robots-Tag:noindex
X-PUBLISHED-TTL:PT1H
BEGIN:VTIMEZONE
TZID:America/Los_Angeles
BEGIN:DAYLIGHT
TZOFFSETFROM:-0800
TZOFFSETTO:-0700
TZNAME:PDT
DTSTART:20230312T100000
END:DAYLIGHT
BEGIN:STANDARD
TZOFFSETFROM:-0700
TZOFFSETTO:-0800
TZNAME:PST
DTSTART:20231105T090000
END:STANDARD
END:VTIMEZONE
BEGIN:VEVENT
DTSTART;TZID=America/Los_Angeles:20231101T190000
DTEND;TZID=America/Los_Angeles:20231101T220000
DTSTAMP:20260422T150559
CREATED:20221208T041116Z
LAST-MODIFIED:20240725T045147Z
UID:10008253-1698865200-1698876000@sftangowith.us
SUMMARY:Sunnyvale Practica @ The Moose Lodge
DESCRIPTION:We are all inclusive tango community of dedicated tango lovers .We come every Wednesday to work hard on improving our tango skills. Join us on this journey and enjoy welcoming environment and great music played by our DJ in residence Rene Quebec or a guest DJ. \n¡¡DO NOT: Double park\, block other cars\, block the fire lane\, park in disabled parking\, or in the front of the building!! \nAlternate parking locations: 1) Behind the building to the north at Fortinet or 2) one lot to the west at 901 Kifer.
URL:https://sftangowith.us/event/sunnyvale-practica-the-moose-lodge/2023-11-01/
LOCATION:Moose Lodge\, 922 Weddell Court\, Sunnyvale\, CA\, 94089\, United States
CATEGORIES:practica,Recommended for Visitors
GEO:37.3747868;-122.0099086
X-APPLE-STRUCTURED-LOCATION;VALUE=URI;X-ADDRESS=Moose Lodge 922 Weddell Court Sunnyvale CA 94089 United States;X-APPLE-RADIUS=500;X-TITLE=922 Weddell Court:geo:-122.0099086,37.3747868
END:VEVENT
BEGIN:VEVENT
DTSTART;TZID=America/Los_Angeles:20231101T190000
DTEND;TZID=America/Los_Angeles:20231101T220000
DTSTAMP:20260422T150559
CREATED:20230917T223446Z
LAST-MODIFIED:20231018T041344Z
UID:10009448-1698865200-1698876000@sftangowith.us
SUMMARY:Milonga La Bruja with Bandonegro (Live Music)
DESCRIPTION:Bandonegro is a world-class tango orchestra from Poland that plays traditional tango music\, tango nuevo music\, and original compositions influenced by jazz and classical music. They love playing for dancers! This is a queer-friendly milonga where all genders are welcome to lead and follow. Plenty of seating is available for listeners. Drinks (full bar) and refreshments are offered for sale. All ages. \n$25 general admission (cash only)\n$15 students with ID (cash only) \nOrchestra members:\nJakub Czechowicz: violin\nMarcin Antkowiak: double bass\nMarek Dolecki: piano\nMichał Główka: bandoneon \nWith DJ Jonas Aquino! \nThere is no dance class on this date. Join us for our milonga rhythms class starting Wednesday\, November 8th\, with Jonas and Xiaomin.\nEvent organized by Lindsey Newbold\nwww.labrujatangoberkeley.com\ninfo@nulllabrujatangoberkeley.com\nbandonegro.com/en/
URL:https://sftangowith.us/event/milonga-la-bruja-with-bandonegro-live-tango-music/
LOCATION:Berkeley City Club\, 2315 Durant Ave\, Berkeley\, 94704\, United States
CATEGORIES:milonga,music (live)
ATTACH;FMTTYPE=image/jpeg:https://sftangowith.us/wp-content/uploads/2023/09/bandonegrojump.jpg
ORGANIZER;CN="Berkeley City Club":MAILTO:info@labrujatangoberkeley.com
GEO:37.8676008;-122.2627745
X-APPLE-STRUCTURED-LOCATION;VALUE=URI;X-ADDRESS=Berkeley City Club 2315 Durant Ave Berkeley 94704 United States;X-APPLE-RADIUS=500;X-TITLE=2315 Durant Ave:geo:-122.2627745,37.8676008
END:VEVENT
BEGIN:VEVENT
DTSTART;TZID=America/Los_Angeles:20231101T190000
DTEND;TZID=America/Los_Angeles:20231101T230000
DTSTAMP:20260422T150559
CREATED:20231004T004631Z
LAST-MODIFIED:20231024T002518Z
UID:10009455-1698865200-1698879600@sftangowith.us
SUMMARY:Stanford Tango Series with Felipe & Ayano
DESCRIPTION:Come join the Stanford Tango Club for five weeks of Argentine tango classes with Felipe Martinez and Ayano Yoneda! These instructors teach and DJ around the world and we are so grateful to collaborate with them each year at Stanford. They provide insightful and precise instruction in a welcoming and joyous environment. \nStudents please register at https://forms.gle/zndmgBCEojvFV9xz9 \nWednesdays from October 11th – November 8th. This sign-up is for full series registration. Drop ins are allowed but the lessons will build on each other so it is suggested to commit for the full series. \nSchedule:\n7:00 – 8:30pm Fundamentals Class\n8:30 – 9:00pm Practica\n9:00 – 10:30pm Intermediate/ Advanced Class (6 months of experience required)\n10:30 – 11:00pm Practica \nPayment will be in person at the first session! \nPricing is for one full series only! x2 if you would like to take both fundamentals and intermediate.\n$100 for non-students\n$25 drop-in
URL:https://sftangowith.us/event/stanford-tango-series-with-felipe-ayano/2023-11-01/
LOCATION:Koret Pavilion\, 564 O'Connor Ln\, Stanford\, CA\, 94305\, United States
CATEGORIES:class,practica
ATTACH;FMTTYPE=image/jpeg:https://sftangowith.us/wp-content/uploads/2023/10/2023-10-Stanford-Tango-Series.jpg
GEO:37.4221895;-122.1679327
X-APPLE-STRUCTURED-LOCATION;VALUE=URI;X-ADDRESS=Koret Pavilion 564 O'Connor Ln Stanford CA 94305 United States;X-APPLE-RADIUS=500;X-TITLE=564 O'Connor Ln:geo:-122.1679327,37.4221895
END:VEVENT
BEGIN:VEVENT
DTSTART;TZID=America/Los_Angeles:20231101T200000
DTEND;TZID=America/Los_Angeles:20231101T220000
DTSTAMP:20260422T150559
CREATED:20231016T231849Z
LAST-MODIFIED:20231016T232249Z
UID:10009523-1698868800-1698876000@sftangowith.us
SUMMARY:Tango Fundamentals with Ramada & Elaine
DESCRIPTION:~This series is for beginners.\n~Suitable for beginner dancers who want to revisit and refine the basic elements.\n~Guided practice time included\n~Masks are recommended but not required.\n~Switch-role-friendly and queer-friendly.\n~ Parking lot across the street.\n620 El Camino Real\, Millbrae\, CA\nSeries package: $80 (4 classes\, $20/class+practica) pay on the 1st Wednesday of the month.\nDrop in: $25 per class + practica\nCash\, Venmo\, or Zelle
URL:https://sftangowith.us/event/tango-fundamentals-with-ramada-elaine-2/
LOCATION:Couture Yoga & Dance Studio\, 620 El Camino Real\, Milbrae\, CA\, 94030\, United States
CATEGORIES:class,practica
ATTACH;FMTTYPE=image/jpeg:https://sftangowith.us/wp-content/uploads/2023/08/AEF23B94-6373-47CD-B919-1D1515C2A5F4.jpg
END:VEVENT
END:VCALENDAR