BEGIN:VCALENDAR
VERSION:2.0
PRODID:-//SF Tango With.Us - ECPv6.6.2//NONSGML v1.0//EN
CALSCALE:GREGORIAN
METHOD:PUBLISH
X-WR-CALNAME:SF Tango With.Us
X-ORIGINAL-URL:https://sftangowith.us
X-WR-CALDESC:Events for SF Tango With.Us
REFRESH-INTERVAL;VALUE=DURATION:PT1H
X-Robots-Tag:noindex
X-PUBLISHED-TTL:PT1H
BEGIN:VTIMEZONE
TZID:America/Los_Angeles
BEGIN:DAYLIGHT
TZOFFSETFROM:-0800
TZOFFSETTO:-0700
TZNAME:PDT
DTSTART:20230312T100000
END:DAYLIGHT
BEGIN:STANDARD
TZOFFSETFROM:-0700
TZOFFSETTO:-0800
TZNAME:PST
DTSTART:20231105T090000
END:STANDARD
END:VTIMEZONE
BEGIN:VEVENT
DTSTART;TZID=America/Los_Angeles:20231104T110000
DTEND;TZID=America/Los_Angeles:20231104T160000
DTSTAMP:20260422T194903
CREATED:20230727T040913Z
LAST-MODIFIED:20230727T040913Z
UID:10008101-1699095600-1699113600@sftangowith.us
SUMMARY:Class & Practica w/ Glenn @ Bissap Baobab
DESCRIPTION:11:00 – 12:00 Basics Class\n12:00 – 01:00 Exploration / Improv Class\n01:00 – 04:00 PRACTICA \n$15/each class\n$20 – one class + practica\n$30 – two classes + practica\n$15 – Practica only \nBASICS CLASS is for all levels who wish to have a solid foundation by studying the language of tango. We focus on movement quality and clear communication. Master the basics! \nEXPLORATION / IMPROV is on learning how to dance with minimal effort\, get insight on improvisation\, plus grooving to the music. \nLet’s have fun! 🙂 \nsfotango@nullyahoo.com
URL:https://sftangowith.us/event/bissap-baobab-4/2023-11-04/
LOCATION:Bissap Baobab\, 2243 Mission Street\, San Francisco\, CA
CATEGORIES:class,practica,Recommended for Visitors
ATTACH;FMTTYPE=image/jpeg:https://sftangowith.us/wp-content/uploads/2022/09/Bissap-Baobab.jpg
GEO:37.7604434;-122.4187949
X-APPLE-STRUCTURED-LOCATION;VALUE=URI;X-ADDRESS=Bissap Baobab 2243 Mission Street San Francisco CA;X-APPLE-RADIUS=500;X-TITLE=2243 Mission Street:geo:-122.4187949,37.7604434
END:VEVENT
BEGIN:VEVENT
DTSTART;TZID=America/Los_Angeles:20231104T190000
DTEND;TZID=America/Los_Angeles:20231104T220000
DTSTAMP:20260422T194903
CREATED:20231026T221405Z
LAST-MODIFIED:20231026T221537Z
UID:10011100-1699124400-1699135200@sftangowith.us
SUMMARY:ATCB Milonga Fiat Lux w/ DJ Prashant
DESCRIPTION:The Argentine Tango Club of Berkeley is holding its first Milonga Fiat Lux of the semester on Sat Nov 4th from 7pm-10pm in Eshleman 240\, featuring DJ Prashant! \nPlease pre-register! \nCost is $15. Proceeds go directly to the club and help bring new folks into the Argentine Tango world! \nATCB is inclusive & queer-friendly to all genders\, non-binary & LGBTQIA+. Everyone is encouraged to dance in the role(s) that they want. We do not tolerate harassment or discrimination of any kind. \nQuestions? Ask us at ucbtango@nullgmail.com.
URL:https://sftangowith.us/event/atcb-milonga-fiat-lux-w-dj-prashant/
LOCATION:Eshleman Hall\, 2457 Bancroft Way\, Berkeley\, CA\, 94720-4501\, United States
CATEGORIES:milonga
ATTACH;FMTTYPE=image/jpeg:https://sftangowith.us/wp-content/uploads/2023/06/DJ-Prashant.jpeg
GEO:37.8687659;-122.2604844
X-APPLE-STRUCTURED-LOCATION;VALUE=URI;X-ADDRESS=Eshleman Hall 2457 Bancroft Way Berkeley CA 94720-4501 United States;X-APPLE-RADIUS=500;X-TITLE=2457 Bancroft Way:geo:-122.2604844,37.8687659
END:VEVENT
BEGIN:VEVENT
DTSTART;TZID=America/Los_Angeles:20231104T210000
DTEND;TZID=America/Los_Angeles:20231105T013000
DTSTAMP:20260422T194903
CREATED:20231006T174843Z
LAST-MODIFIED:20231016T221808Z
UID:10008642-1699131600-1699147800@sftangowith.us
SUMMARY:Che! Milonga w/ DJ Ayano
DESCRIPTION:Milonga: 9pm – 1:30am\nHosted by Ramada and Elaine \n$20: MILONGA ONLY\nCash or Venmo at the door \n~Fully Vaccinated Event. Vaccination information is required upon entry and masks are recommended but optional.\n~We are dedicated to providing a welcoming\, inclusive\, safe\, and comfortable environment for everyone\, regardless of gender\, age\, sexual orientation\, race\, ethnicity\, religion\, or any other characteristic or trait.\n~We reserve the right to refuse entry to anyone who causes discomfort\, unsafe feelings\, and physical hazards to our attendees.\n~Respect for the line of dance and floor craft is enforced.\n~This is a switch-role-friendly and queer-friendly event.\n~Bring your own beverage (BYOB)\, snacks\, and drinking vessels. Water will be provided.\n~Tables are first come first served\, no reservations.\n~Parking lot on site. Park in the numbered lots EXCEPT numbers: 24\, 25\, 28\, 29\, 30\, 31\, 35\, 36\, 40.
URL:https://sftangowith.us/event/che-milonga-14/
LOCATION:La Pista\, 3450 3rd St\, Building 5\, San Francisco\, CA\, 94124\, United States
CATEGORIES:milonga,Recommended for Visitors
ATTACH;FMTTYPE=image/jpeg:https://sftangowith.us/wp-content/uploads/2022/06/NTW2022-Ayano.jpg
GEO:37.7457575;-122.3878168
X-APPLE-STRUCTURED-LOCATION;VALUE=URI;X-ADDRESS=La Pista 3450 3rd St Building 5 San Francisco CA 94124 United States;X-APPLE-RADIUS=500;X-TITLE=3450 3rd St\, Building 5:geo:-122.3878168,37.7457575
END:VEVENT
END:VCALENDAR