BEGIN:VCALENDAR
VERSION:2.0
PRODID:-//SF Tango With.Us - ECPv6.6.2//NONSGML v1.0//EN
CALSCALE:GREGORIAN
METHOD:PUBLISH
X-ORIGINAL-URL:https://sftangowith.us
X-WR-CALDESC:Events for SF Tango With.Us
REFRESH-INTERVAL;VALUE=DURATION:PT1H
X-Robots-Tag:noindex
X-PUBLISHED-TTL:PT1H
BEGIN:VTIMEZONE
TZID:America/Los_Angeles
BEGIN:DAYLIGHT
TZOFFSETFROM:-0800
TZOFFSETTO:-0700
TZNAME:PDT
DTSTART:20230312T100000
END:DAYLIGHT
BEGIN:STANDARD
TZOFFSETFROM:-0700
TZOFFSETTO:-0800
TZNAME:PST
DTSTART:20231105T090000
END:STANDARD
END:VTIMEZONE
BEGIN:VEVENT
DTSTART;TZID=America/Los_Angeles:20231202T110000
DTEND;TZID=America/Los_Angeles:20231202T160000
DTSTAMP:20260422T031051
CREATED:20230727T040913Z
LAST-MODIFIED:20230727T040913Z
UID:10008105-1701514800-1701532800@sftangowith.us
SUMMARY:Class & Practica w/ Glenn @ Bissap Baobab
DESCRIPTION:11:00 – 12:00 Basics Class\n12:00 – 01:00 Exploration / Improv Class\n01:00 – 04:00 PRACTICA \n$15/each class\n$20 – one class + practica\n$30 – two classes + practica\n$15 – Practica only \nBASICS CLASS is for all levels who wish to have a solid foundation by studying the language of tango. We focus on movement quality and clear communication. Master the basics! \nEXPLORATION / IMPROV is on learning how to dance with minimal effort\, get insight on improvisation\, plus grooving to the music. \nLet’s have fun! 🙂 \nsfotango@nullyahoo.com
URL:https://sftangowith.us/event/bissap-baobab-4/2023-12-02/
LOCATION:Bissap Baobab\, 2243 Mission Street\, San Francisco\, CA
CATEGORIES:class,practica,Recommended for Visitors
ATTACH;FMTTYPE=image/jpeg:https://sftangowith.us/wp-content/uploads/2022/09/Bissap-Baobab.jpg
GEO:37.7604434;-122.4187949
X-APPLE-STRUCTURED-LOCATION;VALUE=URI;X-ADDRESS=Bissap Baobab 2243 Mission Street San Francisco CA;X-APPLE-RADIUS=500;X-TITLE=2243 Mission Street:geo:-122.4187949,37.7604434
END:VEVENT
BEGIN:VEVENT
DTSTART;TZID=America/Los_Angeles:20231202T180000
DTEND;TZID=America/Los_Angeles:20231202T210000
DTSTAMP:20260422T031051
CREATED:20231121T192349Z
LAST-MODIFIED:20231122T094901Z
UID:10011191-1701540000-1701550800@sftangowith.us
SUMMARY:Milonga Fiat Lux at UC Berkeley
DESCRIPTION:Please be sure to mark your calendar for our second milonga (social dance) of the semester\, Fiat Lux\, Saturday\, December 2nd from 6-9pm in Eshleman 240 (free entry for students/affiliates / $15 for community members). We are again looking for volunteers to help run the event — please sign up here if you’d like to lend us a hand! With DJ James Morris! \nLGTBQIA+ inclusive event \nFree entry for UCB students and affiliates\n$15 for community members\n \nPre-registration required:\nhttps://docs.google.com/forms/d/e/1FAIpQLSeyaZaFhP_4aOJLw5Gz4TGwjln827pyRKfrYI7txD5mkdrt_A/viewform \nEmail us if you have any questions\, or if you would like to volunteer!  See the email address in the image above.  Community members who volunteer will be granted free entry.
URL:https://sftangowith.us/event/milonga-fiat-lux-at-uc-berkeley/
LOCATION:240 Eshleman\, UC Berkeley\, 2465 Bancroft Way\, Berkeley\, CA\, 94704\, United States
CATEGORIES:milonga
ATTACH;FMTTYPE=image/jpeg:https://sftangowith.us/wp-content/uploads/2023/11/FiatLuzDec.jpg
GEO:37.8687522;-122.2604703
X-APPLE-STRUCTURED-LOCATION;VALUE=URI;X-ADDRESS=240 Eshleman UC Berkeley 2465 Bancroft Way Berkeley CA 94704 United States;X-APPLE-RADIUS=500;X-TITLE=2465 Bancroft Way:geo:-122.2604703,37.8687522
END:VEVENT
BEGIN:VEVENT
DTSTART;TZID=America/Los_Angeles:20231202T210000
DTEND;TZID=America/Los_Angeles:20231203T013000
DTSTAMP:20260422T031051
CREATED:20231113T235109Z
LAST-MODIFIED:20231113T235110Z
UID:10008643-1701550800-1701567000@sftangowith.us
SUMMARY:Che! Milonga w/ DJ Olga
DESCRIPTION:Milonga: 9pm – 1:30am\nHosted by Ramada and Elaine \n$20: MILONGA ONLY\nCash or Venmo at the door \n~Fully Vaccinated Event. Vaccination information is required upon entry and masks are recommended but optional.\n~We are dedicated to providing a welcoming\, inclusive\, safe\, and comfortable environment for everyone\, regardless of gender\, age\, sexual orientation\, race\, ethnicity\, religion\, or any other characteristic or trait.\n~We reserve the right to refuse entry to anyone who causes discomfort\, unsafe feelings\, and physical hazards to our attendees.\n~Respect for the line of dance and floor craft is enforced.\n~This is a switch-role-friendly and queer-friendly event.\n~Bring your own beverage (BYOB)\, snacks\, and drinking vessels. Water will be provided.\n~Tables are first come first served\, no reservations.\n~Parking lot on site. Park in the numbered lots EXCEPT numbers: 24\, 25\, 28\, 29\, 30\, 31\, 35\, 36\, 40.
URL:https://sftangowith.us/event/che-milonga-15/
LOCATION:La Pista\, 3450 3rd St\, Building 5\, San Francisco\, CA\, 94124\, United States
CATEGORIES:milonga,Recommended for Visitors
ATTACH;FMTTYPE=image/jpeg:https://sftangowith.us/wp-content/uploads/2017/06/Olga-Bogatova-DJ.jpg
GEO:37.7457575;-122.3878168
X-APPLE-STRUCTURED-LOCATION;VALUE=URI;X-ADDRESS=La Pista 3450 3rd St Building 5 San Francisco CA 94124 United States;X-APPLE-RADIUS=500;X-TITLE=3450 3rd St\, Building 5:geo:-122.3878168,37.7457575
END:VEVENT
BEGIN:VEVENT
DTSTART;TZID=America/Los_Angeles:20231202T210000
DTEND;TZID=America/Los_Angeles:20231203T013000
DTSTAMP:20260422T031051
CREATED:20231201T064126Z
LAST-MODIFIED:20231201T064127Z
UID:10009171-1701550800-1701567000@sftangowith.us
SUMMARY:Vecher Tango (Cancelled)
DESCRIPTION:
URL:https://sftangowith.us/event/vecher-tango-5-13-2/
LOCATION:Russian Center of San Francisco\, 2460 Sutter St\, San Francisco\, CA\, United States
GEO:37.7853848;-122.440907
X-APPLE-STRUCTURED-LOCATION;VALUE=URI;X-ADDRESS=Russian Center of San Francisco 2460 Sutter St San Francisco CA United States;X-APPLE-RADIUS=500;X-TITLE=2460 Sutter St:geo:-122.440907,37.7853848
END:VEVENT
END:VCALENDAR