BEGIN:VCALENDAR
VERSION:2.0
PRODID:-//SF Tango With.Us - ECPv6.6.2//NONSGML v1.0//EN
CALSCALE:GREGORIAN
METHOD:PUBLISH
X-ORIGINAL-URL:https://sftangowith.us
X-WR-CALDESC:Events for SF Tango With.Us
REFRESH-INTERVAL;VALUE=DURATION:PT1H
X-Robots-Tag:noindex
X-PUBLISHED-TTL:PT1H
BEGIN:VTIMEZONE
TZID:America/Los_Angeles
BEGIN:DAYLIGHT
TZOFFSETFROM:-0800
TZOFFSETTO:-0700
TZNAME:PDT
DTSTART:20230312T100000
END:DAYLIGHT
BEGIN:STANDARD
TZOFFSETFROM:-0700
TZOFFSETTO:-0800
TZNAME:PST
DTSTART:20231105T090000
END:STANDARD
END:VTIMEZONE
BEGIN:VEVENT
DTSTART;TZID=America/Los_Angeles:20231213T190000
DTEND;TZID=America/Los_Angeles:20231213T220000
DTSTAMP:20260422T093557
CREATED:20221208T041116Z
LAST-MODIFIED:20240725T045147Z
UID:10008259-1702494000-1702504800@sftangowith.us
SUMMARY:Sunnyvale Practica @ The Moose Lodge
DESCRIPTION:We are all inclusive tango community of dedicated tango lovers .We come every Wednesday to work hard on improving our tango skills. Join us on this journey and enjoy welcoming environment and great music played by our DJ in residence Rene Quebec or a guest DJ. \n¡¡DO NOT: Double park\, block other cars\, block the fire lane\, park in disabled parking\, or in the front of the building!! \nAlternate parking locations: 1) Behind the building to the north at Fortinet or 2) one lot to the west at 901 Kifer.
URL:https://sftangowith.us/event/sunnyvale-practica-the-moose-lodge/2023-12-13/
LOCATION:Moose Lodge\, 922 Weddell Court\, Sunnyvale\, CA\, 94089\, United States
CATEGORIES:practica,Recommended for Visitors
GEO:37.3747868;-122.0099086
X-APPLE-STRUCTURED-LOCATION;VALUE=URI;X-ADDRESS=Moose Lodge 922 Weddell Court Sunnyvale CA 94089 United States;X-APPLE-RADIUS=500;X-TITLE=922 Weddell Court:geo:-122.0099086,37.3747868
END:VEVENT
BEGIN:VEVENT
DTSTART;TZID=America/Los_Angeles:20231213T200000
DTEND;TZID=America/Los_Angeles:20231213T220000
DTSTAMP:20260422T093557
CREATED:20230911T235516Z
LAST-MODIFIED:20231024T002346Z
UID:10010012-1702497600-1702504800@sftangowith.us
SUMMARY:Tango Fundamentals with Ramada & Elaine
DESCRIPTION:~This series is for beginners.\n~Suitable for beginner dancers who want to revisit and refine the basic elements.\n~Guided practice time included\n~Masks are recommended but not required.\n~Switch-role-friendly and queer-friendly.\n~ Parking lot across the street.\n620 El Camino Real\, Millbrae\, CA\nSeries package: $80 (4 classes\, $20/class+practica) pay on the 1st Wednesday of the month.\nDrop in: $25 per class + practica\nCash\, Venmo\, or Zelle
URL:https://sftangowith.us/event/tango-fundamentals-with-ramada-elaine/2023-12-13/
LOCATION:Couture Yoga & Dance Studio\, 620 El Camino Real\, Milbrae\, CA\, 94030\, United States
CATEGORIES:class,practica
ATTACH;FMTTYPE=image/jpeg:https://sftangowith.us/wp-content/uploads/2023/08/AEF23B94-6373-47CD-B919-1D1515C2A5F4.jpg
END:VEVENT
END:VCALENDAR