BEGIN:VCALENDAR
VERSION:2.0
PRODID:-//SF Tango With.Us - ECPv6.6.2//NONSGML v1.0//EN
CALSCALE:GREGORIAN
METHOD:PUBLISH
X-ORIGINAL-URL:https://sftangowith.us
X-WR-CALDESC:Events for SF Tango With.Us
REFRESH-INTERVAL;VALUE=DURATION:PT1H
X-Robots-Tag:noindex
X-PUBLISHED-TTL:PT1H
BEGIN:VTIMEZONE
TZID:America/Los_Angeles
BEGIN:DAYLIGHT
TZOFFSETFROM:-0800
TZOFFSETTO:-0700
TZNAME:PDT
DTSTART:20230312T100000
END:DAYLIGHT
BEGIN:STANDARD
TZOFFSETFROM:-0700
TZOFFSETTO:-0800
TZNAME:PST
DTSTART:20231105T090000
END:STANDARD
END:VTIMEZONE
BEGIN:VEVENT
DTSTART;TZID=America/Los_Angeles:20231227T190000
DTEND;TZID=America/Los_Angeles:20231227T220000
DTSTAMP:20260422T093552
CREATED:20221208T041116Z
LAST-MODIFIED:20240725T045147Z
UID:10008261-1703703600-1703714400@sftangowith.us
SUMMARY:Sunnyvale Practica @ The Moose Lodge
DESCRIPTION:We are all inclusive tango community of dedicated tango lovers .We come every Wednesday to work hard on improving our tango skills. Join us on this journey and enjoy welcoming environment and great music played by our DJ in residence Rene Quebec or a guest DJ. \n¡¡DO NOT: Double park\, block other cars\, block the fire lane\, park in disabled parking\, or in the front of the building!! \nAlternate parking locations: 1) Behind the building to the north at Fortinet or 2) one lot to the west at 901 Kifer.
URL:https://sftangowith.us/event/sunnyvale-practica-the-moose-lodge/2023-12-27/
LOCATION:Moose Lodge\, 922 Weddell Court\, Sunnyvale\, CA\, 94089\, United States
CATEGORIES:practica,Recommended for Visitors
GEO:37.3747868;-122.0099086
X-APPLE-STRUCTURED-LOCATION;VALUE=URI;X-ADDRESS=Moose Lodge 922 Weddell Court Sunnyvale CA 94089 United States;X-APPLE-RADIUS=500;X-TITLE=922 Weddell Court:geo:-122.0099086,37.3747868
END:VEVENT
BEGIN:VEVENT
DTSTART;TZID=America/Los_Angeles:20231227T190000
DTEND;TZID=America/Los_Angeles:20231227T220000
DTSTAMP:20260422T093552
CREATED:20231109T231353Z
LAST-MODIFIED:20231212T181824Z
UID:10011502-1703703600-1703714400@sftangowith.us
SUMMARY:Tango with Céline from Paris:  mixed-level class and practica
DESCRIPTION:Céline Tiberghien is visiting from Paris for one month only!  The founder and organizer of Collectif Queer Tangolibero\, Celine is a highly experienced\, professional tango teacher who is equally amazing at leading and following. This class is taught as “leaders” and “followers” and is inclusive to folks of all genders\, non-binary & LGBTQ+.  Beginners are welcome. \n6:45-7:00 pm:  check in\n7:00-8:00 pm: tango class\n8:00-10:00 pm: tango practica and extra help \n$20 general admission (cash only)\n$15 students with ID (cash only)\n$10 practica without class (cash only) \nNo partner necessary. All ages welcome. \nWe are in the ballroom (with wooden floor) on Dec. 6th\, 20th\, and 27th. \nWe are a 10-minute walk from Downtown Berkeley BART. For bike parking\, use the bell to enter through the service entrance\, and go straight to get to the back courtyard. No parking in the City Club lot. Extra parking is available for $2 per hour at the Ellsworth Structure at 2337 Haste St. \nBerkeley City Club\n2315 Durant Ave.\nBerkeley\, CA 94704 \nFrom Céline:\nWhat tango means to me\nBeyond the pleasure of dance and movement\, I think tango is a unique journey towards an in-depth knowledge of yourself and your relationship to others. The search for connection\, the sensation of being simultaneously light and grounded\, and the ability to express my entire being lie at the heart of my passion for this dance. My teaching is strongly influenced by all these key aspects\, and also by the individuals who practice the dance. It seems to me that there are as many tangos as there are tango dancers…\n\nSuper-brief bio of Céline:\n2013 to present – Director of Echos Tango\n2016 – 2019 – Founder and coordinator of Collectif Queer Tangolibero\n2016 – 2019 – Dancer-performer and choreographer of the Tango and Burlesque Duo Edith & Marcelle\n2015 – 2016 – Co-organizer of the La Vie en Rose international Queer tango festival.\n2010 – 2012 – Co-founder and teacher of Tango Queer in Paris alongside Miranda Lindelow.\n\nEvent organized by Lindsey Newbold\nwww.labrujatangoberkeley.com
URL:https://sftangowith.us/event/tango-with-celine-from-paris-beginner-friendly-class-and-practica/2023-12-27/
LOCATION:Berkeley City Club\, 2315 Durant Ave\, Berkeley\, 94704\, United States
CATEGORIES:class,practica
ATTACH;FMTTYPE=image/jpeg:https://sftangowith.us/wp-content/uploads/2023/11/Celinepink.jpg
ORGANIZER;CN="Berkeley City Club":MAILTO:info@labrujatangoberkeley.com
GEO:37.8676008;-122.2627745
X-APPLE-STRUCTURED-LOCATION;VALUE=URI;X-ADDRESS=Berkeley City Club 2315 Durant Ave Berkeley 94704 United States;X-APPLE-RADIUS=500;X-TITLE=2315 Durant Ave:geo:-122.2627745,37.8676008
END:VEVENT
BEGIN:VEVENT
DTSTART;TZID=America/Los_Angeles:20231227T200000
DTEND;TZID=America/Los_Angeles:20231227T220000
DTSTAMP:20260422T093552
CREATED:20230911T235516Z
LAST-MODIFIED:20231024T002346Z
UID:10010014-1703707200-1703714400@sftangowith.us
SUMMARY:Tango Fundamentals with Ramada & Elaine
DESCRIPTION:~This series is for beginners.\n~Suitable for beginner dancers who want to revisit and refine the basic elements.\n~Guided practice time included\n~Masks are recommended but not required.\n~Switch-role-friendly and queer-friendly.\n~ Parking lot across the street.\n620 El Camino Real\, Millbrae\, CA\nSeries package: $80 (4 classes\, $20/class+practica) pay on the 1st Wednesday of the month.\nDrop in: $25 per class + practica\nCash\, Venmo\, or Zelle
URL:https://sftangowith.us/event/tango-fundamentals-with-ramada-elaine/2023-12-27/
LOCATION:Couture Yoga & Dance Studio\, 620 El Camino Real\, Milbrae\, CA\, 94030\, United States
CATEGORIES:class,practica
ATTACH;FMTTYPE=image/jpeg:https://sftangowith.us/wp-content/uploads/2023/08/AEF23B94-6373-47CD-B919-1D1515C2A5F4.jpg
END:VEVENT
END:VCALENDAR