BEGIN:VCALENDAR
VERSION:2.0
PRODID:-//SF Tango With.Us - ECPv6.6.2//NONSGML v1.0//EN
CALSCALE:GREGORIAN
METHOD:PUBLISH
X-WR-CALNAME:SF Tango With.Us
X-ORIGINAL-URL:https://sftangowith.us
X-WR-CALDESC:Events for SF Tango With.Us
REFRESH-INTERVAL;VALUE=DURATION:PT1H
X-Robots-Tag:noindex
X-PUBLISHED-TTL:PT1H
BEGIN:VTIMEZONE
TZID:America/Los_Angeles
BEGIN:DAYLIGHT
TZOFFSETFROM:-0800
TZOFFSETTO:-0700
TZNAME:PDT
DTSTART:20240310T100000
END:DAYLIGHT
BEGIN:STANDARD
TZOFFSETFROM:-0700
TZOFFSETTO:-0800
TZNAME:PST
DTSTART:20241103T090000
END:STANDARD
END:VTIMEZONE
BEGIN:VEVENT
DTSTART;TZID=America/Los_Angeles:20240113T153000
DTEND;TZID=America/Los_Angeles:20240113T183000
DTSTAMP:20260422T150436
CREATED:20241210T015625Z
LAST-MODIFIED:20241210T015625Z
UID:10011104-1705159800-1705170600@sftangowith.us
SUMMARY:Mixed Music Practica @ The Beat w/ Homer
DESCRIPTION:Welcome to a new Saturday-afternoon mixed music tango practice at The Beat\, hosted by Homer Ladas. This event is restricted to participants who are fully vaccinated (verification at the door is required). Partner switching is permitted\, and masks are optional. \n$20 (cash or paypal)
URL:https://sftangowith.us/event/mixed-music-practica-the-beat-w-homer-3/
LOCATION:The Beat\, 2560 Ninth Street\, Berkeley\, CA\, United States
CATEGORIES:milonga,practica,Recommended for Visitors
ATTACH;FMTTYPE=image/jpeg:https://sftangowith.us/wp-content/uploads/2021/05/Mixed-Music-Tango-Practica-at-The-Beat.jpg
GEO:37.8591971;-122.2917693
X-APPLE-STRUCTURED-LOCATION;VALUE=URI;X-ADDRESS=The Beat 2560 Ninth Street Berkeley CA United States;X-APPLE-RADIUS=500;X-TITLE=2560 Ninth Street:geo:-122.2917693,37.8591971
END:VEVENT
BEGIN:VEVENT
DTSTART;TZID=America/Los_Angeles:20240113T210000
DTEND;TZID=America/Los_Angeles:20240114T013000
DTSTAMP:20260422T150436
CREATED:20240103T011515Z
LAST-MODIFIED:20240103T011516Z
UID:10010981-1705179600-1705195800@sftangowith.us
SUMMARY:Che! Milonga w/ DJ Dhruv
DESCRIPTION:Milonga: 9pm – 1:30am\nHosted by Ramada and Elaine \n$20: MILONGA ONLY\nCash or Venmo at the door \n~Fully Vaccinated Event. Vaccination information is required upon entry and masks are recommended but optional.\n~We are dedicated to providing a welcoming\, inclusive\, safe\, and comfortable environment for everyone\, regardless of gender\, age\, sexual orientation\, race\, ethnicity\, religion\, or any other characteristic or trait.\n~We reserve the right to refuse entry to anyone who causes discomfort\, unsafe feelings\, and physical hazards to our attendees.\n~Respect for the line of dance and floor craft is enforced.\n~This is a switch-role-friendly and queer-friendly event.\n~Bring your own beverage (BYOB)\, snacks\, and drinking vessels. Water will be provided.\n~Tables are first come first served\, no reservations.\n~Parking lot on site. Park in the numbered lots EXCEPT numbers: 24\, 25\, 28\, 29\, 30\, 31\, 35\, 36\, 40.
URL:https://sftangowith.us/event/che-milonga-2-11/
LOCATION:La Pista\, 3450 3rd St\, Building 5\, San Francisco\, CA\, 94124\, United States
CATEGORIES:milonga,Recommended for Visitors
ATTACH;FMTTYPE=image/jpeg:https://sftangowith.us/wp-content/uploads/2022/12/Che-1-13-story.jpg
GEO:37.7457575;-122.3878168
X-APPLE-STRUCTURED-LOCATION;VALUE=URI;X-ADDRESS=La Pista 3450 3rd St Building 5 San Francisco CA 94124 United States;X-APPLE-RADIUS=500;X-TITLE=3450 3rd St\, Building 5:geo:-122.3878168,37.7457575
END:VEVENT
END:VCALENDAR