BEGIN:VCALENDAR
VERSION:2.0
PRODID:-//SF Tango With.Us - ECPv6.6.2//NONSGML v1.0//EN
CALSCALE:GREGORIAN
METHOD:PUBLISH
X-ORIGINAL-URL:https://sftangowith.us
X-WR-CALDESC:Events for SF Tango With.Us
REFRESH-INTERVAL;VALUE=DURATION:PT1H
X-Robots-Tag:noindex
X-PUBLISHED-TTL:PT1H
BEGIN:VTIMEZONE
TZID:America/Los_Angeles
BEGIN:DAYLIGHT
TZOFFSETFROM:-0800
TZOFFSETTO:-0700
TZNAME:PDT
DTSTART:20240310T100000
END:DAYLIGHT
BEGIN:STANDARD
TZOFFSETFROM:-0700
TZOFFSETTO:-0800
TZNAME:PST
DTSTART:20241103T090000
END:STANDARD
END:VTIMEZONE
BEGIN:VEVENT
DTSTART;TZID=America/Los_Angeles:20240116T190000
DTEND;TZID=America/Los_Angeles:20240116T230000
DTSTAMP:20260422T163046
CREATED:20240116T085435Z
LAST-MODIFIED:20240116T085435Z
UID:10011935-1705431600-1705446000@sftangowith.us
SUMMARY:Tango Tuesdays w/ Christy & Carolina (Live music w/ LOFT Orchestra)
DESCRIPTION:The L.O.F.T. Orchestra plays 1/16 only! \n7:00 – 7:55   Beg/int class w/Christy & Carolina\n7:55 – 8:15   practica\n8:15 – 9:15   int/adv class w/Christy & Carolina “Volcadas and Volcada variations” (Jan)\n9:15 – 11:00   Practica with live music. \n$20 for beg/int class\n$25 for int/adv class\n$40 for both classes\nIncludes práctica with live music
URL:https://sftangowith.us/event/tango-tuesdays-w-christy-carolina-live-music-w-loft-orchestra/
LOCATION:La Pista\, 3450 3rd St\, Building 5\, San Francisco\, CA\, 94124\, United States
CATEGORIES:class,music (live),practica
GEO:37.7457575;-122.3878168
X-APPLE-STRUCTURED-LOCATION;VALUE=URI;X-ADDRESS=La Pista 3450 3rd St Building 5 San Francisco CA 94124 United States;X-APPLE-RADIUS=500;X-TITLE=3450 3rd St\, Building 5:geo:-122.3878168,37.7457575
END:VEVENT
BEGIN:VEVENT
DTSTART;TZID=America/Los_Angeles:20240116T203000
DTEND;TZID=America/Los_Angeles:20240117T000000
DTSTAMP:20260422T163046
CREATED:20240116T085202Z
LAST-MODIFIED:20240116T085202Z
UID:10008471-1705437000-1705449600@sftangowith.us
SUMMARY:El Valenciano Milonga w/ DJ Kostas
DESCRIPTION:8:30pm – Zero Hour\n$20\n$15 (w/ full-time college student ID)
URL:https://sftangowith.us/event/el-valenciano-milonga-23-55/
LOCATION:El Valenciano\, 1153 Valencia Street\, San Francisco\, CA\, United States
CATEGORIES:class,milonga,Recommended for Visitors
ATTACH;FMTTYPE=image/jpeg:https://sftangowith.us/wp-content/uploads/2022/11/Kostas-DJ.jpg
GEO:37.7545379;-122.4205807
X-APPLE-STRUCTURED-LOCATION;VALUE=URI;X-ADDRESS=El Valenciano 1153 Valencia Street San Francisco CA United States;X-APPLE-RADIUS=500;X-TITLE=1153 Valencia Street:geo:-122.4205807,37.7545379
END:VEVENT
END:VCALENDAR