BEGIN:VCALENDAR
VERSION:2.0
PRODID:-//SF Tango With.Us - ECPv6.6.2//NONSGML v1.0//EN
CALSCALE:GREGORIAN
METHOD:PUBLISH
X-ORIGINAL-URL:https://sftangowith.us
X-WR-CALDESC:Events for SF Tango With.Us
REFRESH-INTERVAL;VALUE=DURATION:PT1H
X-Robots-Tag:noindex
X-PUBLISHED-TTL:PT1H
BEGIN:VTIMEZONE
TZID:America/Los_Angeles
BEGIN:DAYLIGHT
TZOFFSETFROM:-0800
TZOFFSETTO:-0700
TZNAME:PDT
DTSTART:20240310T100000
END:DAYLIGHT
BEGIN:STANDARD
TZOFFSETFROM:-0700
TZOFFSETTO:-0800
TZNAME:PST
DTSTART:20241103T090000
END:STANDARD
END:VTIMEZONE
BEGIN:VEVENT
DTSTART;TZID=America/Los_Angeles:20240203T164500
DTEND;TZID=America/Los_Angeles:20240203T200000
DTSTAMP:20260422T182612
CREATED:20240129T205541Z
LAST-MODIFIED:20240129T205709Z
UID:10012013-1706978700-1706990400@sftangowith.us
SUMMARY:Tea & Tango Practica w/ LOFT Orchestra (Live Music)
DESCRIPTION:Welcome to the Tea & Tango practica where absolute beginners and experienced tango dancers can enjoy live music\, dancing & savoury flavours of puerh tea. \nHosted in a historic heritage house in Palo Alto\, where you can indulge in conversations\, dancing and the work of talented musicians in a safe\, warm\, beautiful setting. \nDoors open at 4:45 PM\nPractica……………….5:00p to 8:00\nTea………………………5:15 to 8:00\nLive Show……………..6:00 to 6:45\nEmpanadas……………6:45 to 8:00p\n———LIVE MUSIC—————-\nOn Saturday Feb 3 we are hosting L.O.F.T at 6:00 PM!\nLa Orquesta de Fusión Tango\nL.O.F.T. is a volunteer orchestra for the San Francisco Bay Tango community. They love to perform the tango dance community! Many of them are tango dancers themselves. L.O.F.T. is directed by Melissa Bowman\, flutist\, and arranger.
URL:https://sftangowith.us/event/tea-tango-practica-w-loft-orchestra-live-music/
LOCATION:Feeling Flow\, 1680 Bryant St\, Palo Alto\, CA\, 94301\, United States
CATEGORIES:music (live),practica
ATTACH;FMTTYPE=image/jpeg:https://sftangowith.us/wp-content/uploads/2024/01/Tea-and-Tango-LOFT.jpg
END:VEVENT
BEGIN:VEVENT
DTSTART;TZID=America/Los_Angeles:20240203T210000
DTEND;TZID=America/Los_Angeles:20240204T013000
DTSTAMP:20260422T182612
CREATED:20240120T095401Z
LAST-MODIFIED:20240120T095401Z
UID:10011027-1706994000-1707010200@sftangowith.us
SUMMARY:Che! Milonga w/ DJ Selene
DESCRIPTION:Milonga: 9pm – 1:30am\nHosted by Ramada and Elaine \n$20: MILONGA ONLY\nCash or Venmo at the door \n~Fully Vaccinated Event. Vaccination information is required upon entry and masks are recommended but optional.\n~We are dedicated to providing a welcoming\, inclusive\, safe\, and comfortable environment for everyone\, regardless of gender\, age\, sexual orientation\, race\, ethnicity\, religion\, or any other characteristic or trait.\n~We reserve the right to refuse entry to anyone who causes discomfort\, unsafe feelings\, and physical hazards to our attendees.\n~Respect for the line of dance and floor craft is enforced.\n~This is a switch-role-friendly and queer-friendly event.\n~Bring your own beverage (BYOB)\, snacks\, and drinking vessels. Water will be provided.\n~Tables are first come first served\, no reservations.\n~Parking lot on site. Park in the numbered lots EXCEPT numbers: 24\, 25\, 28\, 29\, 30\, 31\, 35\, 36\, 40.
URL:https://sftangowith.us/event/che-milonga-17/
LOCATION:La Pista\, 3450 3rd St\, Building 5\, San Francisco\, CA\, 94124\, United States
CATEGORIES:milonga,Recommended for Visitors
ATTACH;FMTTYPE=image/jpeg:https://sftangowith.us/wp-content/uploads/2022/08/CheMilonga_default.jpeg
GEO:37.7457575;-122.3878168
X-APPLE-STRUCTURED-LOCATION;VALUE=URI;X-ADDRESS=La Pista 3450 3rd St Building 5 San Francisco CA 94124 United States;X-APPLE-RADIUS=500;X-TITLE=3450 3rd St\, Building 5:geo:-122.3878168,37.7457575
END:VEVENT
BEGIN:VEVENT
DTSTART;TZID=America/Los_Angeles:20240203T210000
DTEND;TZID=America/Los_Angeles:20240204T013000
DTSTAMP:20260422T182612
CREATED:20240129T204847Z
LAST-MODIFIED:20240129T204848Z
UID:10011621-1706994000-1707010200@sftangowith.us
SUMMARY:Vecher Tango w/ DJ Jonathan Yamauchi
DESCRIPTION:8:00 – 9:00 Basics Series Class/Workshop\n9:00 – 1:30a Milonga \n$20 Milonga only\n$25 Class + Milonga\n$10 Class only\n$10 after Midnight\nMasks highly recommended \nAwesome sound system\, silk smooth floor\, Art Deco ambiance\, great space for dancing! Basics Series class with Glenn Corteza prior to milonga. Full licensed bar with zakuski (light snacks). No outside alcohol please. Bar opens at 9pm. Small table reservations for a party of 2 – 3\, large table reservation for 4- 8. \nvechertango@nullgmail.com
URL:https://sftangowith.us/event/vecher-tango-5-13-4-3/
LOCATION:Russian Center of San Francisco\, 2460 Sutter St\, San Francisco\, CA\, United States
CATEGORIES:class,milonga
GEO:37.7853848;-122.440907
X-APPLE-STRUCTURED-LOCATION;VALUE=URI;X-ADDRESS=Russian Center of San Francisco 2460 Sutter St San Francisco CA United States;X-APPLE-RADIUS=500;X-TITLE=2460 Sutter St:geo:-122.440907,37.7853848
END:VEVENT
END:VCALENDAR