BEGIN:VCALENDAR
VERSION:2.0
PRODID:-//SF Tango With.Us - ECPv6.6.2//NONSGML v1.0//EN
CALSCALE:GREGORIAN
METHOD:PUBLISH
X-WR-CALNAME:SF Tango With.Us
X-ORIGINAL-URL:https://sftangowith.us
X-WR-CALDESC:Events for SF Tango With.Us
REFRESH-INTERVAL;VALUE=DURATION:PT1H
X-Robots-Tag:noindex
X-PUBLISHED-TTL:PT1H
BEGIN:VTIMEZONE
TZID:America/Los_Angeles
BEGIN:DAYLIGHT
TZOFFSETFROM:-0800
TZOFFSETTO:-0700
TZNAME:PDT
DTSTART:20240310T100000
END:DAYLIGHT
BEGIN:STANDARD
TZOFFSETFROM:-0700
TZOFFSETTO:-0800
TZNAME:PST
DTSTART:20241103T090000
END:STANDARD
END:VTIMEZONE
BEGIN:VEVENT
DTSTART;VALUE=DATE:20240328
DTEND;VALUE=DATE:20240402
DTSTAMP:20260423T013018
CREATED:20240227T213709Z
LAST-MODIFIED:20240227T213709Z
UID:10012097-1711609200-1711954799@sftangowith.us
SUMMARY:ATUSA Tango Championship & Festival
DESCRIPTION:ATUSA is a national event & the only OFFICIAL BRANCH of TANGO BUENOS AIRES DANCE WORLD CUP in the US\, sanctioned by the Buenos Aires Ministry of Culture & the Tango BA Dance World Cup. \nATUSA FESTIVAL:\n4 Master couples + 4 great experienced DJs + 4 evening milongas + 3 matinee milongas + 32 tango workshops + 1 Special DJ Workshop + 2 spectacular Master Shows & the OFFICIAL USA TANGO CHAMPIONSHIP! \nRENOWNED MAESTROS\nLorena Ermocida & Pancho Martinez Pey\nJunior Cervila & Guadalupe Garcia\nCarla Rossi & Jose Luis Salvo\nPaloma Berrios & Maximiliano Alvarado \nDJS\nRodrigo Saraibe\nAvik Basu\nCostas Aretos\nBrick Robbins
URL:https://sftangowith.us/event/atusa-tango-championship-festival-2024/
LOCATION:Double Tree Hotel\, 2050 Gateway Place\, San Jose\, CA
CATEGORIES:festival
ATTACH;FMTTYPE=image/jpeg:https://sftangowith.us/wp-content/uploads/2024/02/Tango-USA-2024.jpg
GEO:37.3717496;-121.9226256
X-APPLE-STRUCTURED-LOCATION;VALUE=URI;X-ADDRESS=Double Tree Hotel 2050 Gateway Place San Jose CA;X-APPLE-RADIUS=500;X-TITLE=2050 Gateway Place:geo:-121.9226256,37.3717496
END:VEVENT
BEGIN:VEVENT
DTSTART;TZID=America/Los_Angeles:20240330T190000
DTEND;TZID=America/Los_Angeles:20240331T000000
DTSTAMP:20260423T013018
CREATED:20240313T052224Z
LAST-MODIFIED:20240313T052257Z
UID:10012143-1711825200-1711843200@sftangowith.us
SUMMARY:Allegro Milonga w/ Claudia Cortes & Martu Salem Workshop
DESCRIPTION:This week we welcome Claudia Cortes & Martu Salem to teach a workshop + Performances during the Milonga. \nMilonga with Guest DJ Michael Arntz with his new collection of tandas\, and a huge dance floor. \n7:00 – 7:30 Beg Class\n7:30 – 9:00 Workshop for all Levels with Claudia & Martu\n9:00 – 12:00a Milonga with Guest DJ: Michael Arntz \nWorkshop + Milonga=$25\nMilonga + Shows: $15 \nPlenty of free-lighted parking! Allegro entrance is next to the Grocery Outlet entrance across the street from Planet Fitness.
URL:https://sftangowith.us/event/allegro-milonga-w-claudia-cortes-martu-salem-workshop/
LOCATION:Allegro Ballroom\, 12012 San Pablo Avenue\, Richmond\, CA\, 94805\, United States
CATEGORIES:milonga,workshop
ATTACH;FMTTYPE=image/jpeg:https://sftangowith.us/wp-content/uploads/2022/12/Claudia-Cortes-Martu-Salem.jpg
GEO:37.9312035;-122.3224852
X-APPLE-STRUCTURED-LOCATION;VALUE=URI;X-ADDRESS=Allegro Ballroom 12012 San Pablo Avenue Richmond CA 94805 United States;X-APPLE-RADIUS=500;X-TITLE=12012 San Pablo Avenue:geo:-122.3224852,37.9312035
END:VEVENT
BEGIN:VEVENT
DTSTART;TZID=America/Los_Angeles:20240330T200000
DTEND;TZID=America/Los_Angeles:20240331T030000
DTSTAMP:20260423T013018
CREATED:20231203T112138Z
LAST-MODIFIED:20240228T103926Z
UID:10008885-1711828800-1711854000@sftangowith.us
SUMMARY:All Night Milonga: DJ Howoon + Diego & Alejandra @ The Beat
DESCRIPTION:This month’s milonga is on the 5th Saturday\, Mar 30 and your hosts are Jonas and Xiaomin. \n8 pm – 9 pm   Class with guest teachers Diego Lanau & Alejandra Saravia\n9 pm – 3 am   Milonga with guest DJ Howoon Chung \nWe’ll provide refreshments throughout the night. You’re also welcome to bring snacks to share!\n(Please give your name and list of ingredients to Xiaomin and she’ll provide a label for you.)\n\nSliding scale*\n$30-35 class & milonga\n$20-25 milonga only\n* you can pay any amount in between\nVenmo (jonastango) or PayPal (xiaomin)\nCash accepted at the door \nHigh-quality masks are advised.\nRegistration is required only for first-time attendees since 2021:\nwww.jonastango.com/jx-at-the-beat/\n\nMore details:\nhttps://www.facebook.com/groups/587339038104024
URL:https://sftangowith.us/event/all-nighter-2024-3-30/
LOCATION:The Beat\, 2560 Ninth Street\, Berkeley\, CA\, United States
CATEGORIES:all-nighter,milonga,Recommended for Visitors
ATTACH;FMTTYPE=image/png:https://sftangowith.us/wp-content/uploads/2023/12/20240330.ANM_IG1.png
GEO:37.8591971;-122.2917693
X-APPLE-STRUCTURED-LOCATION;VALUE=URI;X-ADDRESS=The Beat 2560 Ninth Street Berkeley CA United States;X-APPLE-RADIUS=500;X-TITLE=2560 Ninth Street:geo:-122.2917693,37.8591971
END:VEVENT
END:VCALENDAR