BEGIN:VCALENDAR
VERSION:2.0
PRODID:-//SF Tango With.Us - ECPv6.6.2//NONSGML v1.0//EN
CALSCALE:GREGORIAN
METHOD:PUBLISH
X-ORIGINAL-URL:https://sftangowith.us
X-WR-CALDESC:Events for SF Tango With.Us
REFRESH-INTERVAL;VALUE=DURATION:PT1H
X-Robots-Tag:noindex
X-PUBLISHED-TTL:PT1H
BEGIN:VTIMEZONE
TZID:America/Los_Angeles
BEGIN:DAYLIGHT
TZOFFSETFROM:-0800
TZOFFSETTO:-0700
TZNAME:PDT
DTSTART:20240310T100000
END:DAYLIGHT
BEGIN:STANDARD
TZOFFSETFROM:-0700
TZOFFSETTO:-0800
TZNAME:PST
DTSTART:20241103T090000
END:STANDARD
END:VTIMEZONE
BEGIN:VEVENT
DTSTART;VALUE=DATE:20240502
DTEND;VALUE=DATE:20240507
DTSTAMP:20260423T124338
CREATED:20240103T011904Z
LAST-MODIFIED:20240423T003511Z
UID:10011927-1714633200-1714978799@sftangowith.us
SUMMARY:Ines & Corina in San Francisco
DESCRIPTION:Day 1 Friday: Techniques for both roles (All Levels) \nWS1 7:00-8:30pm \n– The relationship between my body and the ground\n– Analyzing the different points of my base\n– Normal mistakes that affect my corporal order\n– How to work the pushing of the ground \nWS2 8:45-10:15pm \n– Basic connections to create clear communication with your partner\n– How to use the weight of the hip to get more stability\n– Apply the previous elements in relation to the tango couple \n————————————————————————————————————————————– \nDay 2 – Saturday: All about the Embrace (Int) \nWS3 2:00-3:30pm \n– Close embrace\, finding spaces inside \nWS4 3:45-5:15pm \n– Using different positions (rolling/sliding) depending the situation that the movement needs \n————————————————————————————————————————————– \nDay 3 – Sunday: Improvisation (Int/Adv) \nWS5 2:00-3:30pm \n– Opposites situations during our improvisation:\n– Associated and disassociated leads \nWS6 3:45-5:15pm \n– Moving with spirals or blocking?\n– Relaxing or blocking our joints \nCost: \nFULL PACKAGE: $210/person\, $420/couple (6 WS – Fri\, Sat & Sun)\nPER DAY: $80/person\, $160/couple (2 WS – Fri / Sat / Sun) \n* NO PARTNER NEEDED TO SIGN UP FOR WORKSHOPS! \nHowever\, coming with a partner for the intensive learning experience is always preferred.\nTheir performance will be at a special Che! Milonga @ La Pista on May 4th
URL:https://sftangowith.us/event/ines-corina-in-san-francisco/
LOCATION:La Pista\, 3450 3rd St\, Building 5\, San Francisco\, CA\, 94124\, United States
CATEGORIES:workshop
ATTACH;FMTTYPE=image/jpeg:https://sftangowith.us/wp-content/uploads/2024/01/IC-FB-event-copy.jpg
GEO:37.7457575;-122.3878168
X-APPLE-STRUCTURED-LOCATION;VALUE=URI;X-ADDRESS=La Pista 3450 3rd St Building 5 San Francisco CA 94124 United States;X-APPLE-RADIUS=500;X-TITLE=3450 3rd St\, Building 5:geo:-122.3878168,37.7457575
END:VEVENT
BEGIN:VEVENT
DTSTART;TZID=America/Los_Angeles:20240502T190000
DTEND;TZID=America/Los_Angeles:20240502T230000
DTSTAMP:20260423T124338
CREATED:20240417T201507Z
LAST-MODIFIED:20240417T203105Z
UID:10012557-1714676400-1714690800@sftangowith.us
SUMMARY:Stanford Tango Series w/ Felipe & Ayano
DESCRIPTION:Stanford Spring Quarter Series!\nFirst 4 weeks with Felipe Martinez and Ayano Yoneda. \n7:00 – 8:00 Fundamental class\n8:00 – 8:30 Beginners practica\n8:30 – 9:30 Intermediate/Advanced class\n9:30 – 11:00 Practica \nPractica is free for all \n  \n 
URL:https://sftangowith.us/event/stanford-tango-series-w-felipe-ayano/2024-05-02/
LOCATION:Koret Pavilion\, 564 O'Connor Ln\, Stanford\, CA\, 94305\, United States
CATEGORIES:class,practica
ATTACH;FMTTYPE=image/jpeg:https://sftangowith.us/wp-content/uploads/2024/04/Felipe-Ayano-Stanford-2024.jpg
GEO:37.4221895;-122.1679327
X-APPLE-STRUCTURED-LOCATION;VALUE=URI;X-ADDRESS=Koret Pavilion 564 O'Connor Ln Stanford CA 94305 United States;X-APPLE-RADIUS=500;X-TITLE=564 O'Connor Ln:geo:-122.1679327,37.4221895
END:VEVENT
BEGIN:VEVENT
DTSTART;TZID=America/Los_Angeles:20240502T190000
DTEND;TZID=America/Los_Angeles:20240503T000000
DTSTAMP:20260423T124338
CREATED:20240305T225507Z
LAST-MODIFIED:20240305T225534Z
UID:10008974-1714676400-1714694400@sftangowith.us
SUMMARY:Milonga Malevaje w/ Ines & Corina Workshop (DJ Loco)
DESCRIPTION:Workshop: 7:00 to 8:00 pm with Ines & Corina \nMilonga: 8:00PM – 12:00AM \nMilonga: $20\nClass: $25\nTogether $40 \nBar is open! No outside drinks allowed\, please.
URL:https://sftangowith.us/event/milonga-malevaje-65/
LOCATION:Verdi Club\, 2424 Mariposa St\, San Francisco\, CA\, United States
CATEGORIES:milonga,Recommended for Visitors,workshop
ATTACH;FMTTYPE=image/jpeg:https://sftangowith.us/wp-content/uploads/2024/01/IC-FB-event-copy.jpg
GEO:37.7634058;-122.4079386
X-APPLE-STRUCTURED-LOCATION;VALUE=URI;X-ADDRESS=Verdi Club 2424 Mariposa St San Francisco CA United States;X-APPLE-RADIUS=500;X-TITLE=2424 Mariposa St:geo:-122.4079386,37.7634058
END:VEVENT
END:VCALENDAR