BEGIN:VCALENDAR
VERSION:2.0
PRODID:-//SF Tango With.Us - ECPv6.6.2//NONSGML v1.0//EN
CALSCALE:GREGORIAN
METHOD:PUBLISH
X-ORIGINAL-URL:https://sftangowith.us
X-WR-CALDESC:Events for SF Tango With.Us
REFRESH-INTERVAL;VALUE=DURATION:PT1H
X-Robots-Tag:noindex
X-PUBLISHED-TTL:PT1H
BEGIN:VTIMEZONE
TZID:America/Los_Angeles
BEGIN:DAYLIGHT
TZOFFSETFROM:-0800
TZOFFSETTO:-0700
TZNAME:PDT
DTSTART:20240310T100000
END:DAYLIGHT
BEGIN:STANDARD
TZOFFSETFROM:-0700
TZOFFSETTO:-0800
TZNAME:PST
DTSTART:20241103T090000
END:STANDARD
END:VTIMEZONE
BEGIN:VEVENT
DTSTART;TZID=America/Los_Angeles:20240817T130000
DTEND;TZID=America/Los_Angeles:20240817T180000
DTSTAMP:20260423T072319
CREATED:20240806T011607Z
LAST-MODIFIED:20240806T011710Z
UID:10013353-1723899600-1723917600@sftangowith.us
SUMMARY:Luciana Valle Intensive Workshops
DESCRIPTION:Registration Now Open! See Workshop Topics and Schedule Below.\n\nIntensive Workshops @ The Monte Cristo Club\, 136 Missouri Street\, San Francisco CA 94107 \n  \n\nSaturday Aug 17:WS1: 1:00-2:30 pm. The Balance\, Weight\, & Step: The Fundamentals. (All Levels)WS2: 2:45-4:15 pm. Smooth Torsion: Use of Pivots & Spirals (All)WS3: 4:30-6:00 pm. Sacadas into Spiral Moves for Leaders & Followers. (Int).\nSunday Aug 18:WS4: 1:00-2:30 pm. Power Turns: Good Walk into Good Turns. (All)WS5: 2:45-4:15 pm. Changes of Direction. (Int)WS6: 4:30-6:00 pm. Volcadas. (Adv)\nSaturday Aug 24:WS7: 1:00-2:30 pm. Lead & Follow: Stronger Standing & Freer Free Legs. Recommended for WS8 & WS9 (All)WS8: 2:45-4:15 pm. Ganchos: Technique & Structure. (Int)WS9: 4:30-6:00 pm. Ganchos & Enganche: Dynamization & Variations. (Adv)\nSunday Aug 25:WS10: 1:00-2:30 pm. Turns with Sacadas. Recommended for WS11 (Int)WS11: 2:45-4:15 pm. Luciana Co-teaches with Matias Sotto: Shared Axis Turns. (Int/Adv)WS12: 4:30-6:00 pm. Luciana Co-teaches with Matias Sotto: Colgadas for Social Dancing. (Adv)\n\nSpecial Advanced Couples-Only Workshop @ La PistaLuciana Co-teaches with Matias SottoMonday Aug. 26\, 7:00-9:00 pm. Action & Reaction: Creating Dynamics & Elasticity inside the Couple. La Pista\, 3450 3rd St. 5H\, San Francisco.Other Events & Locations:\nThursday Aug 15\, 7:00–8:00 pm @ Malevaje Milonga. Pre-milonga class: Tasteful Paradas & Pasadas. The Verdi Club\, 2424 Mariposa Street\, San Francisco.\nFriday Aug 16\, 8:30-9:30 pm @ La Genesis\, Pre-milonga class: Boleos for the Social Floor. 404 Clement Street\, San Francisco.\nTuesday Aug 20\, 7:30-9:00 pm @ TNTango\, Pre-milonga class. Topic: TBA. Congregation Etz Chayim (in ballroom). 4161 Alma Street (near San Antonio)\, Palo Alto\, CA.\nThursday Aug 22\, 7:00-8:00 pm & 11:00 pm @ Malevaje Milonga. Pre-milonga class with Luciana & Matias Sotto: Ways to Enjoy the Pauses. Plus Performance during the milonga! The Verdi Club\, 2424 Mariposa Street\, San Francisco.\nTopics subject to change. For registration\, detailed info and privates\, visit www.sfbaytango.com
URL:https://sftangowith.us/event/luciana-valle-intensive-workshops/2024-08-17/
LOCATION:Monte Cristo Club\, 136 Missouri Street\, San Francisco\, 94107\, United States
CATEGORIES:workshop
ATTACH;FMTTYPE=image/jpeg:https://sftangowith.us/wp-content/uploads/2023/07/Luciana-Valle.jpg
GEO:37.7646348;-122.3970541
X-APPLE-STRUCTURED-LOCATION;VALUE=URI;X-ADDRESS=Monte Cristo Club 136 Missouri Street San Francisco 94107 United States;X-APPLE-RADIUS=500;X-TITLE=136 Missouri Street:geo:-122.3970541,37.7646348
END:VEVENT
BEGIN:VEVENT
DTSTART;TZID=America/Los_Angeles:20240817T150000
DTEND;TZID=America/Los_Angeles:20240817T180000
DTSTAMP:20260423T072319
CREATED:20240812T214838Z
LAST-MODIFIED:20240812T214838Z
UID:10013303-1723906800-1723917600@sftangowith.us
SUMMARY:Chillonga (Postponed)
DESCRIPTION:No Chillonga in August (venue conflicts)
URL:https://sftangowith.us/event/chillonga-an-afternoon-mixed-music-milonga-2/
LOCATION:Yama Kids Yoga\, 2631 Ashby Ave A\, Berkeley\, 94705\, United States
ORGANIZER;CN="Chi and Suzanne":MAILTO:chulinguy@gmail.com
END:VEVENT
BEGIN:VEVENT
DTSTART;TZID=America/Los_Angeles:20240817T210000
DTEND;TZID=America/Los_Angeles:20240818T013000
DTSTAMP:20260423T072319
CREATED:20240813T230600Z
LAST-MODIFIED:20240817T230720Z
UID:10013377-1723928400-1723944600@sftangowith.us
SUMMARY:Che! Milonga w/ DJ Dhruv
DESCRIPTION:Milonga: 9pm – 1:30am\nHosted by Ramada and Elaine \n$20 general\n$15 Full time students (with ID)\n$10 after midnight \n~Bring your drinking cups for hot/ cold water from the water machine. We are eliminating disposable waste.\n~Open seating for all to share; no reservations.\n~This is a switch-role-friendly and a queer-friendly event\n~We are dedicated to providing a welcoming\, inclusive\, safe\, and comfortable environment for everyone\, regardless of gender\, age\, sexual orientation\, race\, ethnicity\, religion\, or any other characteristic or trait\n~We reserve the right to refuse entry to anyone who causes discomfort\, unsafe feelings\, and physical hazards to our attendees\n~Parking lot on site \nParking info: you can park in the numbered lots EXCEPT\nthe numbers: 19\, 20\, 24\, 25\, 28\, 29\, 30\, 31\, 35\, 36\, 40.
URL:https://sftangowith.us/event/che-milonga-24-2-2/
LOCATION:La Pista\, 3450 3rd St\, Building 5\, San Francisco\, CA\, 94124\, United States
CATEGORIES:milonga,Recommended for Visitors
ATTACH;FMTTYPE=image/jpeg:https://sftangowith.us/wp-content/uploads/2024/08/Che-43-story.jpg
GEO:37.7457575;-122.3878168
X-APPLE-STRUCTURED-LOCATION;VALUE=URI;X-ADDRESS=La Pista 3450 3rd St Building 5 San Francisco CA 94124 United States;X-APPLE-RADIUS=500;X-TITLE=3450 3rd St\, Building 5:geo:-122.3878168,37.7457575
END:VEVENT
END:VCALENDAR