BEGIN:VCALENDAR
VERSION:2.0
PRODID:-//SF Tango With.Us - ECPv6.6.2//NONSGML v1.0//EN
CALSCALE:GREGORIAN
METHOD:PUBLISH
X-ORIGINAL-URL:https://sftangowith.us
X-WR-CALDESC:Events for SF Tango With.Us
REFRESH-INTERVAL;VALUE=DURATION:PT1H
X-Robots-Tag:noindex
X-PUBLISHED-TTL:PT1H
BEGIN:VTIMEZONE
TZID:America/Los_Angeles
BEGIN:DAYLIGHT
TZOFFSETFROM:-0800
TZOFFSETTO:-0700
TZNAME:PDT
DTSTART:20240310T100000
END:DAYLIGHT
BEGIN:STANDARD
TZOFFSETFROM:-0700
TZOFFSETTO:-0800
TZNAME:PST
DTSTART:20241103T090000
END:STANDARD
END:VTIMEZONE
BEGIN:VEVENT
DTSTART;TZID=America/Los_Angeles:20241017T190000
DTEND;TZID=America/Los_Angeles:20241017T220000
DTSTAMP:20260424T151142
CREATED:20241010T193259Z
LAST-MODIFIED:20241010T193259Z
UID:10013905-1729191600-1729202400@sftangowith.us
SUMMARY:Workshop\, Wine & Empanadas w/ Virginia Vasconi @ La Pista
DESCRIPTION:Workshop\, Wine & Empanadas with Virginia Vasconi of Buenos Aires and Christy Cote \n7:00 – 8:00 “Unexpected Changes of Directions for both roles” Part I\n8:00 – 8:30 práctica and empanadas!\n8:30 – 9:30 “Unexpected Changes of Directions for both roles” Part II\n9:30 – 10:00 práctica \n$40 per person \n 
URL:https://sftangowith.us/event/workshop-wine-empanadas-w-virginia-vasconi-la-pista/
LOCATION:La Pista\, 3450 3rd St\, Building 5\, San Francisco\, CA\, 94124\, United States
CATEGORIES:practica,workshop
ATTACH;FMTTYPE=image/jpeg:https://sftangowith.us/wp-content/uploads/2024/10/Virginia-Vasconi.jpg
GEO:37.7457575;-122.3878168
X-APPLE-STRUCTURED-LOCATION;VALUE=URI;X-ADDRESS=La Pista 3450 3rd St Building 5 San Francisco CA 94124 United States;X-APPLE-RADIUS=500;X-TITLE=3450 3rd St\, Building 5:geo:-122.3878168,37.7457575
END:VEVENT
BEGIN:VEVENT
DTSTART;TZID=America/Los_Angeles:20241017T190000
DTEND;TZID=America/Los_Angeles:20241017T233000
DTSTAMP:20260424T151142
CREATED:20241016T062219Z
LAST-MODIFIED:20241016T062235Z
UID:10013972-1729191600-1729207800@sftangowith.us
SUMMARY:Stanford Tango Fall Series
DESCRIPTION:Thursdays from 10/3 to 11/7\, taught by the wonderful Felipe and Ayano. \nThis quarter our weekly class location is variable due to scheduling challenges. The location for each week will announced in an email to all who are signed up and updated here. \n7:00 – 8:00   Fundamentals Class\n8:00 – 8:30   Fundamentals Practica\n8:30 – 9:30   Intermediate/Advanced Class (two prior Fundamental quarters/series or equivalent is highly recommended)\n9:30 – 11:30   Open Practica \n$120 Full Series (If taking only one level)\n$240 Full Series (If taking both levels)\n$25 Per Drop in\nFor Stanford students: Free!
URL:https://sftangowith.us/event/stanford-tango-fall-series-24/2024-10-17/
LOCATION:Elliot Program Center\, 589 Governor's Ave\, Stanford\, CA
CATEGORIES:class,practica
ATTACH;FMTTYPE=image/jpeg:https://sftangowith.us/wp-content/uploads/2018/10/Felipe-and-Ayano-Marie-Dominique-Verdier-e1539722962556.jpg
END:VEVENT
BEGIN:VEVENT
DTSTART;TZID=America/Los_Angeles:20241017T200000
DTEND;TZID=America/Los_Angeles:20241018T000000
DTSTAMP:20260424T151142
CREATED:20241009T013309Z
LAST-MODIFIED:20241009T013309Z
UID:10010551-1729195200-1729209600@sftangowith.us
SUMMARY:Milonga Malevaje (Postponed)
DESCRIPTION:
URL:https://sftangowith.us/event/milonga-malevaje-88/
LOCATION:Verdi Club\, 2424 Mariposa St\, San Francisco\, CA\, United States
GEO:37.7634058;-122.4079386
X-APPLE-STRUCTURED-LOCATION;VALUE=URI;X-ADDRESS=Verdi Club 2424 Mariposa St San Francisco CA United States;X-APPLE-RADIUS=500;X-TITLE=2424 Mariposa St:geo:-122.4079386,37.7634058
END:VEVENT
END:VCALENDAR