BEGIN:VCALENDAR
VERSION:2.0
PRODID:-//SF Tango With.Us - ECPv6.6.2//NONSGML v1.0//EN
CALSCALE:GREGORIAN
METHOD:PUBLISH
X-ORIGINAL-URL:https://sftangowith.us
X-WR-CALDESC:Events for SF Tango With.Us
REFRESH-INTERVAL;VALUE=DURATION:PT1H
X-Robots-Tag:noindex
X-PUBLISHED-TTL:PT1H
BEGIN:VTIMEZONE
TZID:America/Los_Angeles
BEGIN:DAYLIGHT
TZOFFSETFROM:-0800
TZOFFSETTO:-0700
TZNAME:PDT
DTSTART:20240310T100000
END:DAYLIGHT
BEGIN:STANDARD
TZOFFSETFROM:-0700
TZOFFSETTO:-0800
TZNAME:PST
DTSTART:20241103T090000
END:STANDARD
END:VTIMEZONE
BEGIN:VEVENT
DTSTART;TZID=America/Los_Angeles:20241024T190000
DTEND;TZID=America/Los_Angeles:20241024T233000
DTSTAMP:20260425T070247
CREATED:20241016T062219Z
LAST-MODIFIED:20241016T062235Z
UID:10013916-1729796400-1729812600@sftangowith.us
SUMMARY:Stanford Tango Fall Series
DESCRIPTION:Thursdays from 10/3 to 11/7\, taught by the wonderful Felipe and Ayano. \nThis quarter our weekly class location is variable due to scheduling challenges. The location for each week will announced in an email to all who are signed up and updated here. \n7:00 – 8:00   Fundamentals Class\n8:00 – 8:30   Fundamentals Practica\n8:30 – 9:30   Intermediate/Advanced Class (two prior Fundamental quarters/series or equivalent is highly recommended)\n9:30 – 11:30   Open Practica \n$120 Full Series (If taking only one level)\n$240 Full Series (If taking both levels)\n$25 Per Drop in\nFor Stanford students: Free!
URL:https://sftangowith.us/event/stanford-tango-fall-series-24/2024-10-24/
LOCATION:Elliot Program Center\, 589 Governor's Ave\, Stanford\, CA
CATEGORIES:class,practica
ATTACH;FMTTYPE=image/jpeg:https://sftangowith.us/wp-content/uploads/2018/10/Felipe-and-Ayano-Marie-Dominique-Verdier-e1539722962556.jpg
END:VEVENT
BEGIN:VEVENT
DTSTART;TZID=America/Los_Angeles:20241024T193000
DTEND;TZID=America/Los_Angeles:20241024T213000
DTSTAMP:20260425T070247
CREATED:20241022T045352Z
LAST-MODIFIED:20241022T045352Z
UID:10013975-1729798200-1729805400@sftangowith.us
SUMMARY:Cecilia Gonzalez + Elly Fernandez + Gaby Mataloni Workshop
DESCRIPTION:In this workshop\, we will be refining our listening sensitivity so we can explore opportunities in real time to hear and express ourselves\, creating a dance that is an exchange of keen\, clear musical intricacies.\nThis workshop is for improving dancers who are seeking a deeper understanding of the foundational technique of both roles. Folks starting out on their tango journey will get to experience the elements of movement communication that are essential to this dance. \n💗Class is designed for dancers who are improving their tango experience at any level.\n💛 No partner needed.\n🌈All gender identities and expressions are welcome.\n💞 role switching is encouraged – we express what role we are curious to explore for each exercise + honor a learner’s choice to dance one or both roles. \nREGISTER –> https://forms.gle/TWeJat2J6z2NwUsCA \nCOST: Sliding scale\n$30 – financially stretched\n$35-$45 – financially comfortable\n$50 – financially flourishing \n–> Payment goes to either of us:\nCecilia Gonzalez: Zelle @ cecilia@nulltangomotion.com\nElly Fernandez: Zelle @ ellysefernandez@nullgmail.com\nGaby Mataloni: Zelle @ gab.mataloni@nullgmail.com\nPlease include in the memo “Listening Workshop”. \nTo connect with Cecilia Gonzalez:\nFacebook: Cecilia Gonzalez Tango\nInstagram: @ceciliagonzaleztango\nEmail: cecilia@nulltangomotion.com \nTo connect with Elly Fernandez:\nFacebook: Elly Fernandez\nInstagram: @elly__fernandez\nEmail: elly@nullellyfernandez.com\nWebsite: www.ellyfernandez.com \nTo connect with Gaby Mataloni:\nFacebook: Gaby Mataloni\nInstagram: @gabymatalovely\nEmail: gab.mataloni@nullgmail.com\nWebsite: www.gabymataloni.wixsite.com
URL:https://sftangowith.us/event/cecilia-gonzalez-elly-fernandez-gaby-mataloni-workshop/
LOCATION:La Pista\, 3450 3rd St\, Building 5\, San Francisco\, CA\, 94124\, United States
CATEGORIES:workshop
ATTACH;FMTTYPE=image/jpeg:https://sftangowith.us/wp-content/uploads/2024/10/Cecilia-Gonzalez-Elly-Fernandez-Gaby-Mataloni.jpg
GEO:37.7457575;-122.3878168
X-APPLE-STRUCTURED-LOCATION;VALUE=URI;X-ADDRESS=La Pista 3450 3rd St Building 5 San Francisco CA 94124 United States;X-APPLE-RADIUS=500;X-TITLE=3450 3rd St\, Building 5:geo:-122.3878168,37.7457575
END:VEVENT
BEGIN:VEVENT
DTSTART;TZID=America/Los_Angeles:20241024T200000
DTEND;TZID=America/Los_Angeles:20241025T000000
DTSTAMP:20260425T070247
CREATED:20241009T013718Z
LAST-MODIFIED:20241009T013718Z
UID:10010552-1729800000-1729814400@sftangowith.us
SUMMARY:Milonga Malevaje (Postponed)
DESCRIPTION:
URL:https://sftangowith.us/event/milonga-malevaje-89/
LOCATION:Verdi Club\, 2424 Mariposa St\, San Francisco\, CA\, United States
GEO:37.7634058;-122.4079386
X-APPLE-STRUCTURED-LOCATION;VALUE=URI;X-ADDRESS=Verdi Club 2424 Mariposa St San Francisco CA United States;X-APPLE-RADIUS=500;X-TITLE=2424 Mariposa St:geo:-122.4079386,37.7634058
END:VEVENT
END:VCALENDAR