BEGIN:VCALENDAR
VERSION:2.0
PRODID:-//SF Tango With.Us - ECPv6.6.2//NONSGML v1.0//EN
CALSCALE:GREGORIAN
METHOD:PUBLISH
X-WR-CALNAME:SF Tango With.Us
X-ORIGINAL-URL:https://sftangowith.us
X-WR-CALDESC:Events for SF Tango With.Us
REFRESH-INTERVAL;VALUE=DURATION:PT1H
X-Robots-Tag:noindex
X-PUBLISHED-TTL:PT1H
BEGIN:VTIMEZONE
TZID:America/Los_Angeles
BEGIN:DAYLIGHT
TZOFFSETFROM:-0800
TZOFFSETTO:-0700
TZNAME:PDT
DTSTART:20250309T100000
END:DAYLIGHT
BEGIN:STANDARD
TZOFFSETFROM:-0700
TZOFFSETTO:-0800
TZNAME:PST
DTSTART:20251102T090000
END:STANDARD
END:VTIMEZONE
BEGIN:VEVENT
DTSTART;TZID=America/Los_Angeles:20250602T180000
DTEND;TZID=America/Los_Angeles:20250603T000000
DTSTAMP:20260420T102343
CREATED:20250528T215505Z
LAST-MODIFIED:20250528T220052Z
UID:10015593-1748887200-1748908800@sftangowith.us
SUMMARY:Ashkenaz Milonga w/ Charles Gorczynski Quartet (Live Music)
DESCRIPTION:Charles Gorczynski – bandoneon Devan Moran – violin Alex Woods – piano Sascha Jacobsen – contrabass \nMinneapolis-based composer and bandoneonist Charles Gorczynski works in contemporary tango\, new music\, and studio production. He leads the acclaimed modern tango outfit Charles Gorczynski Tango Quartet and is the artistic director of the Twin Cities Tango Collective. \nBeginner-Friendly Tango Dance Class 6pm with Sascha & Laura\n6:00 all levels dance class\n7:00 Milonga \nDoors 7pm\nShow 7:30pm \n$20 in advance\n$25 at the door\n$15 students\nUnder age 12 FREE \n 
URL:https://sftangowith.us/event/ashkenaz-milonga-w-charles-gorczynski-quartet-live-music/
LOCATION:Ashkenaz\, 1317 San Pablo Ave\, Berkeley\, CA\, United States
CATEGORIES:class,music (live)
ATTACH;FMTTYPE=image/jpeg:https://sftangowith.us/wp-content/uploads/2025/05/Charles-Gorczynski.jpg
GEO:37.8801405;-122.2953525
X-APPLE-STRUCTURED-LOCATION;VALUE=URI;X-ADDRESS=Ashkenaz 1317 San Pablo Ave Berkeley CA United States;X-APPLE-RADIUS=500;X-TITLE=1317 San Pablo Ave:geo:-122.2953525,37.8801405
END:VEVENT
BEGIN:VEVENT
DTSTART;TZID=America/Los_Angeles:20250602T201500
DTEND;TZID=America/Los_Angeles:20250603T003000
DTSTAMP:20260420T102343
CREATED:20241110T225123Z
LAST-MODIFIED:20250824T032348Z
UID:10014153-1748895300-1748910600@sftangowith.us
SUMMARY:Monday Night Tango @ The Beat
DESCRIPTION:8:15-9:30p – Intermediate class\n9:30p-0:30a – Practica \nRegistration required for NEW DANCERS ONLY\n(if you haven’t attended Monday / Allnighter since 2021)\nhttps://tangonnection.wixsite.com/felipetango/beat
URL:https://sftangowith.us/event/monday-night-tango-the-beat-25-2/2025-06-02/
LOCATION:The Beat\, 2560 Ninth Street\, Berkeley\, CA\, United States
CATEGORIES:class,milonga,practica,Recommended for Visitors
ATTACH;FMTTYPE=image/jpeg:https://sftangowith.us/wp-content/uploads/2017/06/Felipe-Ayano-July30.jpg
ORGANIZER;CN="Felipe and Ayano":MAILTO:tangonnection@gmail.com
GEO:37.8591971;-122.2917693
X-APPLE-STRUCTURED-LOCATION;VALUE=URI;X-ADDRESS=The Beat 2560 Ninth Street Berkeley CA United States;X-APPLE-RADIUS=500;X-TITLE=2560 Ninth Street:geo:-122.2917693,37.8591971
END:VEVENT
END:VCALENDAR