BEGIN:VCALENDAR
VERSION:2.0
PRODID:-//SF Tango With.Us - ECPv6.6.2//NONSGML v1.0//EN
CALSCALE:GREGORIAN
METHOD:PUBLISH
X-WR-CALNAME:SF Tango With.Us
X-ORIGINAL-URL:https://sftangowith.us
X-WR-CALDESC:Events for SF Tango With.Us
REFRESH-INTERVAL;VALUE=DURATION:PT1H
X-Robots-Tag:noindex
X-PUBLISHED-TTL:PT1H
BEGIN:VTIMEZONE
TZID:America/Los_Angeles
BEGIN:DAYLIGHT
TZOFFSETFROM:-0800
TZOFFSETTO:-0700
TZNAME:PDT
DTSTART:20250309T100000
END:DAYLIGHT
BEGIN:STANDARD
TZOFFSETFROM:-0700
TZOFFSETTO:-0800
TZNAME:PST
DTSTART:20251102T090000
END:STANDARD
END:VTIMEZONE
BEGIN:VEVENT
DTSTART;TZID=America/Los_Angeles:20250619T200000
DTEND;TZID=America/Los_Angeles:20250620T000000
DTSTAMP:20260423T224508
CREATED:20250522T013848Z
LAST-MODIFIED:20250616T034800Z
UID:10010586-1750363200-1750377600@sftangowith.us
SUMMARY:Milonga Malevaje w/ Nicolas and German Filipeli Workshop (DJ Olga)
DESCRIPTION:Class: 7:lo to 8:00pm\nWith: Nicolas and German Filipeli plus Rocio Leguizamon\nChallenging Turns with Sacadas & Enrosques for the milonga\nMilonga 8:00PM – 12:00AM\nDJ: Olga Bogatova \nClass: $25\nMilonga: $20\nTogether: $45
URL:https://sftangowith.us/event/milonga-malevaje-25-23/
LOCATION:Verdi Club\, 2424 Mariposa St\, San Francisco\, CA\, United States
CATEGORIES:milonga,Recommended for Visitors,workshop
ATTACH;FMTTYPE=image/jpeg:https://sftangowith.us/wp-content/uploads/2025/05/Filipeli-Brothers.jpg
GEO:37.7634058;-122.4079386
X-APPLE-STRUCTURED-LOCATION;VALUE=URI;X-ADDRESS=Verdi Club 2424 Mariposa St San Francisco CA United States;X-APPLE-RADIUS=500;X-TITLE=2424 Mariposa St:geo:-122.4079386,37.7634058
END:VEVENT
END:VCALENDAR