BEGIN:VCALENDAR
VERSION:2.0
PRODID:-//SF Tango With.Us - ECPv6.6.2//NONSGML v1.0//EN
CALSCALE:GREGORIAN
METHOD:PUBLISH
X-ORIGINAL-URL:https://sftangowith.us
X-WR-CALDESC:Events for SF Tango With.Us
REFRESH-INTERVAL;VALUE=DURATION:PT1H
X-Robots-Tag:noindex
X-PUBLISHED-TTL:PT1H
BEGIN:VTIMEZONE
TZID:America/Los_Angeles
BEGIN:DAYLIGHT
TZOFFSETFROM:-0800
TZOFFSETTO:-0700
TZNAME:PDT
DTSTART:20250309T100000
END:DAYLIGHT
BEGIN:STANDARD
TZOFFSETFROM:-0700
TZOFFSETTO:-0800
TZNAME:PST
DTSTART:20251102T090000
END:STANDARD
END:VTIMEZONE
BEGIN:VEVENT
DTSTART;TZID=America/Los_Angeles:20250809T130000
DTEND;TZID=America/Los_Angeles:20250809T143000
DTSTAMP:20260422T214012
CREATED:20250803T051512Z
LAST-MODIFIED:20250803T051512Z
UID:10015778-1754744400-1754749800@sftangowith.us
SUMMARY:Followers Technique Class w/ Rena
DESCRIPTION:EVERY SATURDAY\n1:00 – 2:30   Follower’s Technique Class w/ Rena \n90min session drop-in – $30 | 4-week Package – $100 (purchase at the door) \nLocation: Wild & the Barre Fitness Studio\n2504 El Camino Real\, Redwood City\, CA \nJoin the Followers Technique Class with Rena every Saturday in August. \nTopic: We will explore footwork aesthetics through various figures and simple embellishments. Discover how leg alignment and movement can enhance the grace of your dance. Learn techniques to improve your footwork and elevate the visual appeal of your tango. \nPlease bring socks and heels! \nOpen to all levels! Walk-ins are welcome! \nContact: lacadenciatango@nullgmail.com\nJoin my FB group LA CADENCIA TANGO \nSubscribe to the monthly newsletter to get the complete monthly schedule
URL:https://sftangowith.us/event/followers-technique-class-w-rena-3/2025-08-09/
LOCATION:CA
CATEGORIES:class
ATTACH;FMTTYPE=image/jpeg:https://sftangowith.us/wp-content/uploads/2025/08/orange-and-gradient-minimal-dance-studio-flyer-5.jpg.jpg
ORGANIZER;CN="Rena":MAILTO:Lacadenciatango@gmail.com
END:VEVENT
BEGIN:VEVENT
DTSTART;TZID=America/Los_Angeles:20250809T200000
DTEND;TZID=America/Los_Angeles:20250810T000000
DTSTAMP:20260422T214012
CREATED:20250715T215429Z
LAST-MODIFIED:20250801T173752Z
UID:10015755-1754769600-1754784000@sftangowith.us
SUMMARY:Julian Peralta’s “Sofia y Los Suenos” @ The Dome
DESCRIPTION:Julian Peralta’s North American Premiere of his masterpiece musical suite”Sofia y Los Suenos” with Film by international cinematographers. Big Band tango dance music by Winnie Cheung’s Sextet with special guest artists. \n8:00 – Doors open\n8:30 – Live Performance and Film “Los Suenos”\n9:30 – Midnight Milonga with live music and DJ \n$25 suggested donation \n 
URL:https://sftangowith.us/event/julian-peraltas-sofia-y-los-suenos-the-dome/
LOCATION:The Dome\, 951 62nd St\, Oakland\, CA\, United States
CATEGORIES:milonga,music (live)
ATTACH;FMTTYPE=image/jpeg:https://sftangowith.us/wp-content/uploads/2025/07/IMG_6219.jpeg
GEO:37.8459067;-122.2777176
X-APPLE-STRUCTURED-LOCATION;VALUE=URI;X-ADDRESS=The Dome 951 62nd St Oakland CA United States;X-APPLE-RADIUS=500;X-TITLE=951 62nd St:geo:-122.2777176,37.8459067
END:VEVENT
BEGIN:VEVENT
DTSTART;TZID=America/Los_Angeles:20250809T210000
DTEND;TZID=America/Los_Angeles:20250810T013000
DTSTAMP:20260422T214012
CREATED:20250725T043610Z
LAST-MODIFIED:20250809T223953Z
UID:10014507-1754773200-1754789400@sftangowith.us
SUMMARY:Che! Milonga w/ DJ Dhurv
DESCRIPTION:Milonga: 9pm – 1:30am\nHosted by Ramada and Elaine \n$20 general\n$15 Full time students (with ID)\n$10 after midnight \n~Bring your drinking cups for hot/ cold water from the water machine. We are eliminating disposable waste.\n~Open seating for all to share; no reservations.\n~This is a switch-role-friendly and a queer-friendly event\n~We are dedicated to providing a welcoming\, inclusive\, safe\, and comfortable environment for everyone\, regardless of gender\, age\, sexual orientation\, race\, ethnicity\, religion\, or any other characteristic or trait\n~We reserve the right to refuse entry to anyone who causes discomfort\, unsafe feelings\, and physical hazards to our attendees\n~Parking lot on site \nParking info: you can park in the numbered lots EXCEPT\nthe numbers: 19\, 20\, 24\, 25\, 28\, 29\, 30\, 31\, 35\, 36\, 40.
URL:https://sftangowith.us/event/che-milonga-25-2-9/
LOCATION:La Pista\, 3450 3rd St\, Building 5\, San Francisco\, CA\, 94124\, United States
CATEGORIES:milonga,Recommended for Visitors
ATTACH;FMTTYPE=image/jpeg:https://sftangowith.us/wp-content/uploads/2025/07/Che-66-story.jpg
GEO:37.7457575;-122.3878168
X-APPLE-STRUCTURED-LOCATION;VALUE=URI;X-ADDRESS=La Pista 3450 3rd St Building 5 San Francisco CA 94124 United States;X-APPLE-RADIUS=500;X-TITLE=3450 3rd St\, Building 5:geo:-122.3878168,37.7457575
END:VEVENT
END:VCALENDAR