BEGIN:VCALENDAR
VERSION:2.0
PRODID:-//SF Tango With.Us - ECPv6.6.2//NONSGML v1.0//EN
CALSCALE:GREGORIAN
METHOD:PUBLISH
X-ORIGINAL-URL:https://sftangowith.us
X-WR-CALDESC:Events for SF Tango With.Us
REFRESH-INTERVAL;VALUE=DURATION:PT1H
X-Robots-Tag:noindex
X-PUBLISHED-TTL:PT1H
BEGIN:VTIMEZONE
TZID:America/Los_Angeles
BEGIN:DAYLIGHT
TZOFFSETFROM:-0800
TZOFFSETTO:-0700
TZNAME:PDT
DTSTART:20260308T100000
END:DAYLIGHT
BEGIN:STANDARD
TZOFFSETFROM:-0700
TZOFFSETTO:-0800
TZNAME:PST
DTSTART:20261101T090000
END:STANDARD
END:VTIMEZONE
BEGIN:VEVENT
DTSTART;TZID=America/Los_Angeles:20260425T130000
DTEND;TZID=America/Los_Angeles:20260425T180000
DTSTAMP:20260422T182603
CREATED:20260416T050720Z
LAST-MODIFIED:20260416T050745Z
UID:10016426-1777122000-1777140000@sftangowith.us
SUMMARY:Giselle Anne Intensive Workshops @ La Pista
DESCRIPTION:7 Intensive Weekend Workshops at La Pista \n3450 3rd St. #5H\, San Francisco\, CA​\nRole-balanced registration appreciated \nApril 24 Friday\nWS1: 7:00 – 8:30 pm. Ganchos for leader and follower; mechanics\, leading\, and musical precision (Int/Adv). \nApril 25 Saturday\nWS2: 1:00 – 2:30 pm. Giros 1. Walking Turns: Foundational structures in both directions (Int/Adv).\nWS3: 2:45 – 4:15 pm. Boleos 1. Simple and Double Boleos: Variations in leader accompaniment (Int/Adv).\nWS4: 4:30 – 6:00 pm. Sacadas 1. Understanding structure and fundamental positioning for leader and follower (Int/Adv). \nApril 26 Sunday\nWS5: 1:00 – 2:30 pm. Giros 2. Planeos\, enrosques\, and contra-planeos; rhythmic variations within the giro (Int/Adv).\nWS6: 2:45 – 4:15 pm. Boleos 2. Non-traditional boleos: Rhythmic timing adjustment (Int/Adv).\nWS7: 4:30 – 6:00 pm. Sacadas 2. Back sacadas with ease: Key details for fluidity (Int/Adv).
URL:https://sftangowith.us/event/giselle-anne-in-san-francisco-2026/2026-04-25/
LOCATION:La Pista\, 3450 3rd St\, Building 5\, San Francisco\, CA\, 94124\, United States
CATEGORIES:workshop
ATTACH;FMTTYPE=image/jpeg:https://sftangowith.us/wp-content/uploads/2026/04/Giselle-Anne-SF-2026.jpg
GEO:37.7457575;-122.3878168
X-APPLE-STRUCTURED-LOCATION;VALUE=URI;X-ADDRESS=La Pista 3450 3rd St Building 5 San Francisco CA 94124 United States;X-APPLE-RADIUS=500;X-TITLE=3450 3rd St\, Building 5:geo:-122.3878168,37.7457575
END:VEVENT
BEGIN:VEVENT
DTSTART;TZID=America/Los_Angeles:20260425T140000
DTEND;TZID=America/Los_Angeles:20260425T170000
DTSTAMP:20260422T182603
CREATED:20260326T234331Z
LAST-MODIFIED:20260326T234331Z
UID:10016350-1777125600-1777136400@sftangowith.us
SUMMARY:Spire Tango Practica (alternative/contemporary)
DESCRIPTION:$10-$20 sliding scale\, $15 recommended \nVenmo\, Zelle\, Paypal\, Eventbrite (no cash or credit) \nNo one turned away for lack of funds \n  \nSpire Tango Practica is committed to the principle that inclusivity is a social contract. We strive to be a comfortable\, safe\, and joyous space for everyone—regardless of age\, gender\, sexual orientation\, race\, class\, ethnicity\, nationality\, citizenship\, religion\, size\, or ability—who commits to that contract. \nBeginners are welcome!
URL:https://sftangowith.us/event/spire-tango-practica-alternative-contemporary/2026-04-25/
LOCATION:Spire\, the Church\, 825 Athens Ave\, Oakland\, 94607\, United States
CATEGORIES:practica
ATTACH;FMTTYPE=image/jpeg:https://sftangowith.us/wp-content/uploads/2024/10/STP-negative.jpg
END:VEVENT
BEGIN:VEVENT
DTSTART;TZID=America/Los_Angeles:20260425T200000
DTEND;TZID=America/Los_Angeles:20260426T000000
DTSTAMP:20260422T182603
CREATED:20260416T050033Z
LAST-MODIFIED:20260416T050033Z
UID:10016424-1777147200-1777161600@sftangowith.us
SUMMARY:Sumi and Ramiro @ The Dome (Live Music)
DESCRIPTION:Sumi Lee (San Francisco – pianist) and Ramiro Boero (Argentina – bandoneon) in concert at the Dome Underground Nightclub. Followed by a Milonga Atipica with live dance music by the 11 piece Dome Orchestra with guest conductor Ramiro Boero. Dj music between live sets \n8:00 – doors open\n8:30 – 9:00 sit down concert by Sumi Lee and Ramiro Boero\n9:30 – Midnight – Live big band dance music by the Dome Orchestra \nSuggested donation $25
URL:https://sftangowith.us/event/sumi-and-ramiro-the-dome-live-music/
LOCATION:The Dome\, 951 62nd St\, Oakland\, CA\, United States
CATEGORIES:milonga,music (live),Recommended for Visitors
ATTACH;FMTTYPE=image/jpeg:https://sftangowith.us/wp-content/uploads/2025/04/Sumi-Lee-Ramiro-Boero.jpg
GEO:37.8459067;-122.2777176
X-APPLE-STRUCTURED-LOCATION;VALUE=URI;X-ADDRESS=The Dome 951 62nd St Oakland CA United States;X-APPLE-RADIUS=500;X-TITLE=951 62nd St:geo:-122.2777176,37.8459067
END:VEVENT
END:VCALENDAR