BEGIN:VCALENDAR
VERSION:2.0
PRODID:-//SF Tango With.Us - ECPv6.6.2//NONSGML v1.0//EN
CALSCALE:GREGORIAN
METHOD:PUBLISH
X-ORIGINAL-URL:https://sftangowith.us
X-WR-CALDESC:Events for SF Tango With.Us
REFRESH-INTERVAL;VALUE=DURATION:PT1H
X-Robots-Tag:noindex
X-PUBLISHED-TTL:PT1H
BEGIN:VTIMEZONE
TZID:America/Los_Angeles
BEGIN:DAYLIGHT
TZOFFSETFROM:-0800
TZOFFSETTO:-0700
TZNAME:PDT
DTSTART:20250309T100000
END:DAYLIGHT
BEGIN:STANDARD
TZOFFSETFROM:-0700
TZOFFSETTO:-0800
TZNAME:PST
DTSTART:20251102T090000
END:STANDARD
END:VTIMEZONE
BEGIN:VEVENT
DTSTART;TZID=America/Los_Angeles:20250502T170000
DTEND;TZID=America/Los_Angeles:20250502T200000
DTSTAMP:20260424T055629
CREATED:20250430T064846Z
LAST-MODIFIED:20250430T064846Z
UID:10015478-1746205200-1746216000@sftangowith.us
SUMMARY:Tango in the Square @ Union Square Park (Live Music)
DESCRIPTION:Tango in the Square this year on the 1st FRIDAY of the month starting at 5 PM. \nTrio Tangazo:\n-Sascha Jacobsen on bass\n-Seth Asarnow on Bandoneon\,\n– Lauro on Guitar and vocals\, special guest from Argentina.\nDon’t miss the performance by Marcelo Solis and Fiamma Clozza.\nOur teacher and DJ will be Marcelo Solis. \nTango for dancing until 8 PM!
URL:https://sftangowith.us/event/tango-in-the-square-union-square-park-live-music/
LOCATION:Union Square\, 333 Post Street\, San Francisco\, CA\, United States
CATEGORIES:class,milonga,music (live),outdoor
GEO:37.7879384;-122.4075056
X-APPLE-STRUCTURED-LOCATION;VALUE=URI;X-ADDRESS=Union Square 333 Post Street San Francisco CA United States;X-APPLE-RADIUS=500;X-TITLE=333 Post Street:geo:-122.4075056,37.7879384
END:VEVENT
BEGIN:VEVENT
DTSTART;TZID=America/Los_Angeles:20250503T180000
DTEND;TZID=America/Los_Angeles:20250503T213000
DTSTAMP:20260424T055629
CREATED:20250430T070153Z
LAST-MODIFIED:20250430T070214Z
UID:10015481-1746295200-1746307800@sftangowith.us
SUMMARY:Tea & Tango w/ ARTE Sextet & Claudio Ortega (Live Music)
DESCRIPTION:Part of the musicality weekend by Joaquin Amenabar \nhttps://www.feelingflow.org/musicality-weekend#registration \nARTE Sextet\, led by Florida-based bandoneonist and composer Alex Roitman\, brings together world-class musicians from around the globe to celebrate the depth and beauty of Argentine tango. Violinists Natalia Maiden and Keiko Cadby bring classical virtuosity and international tango experience\, while Yukie Kawanami\, a bandoneonist from Japan and winner of the Che Bandoneon Competition\, and pianist Crystie Shum\, known for her dynamic festival performances\, add rhythmic depth and lyrical expression. The ensemble is joined by Argentine singer Claudio Ortega \n6:00 – 9:30 Milonga w/ DJ Karn\n7:00 – 7:40 Set – I Live Tandas\n8:00 – 8:30 Set – II Live Tandas \nHost & DJ: Karn\nteacher@nullfeelingflow.org \n 
URL:https://sftangowith.us/event/tea-tango-w-arte-sextet-claudio-ortega-live-music/
LOCATION:CA
CATEGORIES:milonga,music (live)
END:VEVENT
BEGIN:VEVENT
DTSTART;TZID=America/Los_Angeles:20250510T163000
DTEND;TZID=America/Los_Angeles:20250510T174500
DTSTAMP:20260424T055629
CREATED:20250427T115848Z
LAST-MODIFIED:20250427T115848Z
UID:10015419-1746894600-1746899100@sftangowith.us
SUMMARY:SF Int'l Arts Festival: Sumi Lee - Ramiro Boero (Live Music)
DESCRIPTION:El Gaucho Perdido (Lost Horseman)\nhttps://www.sfiaf.org/2025_sumi_lee_ramiro_boero_duo \nThe Lee Boero Tango Duo takes to the stage to premiere their new EP\, a daring collection of contemporary tango compositions that fuse tradition with fresh ideas. The album’s title track\, El Gaucho Perdido\, mesmerizes with its haunting slow milonga rhythm and the uncommon pulse of 5/4 meter. Adding to the diverse soundscape\, Choro and Lunablends tango with the vibrant sway of Brazilian rhythms. With intricate arrangements\, passionate melodies\, and a dynamic interplay between piano and bandoneon\, this concert offers an exhilarating\, modern take on tango’s evolving landscape. Experience a day of rhythm\, emotion\, and musical storytelling like never before. \nEarly Bird: $20 (Ends\, March 31st)\, Advance: $25\, Door: $28 \n 
URL:https://sftangowith.us/event/sf-intl-arts-festival-sumi-lee-ramiro-boero-live-music/
LOCATION:Community Music Center\, 544 Capp St.\, San Francisco\, CA\, 94110\, United States
CATEGORIES:music (live)
ATTACH;FMTTYPE=image/jpeg:https://sftangowith.us/wp-content/uploads/2025/04/Sumi-Lee-Ramiro-Boero.jpg
GEO:37.7579453;-122.4182226
X-APPLE-STRUCTURED-LOCATION;VALUE=URI;X-ADDRESS=Community Music Center 544 Capp St. San Francisco CA 94110 United States;X-APPLE-RADIUS=500;X-TITLE=544 Capp St.:geo:-122.4182226,37.7579453
END:VEVENT
BEGIN:VEVENT
DTSTART;TZID=America/Los_Angeles:20250510T200000
DTEND;TZID=America/Los_Angeles:20250511T000000
DTSTAMP:20260424T055629
CREATED:20250417T224157Z
LAST-MODIFIED:20250509T020413Z
UID:10015377-1746907200-1746921600@sftangowith.us
SUMMARY:Sascha and Laureano @ The Dome
DESCRIPTION:Bay Area Bassist and composer Sascha Jacobsen and singer guitarist Laureano from Argentina perform concert works and dance music at the Dome Nightclub in Oakland. For reservations email tangodome@nullgmail.com \n8:00 – Doors open\n8:30 – Sit down concert\n9:30 – Midnight live tango dance music. \nSuggested donation $25 \n 
URL:https://sftangowith.us/event/sascha-and-laureano-the-dome/
LOCATION:The Dome\, 951 62nd St\, Oakland\, CA\, United States
CATEGORIES:milonga,music (live),Recommended for Visitors
GEO:37.8459067;-122.2777176
X-APPLE-STRUCTURED-LOCATION;VALUE=URI;X-ADDRESS=The Dome 951 62nd St Oakland CA United States;X-APPLE-RADIUS=500;X-TITLE=951 62nd St:geo:-122.2777176,37.8459067
END:VEVENT
BEGIN:VEVENT
DTSTART;TZID=America/Los_Angeles:20250517T200000
DTEND;TZID=America/Los_Angeles:20250518T000000
DTSTAMP:20260424T055630
CREATED:20250417T224606Z
LAST-MODIFIED:20250417T224606Z
UID:10015378-1747512000-1747526400@sftangowith.us
SUMMARY:Ramiro Boero and Sumi Lee @ The Dome (Live Music)
DESCRIPTION:World class bandoneonist and composer Ramiro B and the Bay Area’s own Sumi Lee present new concert and dance music at the Dome Night Club.Sit-down concert at 8:30 sharp. Big Band dance music until midnight by ORQUESTA TIPICA BOERO. DJ music between live sets. \nEMAIL for reservations: tangodome@nullgmail.com \n8:00 – DOORS OPEN\n8:30 – Sit down concert\n9:30 – Midnight tango dance music \nsuggested donation $25
URL:https://sftangowith.us/event/ramiro-boero-and-sumi-lee-the-dome-live-music/
LOCATION:The Dome\, 951 62nd St\, Oakland\, CA\, United States
CATEGORIES:milonga,music (live),Recommended for Visitors
ATTACH;FMTTYPE=image/jpeg:https://sftangowith.us/wp-content/uploads/2025/04/Sumi-Lee-Ramiro-Boero.jpg
GEO:37.8459067;-122.2777176
X-APPLE-STRUCTURED-LOCATION;VALUE=URI;X-ADDRESS=The Dome 951 62nd St Oakland CA United States;X-APPLE-RADIUS=500;X-TITLE=951 62nd St:geo:-122.2777176,37.8459067
END:VEVENT
BEGIN:VEVENT
DTSTART;TZID=America/Los_Angeles:20250518T120000
DTEND;TZID=America/Los_Angeles:20250518T150000
DTSTAMP:20260424T055630
CREATED:20250517T134125Z
LAST-MODIFIED:20250610T042033Z
UID:10015566-1747569600-1747580400@sftangowith.us
SUMMARY:Argentine Tango @ Salesforce Park (FREE PUBLIC EVENT)
DESCRIPTION:TJPA presents Argentine Tango with Che! Tango SF at Salesforce Park\nSponsored by East Cut Community Benefit District and the Transbay Joint Powers Authority\nEvery 3rd Sunday (except July on Sat 7/19) from May to October.\n~45 mins Intro to Tango class at noon~DJ or Live music (alternating month) for dancing till 3pm\nFull activities schedule:https://www.tjpa.org/salesforce-transit-center/activities\nVisitor information:https://www.tjpa.org/salesforce-transit-center/faq
URL:https://sftangowith.us/event/argentine-tango-salesforce-park-free-public-event/
LOCATION:Salesforce Park\, 425 Mission Street\, San Francisco\, 94105\, United States
CATEGORIES:class,milonga,music (live),outdoor,Recommended for Visitors
ATTACH;FMTTYPE=image/jpeg:https://sftangowith.us/wp-content/uploads/2025/05/Salesforce-Park-Tango-FB-event.jpg
END:VEVENT
BEGIN:VEVENT
DTSTART;TZID=America/Los_Angeles:20250518T160000
DTEND;TZID=America/Los_Angeles:20250518T180000
DTSTAMP:20260424T055630
CREATED:20250509T014056Z
LAST-MODIFIED:20250513T021034Z
UID:10015484-1747584000-1747591200@sftangowith.us
SUMMARY:El Gaucho Perdido - Sumi Lee & Ramiro Boero (Live Music)
DESCRIPTION:El Gaucho Perdido (Lost Horseman) \nThe Lee Boero Tango Duo takes to the stage to premiere their new EP\, a daring collection of contemporary tango compositions that fuse tradition with fresh ideas. The album’s title track\, El Gaucho Perdido\, mesmerizes with its haunting slow milonga rhythm and the uncommon pulse of 5/4 meter. Adding to the diverse soundscape\, Choro y Luna blends tango with the vibrant sway of Brazilian rhythms. With intricate arrangements\, passionate melodies\, and a dynamic interplay between piano and bandoneón\, this concert offers an exhilarating\, modern take on tango’s evolving landscape. Experience a day of rhythm\, emotion\, and musical storytelling like never before. \nTickets
URL:https://sftangowith.us/event/el-gaucho-perdido-sumi-lee-ramiro-boero-live-music/
LOCATION:Piano Palace\, 514 Kelly Ave\, Half Moon Bay\, CA\, United States
CATEGORIES:music (live)
ATTACH;FMTTYPE=image/jpeg:https://sftangowith.us/wp-content/uploads/2025/04/Sumi-Lee-Ramiro-Boero.jpg
GEO:37.4631241;-122.4334973
X-APPLE-STRUCTURED-LOCATION;VALUE=URI;X-ADDRESS=Piano Palace 514 Kelly Ave Half Moon Bay CA United States;X-APPLE-RADIUS=500;X-TITLE=514 Kelly Ave:geo:-122.4334973,37.4631241
END:VEVENT
BEGIN:VEVENT
DTSTART;TZID=America/Los_Angeles:20250531T173000
DTEND;TZID=America/Los_Angeles:20250531T210000
DTSTAMP:20260424T055630
CREATED:20250522T013326Z
LAST-MODIFIED:20250528T220456Z
UID:10015573-1748712600-1748725200@sftangowith.us
SUMMARY:Milonga Tea & Tango w/ Trio Misterio (Live Music)
DESCRIPTION:Charles Gorczynski is a Minneapolis-based bandoneonist\, composer\, and artistic director of the Twin Cities Tango Collective\, known for his innovative tango recordings and Latin Grammy-nominated work. \nSascha Jacobsen\, a Latin Grammy-nominated bassist and composer\, blends classical\, tango\, and jazz influences across international stages and educational platforms. \nScott O’Day is an Oakland-based tango guitarist and ensemble director\, actively shaping the Bay Area’s contemporary tango music scene. \n5:30 – Doors Open & Practica (ongoing)\n6:00 – 6:30 Sit down concert w/ Trio Misterio\n6:30 – 9:00 Milonga w/ DJ Karn & Live Sets by Trio Misteiro \nArtisan Pu – erh Tea + Empanadas \nDJ & Host: Karn
URL:https://sftangowith.us/event/milonga-tea-tango-w-trio-misterio-live-music/
LOCATION:Feeling Flow\, 1680 Bryant St\, Palo Alto\, CA\, 94301\, United States
CATEGORIES:milonga,music (live)
ATTACH;FMTTYPE=image/jpeg:https://sftangowith.us/wp-content/uploads/2025/05/Charles-Gorczynski.jpg
END:VEVENT
END:VCALENDAR