BEGIN:VCALENDAR
VERSION:2.0
PRODID:-//SF Tango With.Us - ECPv6.6.2//NONSGML v1.0//EN
CALSCALE:GREGORIAN
METHOD:PUBLISH
X-WR-CALNAME:SF Tango With.Us
X-ORIGINAL-URL:https://sftangowith.us
X-WR-CALDESC:Events for SF Tango With.Us
REFRESH-INTERVAL;VALUE=DURATION:PT1H
X-Robots-Tag:noindex
X-PUBLISHED-TTL:PT1H
BEGIN:VTIMEZONE
TZID:America/Los_Angeles
BEGIN:DAYLIGHT
TZOFFSETFROM:-0800
TZOFFSETTO:-0700
TZNAME:PDT
DTSTART:20250309T100000
END:DAYLIGHT
BEGIN:STANDARD
TZOFFSETFROM:-0700
TZOFFSETTO:-0800
TZNAME:PST
DTSTART:20251102T090000
END:STANDARD
END:VTIMEZONE
BEGIN:VEVENT
DTSTART;TZID=America/Los_Angeles:20250316T193000
DTEND;TZID=America/Los_Angeles:20250317T010000
DTSTAMP:20260425T142937
CREATED:20250222T030552Z
LAST-MODIFIED:20250222T030553Z
UID:10015154-1742153400-1742173200@sftangowith.us
SUMMARY:Villarreal Crom @ Ashkenaz (Live Music)
DESCRIPTION:Ashkenaz presents Juan Villarreal and Patricio Crom! Juan and Pato play guitar and sing\, with music that is “100% milonguerisimo bailable!” (100% danceable music)! This is their second US tour\, and they are celebrating 15 years as a musical duo. \nWith DJ’d music between sets. \nAshkenaz has a real wooden dance floor with plenty of space for everyone. Beer\, wine\, nonalcoholic drinks\, and vegetarian empanadas are offered for sale. All ages welcome. \nDiscount available until midnight on Saturday night. \nSunday\, Mar. 16\n7:30 doors open\n8:00 all – levels dance class\n9:00 milonga with live music \n$20 in advance\, Ashkenaz website\n$25 at the door\n$15 at the door with student ID \n 
URL:https://sftangowith.us/event/villarreal-crom-ashkenaz-live-music/
LOCATION:Ashkenaz\, 1317 San Pablo Ave\, Berkeley\, CA\, United States
CATEGORIES:milonga,music (live),Recommended for Visitors
ATTACH;FMTTYPE=image/jpeg:https://sftangowith.us/wp-content/uploads/2023/04/Duo-Villarreal-Crom.jpg
GEO:37.8801405;-122.2953525
X-APPLE-STRUCTURED-LOCATION;VALUE=URI;X-ADDRESS=Ashkenaz 1317 San Pablo Ave Berkeley CA United States;X-APPLE-RADIUS=500;X-TITLE=1317 San Pablo Ave:geo:-122.2953525,37.8801405
END:VEVENT
END:VCALENDAR