BEGIN:VCALENDAR
VERSION:2.0
PRODID:-//SF Tango With.Us - ECPv6.6.2//NONSGML v1.0//EN
CALSCALE:GREGORIAN
METHOD:PUBLISH
X-WR-CALNAME:SF Tango With.Us
X-ORIGINAL-URL:https://sftangowith.us
X-WR-CALDESC:Events for SF Tango With.Us
REFRESH-INTERVAL;VALUE=DURATION:PT1H
X-Robots-Tag:noindex
X-PUBLISHED-TTL:PT1H
BEGIN:VTIMEZONE
TZID:America/Los_Angeles
BEGIN:DAYLIGHT
TZOFFSETFROM:-0800
TZOFFSETTO:-0700
TZNAME:PDT
DTSTART:20250309T100000
END:DAYLIGHT
BEGIN:STANDARD
TZOFFSETFROM:-0700
TZOFFSETTO:-0800
TZNAME:PST
DTSTART:20251102T090000
END:STANDARD
BEGIN:DAYLIGHT
TZOFFSETFROM:-0800
TZOFFSETTO:-0700
TZNAME:PDT
DTSTART:20260308T100000
END:DAYLIGHT
BEGIN:STANDARD
TZOFFSETFROM:-0700
TZOFFSETTO:-0800
TZNAME:PST
DTSTART:20261101T090000
END:STANDARD
END:VTIMEZONE
BEGIN:VEVENT
DTSTART;TZID=America/Los_Angeles:20250906T200000
DTEND;TZID=America/Los_Angeles:20250907T000000
DTSTAMP:20260424T040909
CREATED:20250805T223729Z
LAST-MODIFIED:20250904T062138Z
UID:10015783-1757188800-1757203200@sftangowith.us
SUMMARY:El Cachivache @ The Dome (Sold Out)
DESCRIPTION:El Cachivache\, the “Punk Tango” band from Argentina with special guest violinist Keiko Cadby rock the house at the Dome Underground Nightclub. \nSaturday\, Sep. 6\n8:00 – Doors open\n8:30 – Sit – down concert\n9:30 – Midnight Milonga with Live Dance Music and DJ \nSuggested donation $25
URL:https://sftangowith.us/event/el-cachivache-the-dome-live-music/
LOCATION:The Dome\, 951 62nd St\, Oakland\, CA\, United States
CATEGORIES:milonga,music (live)
ATTACH;FMTTYPE=image/jpeg:https://sftangowith.us/wp-content/uploads/2025/08/El-Cachivache.jpg
GEO:37.8459067;-122.2777176
X-APPLE-STRUCTURED-LOCATION;VALUE=URI;X-ADDRESS=The Dome 951 62nd St Oakland CA United States;X-APPLE-RADIUS=500;X-TITLE=951 62nd St:geo:-122.2777176,37.8459067
END:VEVENT
BEGIN:VEVENT
DTSTART;TZID=America/Los_Angeles:20250907T133000
DTEND;TZID=America/Los_Angeles:20250907T173000
DTSTAMP:20260424T040909
CREATED:20250825T213334Z
LAST-MODIFIED:20250905T201302Z
UID:10015818-1757251800-1757266200@sftangowith.us
SUMMARY:Milonga Bandoneons - Limited Edition w/ DJ Ayano (Live Music)
DESCRIPTION:How often do you get to dance to 9 BANDONEONISTS at once in the Bay Area?Now’s your chance! Experience the thrill of quality live tango music\, featuring 8 bandoneons and a full orchestra. This one-of-a-kind event will make you feel like you’re dancing to the legendary Pugliese or Troilo orchestras\, right here in San Francisco! \nLive music led by Maestro Ramiro Boero — world-renowned\, multiple Latin Grammy nominee\, bandoneonist\, composer\, and professor from Buenos Aires \nhttps://www.facebook.com/events/1082907000681339 \n1:30–2:30 Práctica (2 – piece tandas)\n2:30 – 5:30 Milonga\n(3 – 3:30 Chacarrera dancing led by Dom Bhuphaibool.)\n(3:30 pm – 4:30 pm: Live music by Mega Orchestra) \n$30/Pre-purchase $40/Door \nLaurel Height Cultural Center\n3150 Geary Blvd\nSan Francisco\, CA
URL:https://sftangowith.us/event/milonga-bandoneons-limited-edition-w-dj-ayano/
LOCATION:Laurel Height Cultural Center\, 3150 Geary Blvd\, San Francisco\, CA\, United States
CATEGORIES:milonga,music (live)
ATTACH;FMTTYPE=image/jpeg:https://sftangowith.us/wp-content/uploads/2025/08/Milonga-Bandoneons-9-2025.jpg
END:VEVENT
BEGIN:VEVENT
DTSTART;TZID=America/Los_Angeles:20250912T203000
DTEND;TZID=America/Los_Angeles:20250913T003000
DTSTAMP:20260424T040909
CREATED:20250903T065623Z
LAST-MODIFIED:20250911T081232Z
UID:10015549-1757709000-1757723400@sftangowith.us
SUMMARY:La Milonga Genesis w/ Gaby Mataloni & Orquesta Típica Tarareando
DESCRIPTION:Tango Workshop 8:30-9:30pm w/ Gaby Mataloni \nMIlonga/Tango Social with Live Music 9:30pm-12:55am\nORQUESTA TIPICA TARAREANDO\nDJ GLENN CORTEZA \nWorkshop and Milonga $45\nWorkshop only $25\nMilonga Only $25 \n$5 discount for full-time college students
URL:https://sftangowith.us/event/la-milonga-genesis-25-2-16/
LOCATION:Genesis Dance\, 404 Clement St.\, San Francisco\, CA
CATEGORIES:milonga,music (live),Recommended for Visitors
ATTACH;FMTTYPE=image/jpeg:https://sftangowith.us/wp-content/uploads/2022/12/Gaby-Mataloni.jpg
GEO:37.7832315;-122.4636431
X-APPLE-STRUCTURED-LOCATION;VALUE=URI;X-ADDRESS=Genesis Dance 404 Clement St. San Francisco CA;X-APPLE-RADIUS=500;X-TITLE=404 Clement St.:geo:-122.4636431,37.7832315
END:VEVENT
BEGIN:VEVENT
DTSTART;TZID=America/Los_Angeles:20250914T130000
DTEND;TZID=America/Los_Angeles:20250914T140000
DTSTAMP:20260424T040909
CREATED:20250911T080936Z
LAST-MODIFIED:20250911T080936Z
UID:10015851-1757854800-1757858400@sftangowith.us
SUMMARY:Flower Piano Festival: Sumi Lee & Ramiro Boero (Live Music)
DESCRIPTION:Celebrate Flower Piano with beautiful contemporary tango music in the Flower Piano Lounge. \nLounge tickets now include all day priority entry to the festival\, special performances from local headliners\, access to premium bars\, food from local makers\, lounge seating\, dedicated restrooms\, and flexibility to relax and enjoy all areas of the festival at will. Lounge performances include Lavay Smith and the Red Hot Skillet Lickers\, Dred Scott & Cali Mambo\, Sixth Station Trio\, Sumi Lee & Ramiro Boero\, and more. \nEnjoy priority entry to the festival\, special performances from local headliners\, access to premium bars\, food from local makers\, lounge seating\, dedicated restrooms\, and flexibility to relax and enjoy all areas of the festival at will. \nLounge hours: 12:00 – 7:30pm (last call 7pm)\nHappy hour specials: 4pm – 5pm\n1:00 Sumi Lee & Ramiro Boero\n3:00 Drummer Fabio Reiss and The Orange Sunshine Experience\n5:00 John Brothers Piano Company \n$50 for 3 shows \nhttps://gggp.my.salesforce-sites.com/ticket/
URL:https://sftangowith.us/event/flower-piano-festival-sumi-lee-ramiro-boero-live-music/
LOCATION:San Francisco Botanical Garden\, 1199 9th Ave\, San Francisco\, 94122\, United States
CATEGORIES:music (live)
ATTACH;FMTTYPE=image/jpeg:https://sftangowith.us/wp-content/uploads/2025/04/Sumi-Lee-Ramiro-Boero.jpg
GEO:37.7666949;-122.4671355
X-APPLE-STRUCTURED-LOCATION;VALUE=URI;X-ADDRESS=San Francisco Botanical Garden 1199 9th Ave San Francisco 94122 United States;X-APPLE-RADIUS=500;X-TITLE=1199 9th Ave:geo:-122.4671355,37.7666949
END:VEVENT
BEGIN:VEVENT
DTSTART;TZID=America/Los_Angeles:20250921T120000
DTEND;TZID=America/Los_Angeles:20250921T150000
DTSTAMP:20260424T040909
CREATED:20250830T214008Z
LAST-MODIFIED:20250915T100214Z
UID:10015627-1758456000-1758466800@sftangowith.us
SUMMARY:Argentine Tango @ Salesforce Park (Free Public Event)
DESCRIPTION:TJPA presents Argentine Tango with Che! Tango SF at Salesforce Park\nSponsored by East Cut Community Benefit District and the Transbay Joint Powers Authority\nEvery 3rd Sunday (except July on Sat 7/19) from May to October.\n~45 mins Intro to Tango class at noon~DJ or Live music (alternating month) for dancing till 3pm\nFull activities schedule:https://www.tjpa.org/salesforce-transit-center/activities\nVisitor information:https://www.tjpa.org/salesforce-transit-center/faq
URL:https://sftangowith.us/event/argentine-tango-salesforce-park-free-public-event-3-2-3/
LOCATION:Salesforce Park\, 425 Mission Street\, San Francisco\, 94105\, United States
CATEGORIES:class,milonga,music (live),outdoor,Recommended for Visitors
ATTACH;FMTTYPE=image/jpeg:https://sftangowith.us/wp-content/uploads/2025/08/Salesforce-Park-Tango-92125.jpg
END:VEVENT
BEGIN:VEVENT
DTSTART;TZID=America/Los_Angeles:20251019T120000
DTEND;TZID=America/Los_Angeles:20251019T150000
DTSTAMP:20260424T040909
CREATED:20251014T115649Z
LAST-MODIFIED:20251014T115650Z
UID:10015628-1760875200-1760886000@sftangowith.us
SUMMARY:Argentine Tango @ Salesforce Park (Free Public Event)
DESCRIPTION:TJPA presents Argentine Tango with Che! Tango SF at Salesforce Park\nSponsored by East Cut Community Benefit District and the Transbay Joint Powers Authority\nEvery 3rd Sunday (except July on Sat 7/19) from May to October.\n~45 mins Intro to Tango class at noon~DJ or Live music (alternating month) for dancing till 3pm\nFull activities schedule:https://www.tjpa.org/salesforce-transit-center/activities\nVisitor information:https://www.tjpa.org/salesforce-transit-center/faq
URL:https://sftangowith.us/event/argentine-tango-salesforce-park-free-public-event-3-2-4/
LOCATION:Salesforce Park\, 425 Mission Street\, San Francisco\, 94105\, United States
CATEGORIES:class,milonga,music (live),outdoor,Recommended for Visitors
ATTACH;FMTTYPE=image/jpeg:https://sftangowith.us/wp-content/uploads/2025/06/Salesforce-Park-Tango-101925.jpg
END:VEVENT
BEGIN:VEVENT
DTSTART;TZID=America/Los_Angeles:20251026T140000
DTEND;TZID=America/Los_Angeles:20251026T170000
DTSTAMP:20260424T040909
CREATED:20251023T204742Z
LAST-MODIFIED:20251023T204845Z
UID:10015935-1761487200-1761498000@sftangowith.us
SUMMARY:$5 LOFT Live Music Practica @ The Dome
DESCRIPTION:The Bay AREA’s LOFT Community Orchestra and the Bando Brigade play live music for tango dancers with DJ music between live sets by Homer Ladas! \nNO RESERVATIONS NEEDED just bring 5 Bucks and your dance shoes!! \n2:00 – Doors open DJ music\n2:30 – Bando Brigade\n2:45 – LOFT community orchestra
URL:https://sftangowith.us/event/dome-5-loft-live-music-practica/
LOCATION:The Dome\, 951 62nd St\, Oakland\, CA\, United States
CATEGORIES:milonga,music (live),practica
GEO:37.8459067;-122.2777176
X-APPLE-STRUCTURED-LOCATION;VALUE=URI;X-ADDRESS=The Dome 951 62nd St Oakland CA United States;X-APPLE-RADIUS=500;X-TITLE=951 62nd St:geo:-122.2777176,37.8459067
END:VEVENT
BEGIN:VEVENT
DTSTART;TZID=America/Los_Angeles:20251114T140000
DTEND;TZID=America/Los_Angeles:20251117T030000
DTSTAMP:20260424T040909
CREATED:20250717T073612Z
LAST-MODIFIED:20251009T012021Z
UID:10015759-1763128800-1763348400@sftangowith.us
SUMMARY:Bay Tango Festival & Marathon
DESCRIPTION:Visit our website to learn more: baytango.com\nInstagram: @baytangofestival\nFB page: BayTango Festival & Marathon
URL:https://sftangowith.us/event/bay-tango-festival-marathon/
LOCATION:CA
CATEGORIES:class,festival,milonga,music (live),outdoor,performance,practica,Recommended for Visitors,workshop
ATTACH;FMTTYPE=image/jpeg:https://sftangowith.us/wp-content/uploads/2025/07/BTFM-Flyer-7-x-5-in-1.jpg
ORGANIZER;CN="Rena":MAILTO:Lacadenciatango@gmail.com
END:VEVENT
BEGIN:VEVENT
DTSTART;TZID=America/Los_Angeles:20251209T200000
DTEND;TZID=America/Los_Angeles:20251210T000000
DTSTAMP:20260424T040909
CREATED:20251205T013111Z
LAST-MODIFIED:20251205T013112Z
UID:10012242-1765310400-1765324800@sftangowith.us
SUMMARY:El Valenciano Milonga w/ 4teto Ramilonga & DJ Prashant (Live Music)
DESCRIPTION:Celebrate International Tango Day!\nLive Music by Cuarteto Ramilonga \n8pm-12am – Milonga-Tango Social\nDJ Prashant \nAround 9:30-10:30pm\nLive Music with Cuarteto Ramilonga \nDiego Bayani Ramil (Piano)\nPolina Sedukh (Violin)\nJulian Ramil (Bandoneoneon)\nSascha Jacobsen (Double Bass) \nMilonga Admission $25\n*$5 discount with purchase of diah or driink from the menu \n$15 admission for non-dancers and college students
URL:https://sftangowith.us/event/el-valenciano-milonga-25-52/
LOCATION:El Valenciano\, 1153 Valencia Street\, San Francisco\, CA\, United States
CATEGORIES:class,milonga,music (live),Recommended for Visitors
ATTACH;FMTTYPE=image/jpeg:https://sftangowith.us/wp-content/uploads/2017/07/El-Valenciano-e1543830832700.jpg
GEO:37.7545379;-122.4205807
X-APPLE-STRUCTURED-LOCATION;VALUE=URI;X-ADDRESS=El Valenciano 1153 Valencia Street San Francisco CA United States;X-APPLE-RADIUS=500;X-TITLE=1153 Valencia Street:geo:-122.4205807,37.7545379
END:VEVENT
BEGIN:VEVENT
DTSTART;TZID=America/Los_Angeles:20260307T200000
DTEND;TZID=America/Los_Angeles:20260308T000000
DTSTAMP:20260424T040910
CREATED:20260306T200125Z
LAST-MODIFIED:20260306T200125Z
UID:10016341-1772913600-1772928000@sftangowith.us
SUMMARY:DOME season opens w/ Fabrizio Colombo Trio (Live Music)
DESCRIPTION:From Paris\, the FABRIZIO COLOMBO Trio starring Lucas Frontini\, Emilie Aridon-kociolek\, and Fabrizio Colombo in concert at the dome. Milonga Atipica after concert with live big band orchestra Tipica music by the Dome Orchestra with guest conductor Fabrizio Colombo \n8:00 – doors open\n8:30 – Sit – down concert by the FABRIZIO COLOMBO Trio\n9:30 – midnight Live Big Band Tango by Dome Orchestra \nSuggested donation $25 \n 
URL:https://sftangowith.us/event/dome-season-opens-w-fabrizio-colombo-trio-live-music/
LOCATION:The Dome\, 951 62nd St\, Oakland\, CA\, United States
CATEGORIES:milonga,music (live)
GEO:37.8459067;-122.2777176
X-APPLE-STRUCTURED-LOCATION;VALUE=URI;X-ADDRESS=The Dome 951 62nd St Oakland CA United States;X-APPLE-RADIUS=500;X-TITLE=951 62nd St:geo:-122.2777176,37.8459067
END:VEVENT
BEGIN:VEVENT
DTSTART;TZID=America/Los_Angeles:20260310T200000
DTEND;TZID=America/Los_Angeles:20260311T000000
DTSTAMP:20260424T040910
CREATED:20260302T111341Z
LAST-MODIFIED:20260311T044615Z
UID:10016141-1773172800-1773187200@sftangowith.us
SUMMARY:El V - Class & Piazzolla B-day Celebration (DJ Aijan\, Live Music)
DESCRIPTION:Astor Piazzolla Birthday Celebration with Quinteto Hora Cero & Ramilonga \n7:30–8:30pm Tango Class All Levels-Beginners Welcome. No partner required and drops ins welcome. w/ MIRANDA LINDELOW \nMilonga-Tango Social\n8:30pm–Midnight\nDj AIJAN \n9pm live Music \nDiego Ramil-Bandoneon\nJulian Ramil-Bandoneon\nPolina Sedukh-Violin\nCrystie Shum-Piano\nRamada Salieri-Guitar\nSascha Jacobsen-Contrabass \nMilonga admission: $25\nor $15 with College Student ID or spectators\nPlus $10 w/ Class
URL:https://sftangowith.us/event/el-valenciano-milonga-26-11/
LOCATION:El Valenciano\, 1153 Valencia Street\, San Francisco\, CA\, United States
CATEGORIES:class,milonga,music (live),Recommended for Visitors
ATTACH;FMTTYPE=image/jpeg:https://sftangowith.us/wp-content/uploads/2017/06/Aijan-DJ.jpg
GEO:37.7545379;-122.4205807
X-APPLE-STRUCTURED-LOCATION;VALUE=URI;X-ADDRESS=El Valenciano 1153 Valencia Street San Francisco CA United States;X-APPLE-RADIUS=500;X-TITLE=1153 Valencia Street:geo:-122.4205807,37.7545379
END:VEVENT
BEGIN:VEVENT
DTSTART;TZID=America/Los_Angeles:20260314T200000
DTEND;TZID=America/Los_Angeles:20260315T000000
DTSTAMP:20260424T040910
CREATED:20260306T202333Z
LAST-MODIFIED:20260306T202333Z
UID:10016343-1773518400-1773532800@sftangowith.us
SUMMARY:Dome 5 YEAR Anniversary w/ Pablo Estigarribia
DESCRIPTION:Come celebrate the Dome Underground Nightclub’s 5 year anniversary with Pablo Estigarribia and Santiago Segret from Argentina. Followed by a Milonga Atipica with Live Big Band Tango music by the Dome Allstar Orchestra with guest conductor Sumi Lee. Renowned Bandoneon player Clara Stern joins the 11 piece orchestra. Dj music between live sets \n8:00 – doors open\n8:30 – sit – down concert with Pablo Estigarribia and Santiago Segret\n9:30 – midnight – Live tango dance music by an All – star Dome Orchestra \nSuggested donation $25
URL:https://sftangowith.us/event/dome-5-year-anniversary-w-pablo-estigarribia/
LOCATION:The Dome\, 951 62nd St\, Oakland\, CA\, United States
CATEGORIES:milonga,music (live)
ATTACH;FMTTYPE=image/jpeg:https://sftangowith.us/wp-content/uploads/2023/06/Pablo-Estigarribia.jpg
GEO:37.8459067;-122.2777176
X-APPLE-STRUCTURED-LOCATION;VALUE=URI;X-ADDRESS=The Dome 951 62nd St Oakland CA United States;X-APPLE-RADIUS=500;X-TITLE=951 62nd St:geo:-122.2777176,37.8459067
END:VEVENT
BEGIN:VEVENT
DTSTART;TZID=America/Los_Angeles:20260404T200000
DTEND;TZID=America/Los_Angeles:20260405T010000
DTSTAMP:20260424T040910
CREATED:20260403T012001Z
LAST-MODIFIED:20260403T012110Z
UID:10016419-1775332800-1775350800@sftangowith.us
SUMMARY:La Reina Milonga w/ Cuarteto Ramilonga (Live Music\, DJ Kostas)
DESCRIPTION:LA REINA Special Milonga event with CUARTETO RAMILONGA + Guest Singer ADRIAN DURSO + SOCIAL DANCING with DJ KOSTAS and Workshop by ANDREA & ADRIAN! \nWONDERFUL 2\,400 sqft. GRAND BALLROOM with great smooth wood floor! + Spacious reception drink & food area + great sitting!\nBOOK YOUR TABLE by Fri April 3 (free service!):\ntangoandreamonti@nullgmail.com \n8:00 – 9.00 pm Tango workshop by ANDREA MONTI & ADRIAN DURSO\n9:00pm – 1:00am MILONGA with DJ KOSTAS from SF \n10.30pm CUARTETO RAMILONGA 1st set\n11.05pm RAFFLES: bottle of champagne +bottle of Malbec wine!\n11.30 pm CUARTETO RAMILONGA 2nd set \nCOMPLIMENTARY: delicious\, sweet/salty snacks\, cake\, iced fruit water\, soft drinks and wine.\nPARKING: parking lot + huge additional parking at the Mountain View Public Library + on the surrounding streets. \nCOST (Cash Preferred; $5 extra per person for live band tonight):\n$35 – Workshop & Milonga\n$30 – Milonga Only \n 
URL:https://sftangowith.us/event/la-reina-milonga-w-cuarteto-ramilonga-live-music-dj-kostas/
LOCATION:Masonic Lodge\, 9 Altarinda Ave\, Orinda\, CA\, 94704\, United States
CATEGORIES:milonga,music (live),Recommended for Visitors
ATTACH;FMTTYPE=image/jpeg:https://sftangowith.us/wp-content/uploads/2025/04/DJ-Kostas-3.jpeg
GEO:37.8827445;-122.1848043
X-APPLE-STRUCTURED-LOCATION;VALUE=URI;X-ADDRESS=Masonic Lodge 9 Altarinda Ave Orinda CA 94704 United States;X-APPLE-RADIUS=500;X-TITLE=9 Altarinda Ave:geo:-122.1848043,37.8827445
END:VEVENT
BEGIN:VEVENT
DTSTART;TZID=America/Los_Angeles:20260425T200000
DTEND;TZID=America/Los_Angeles:20260426T000000
DTSTAMP:20260424T040910
CREATED:20260416T050033Z
LAST-MODIFIED:20260416T050033Z
UID:10016424-1777147200-1777161600@sftangowith.us
SUMMARY:Sumi and Ramiro @ The Dome (Live Music)
DESCRIPTION:Sumi Lee (San Francisco – pianist) and Ramiro Boero (Argentina – bandoneon) in concert at the Dome Underground Nightclub. Followed by a Milonga Atipica with live dance music by the 11 piece Dome Orchestra with guest conductor Ramiro Boero. Dj music between live sets \n8:00 – doors open\n8:30 – 9:00 sit down concert by Sumi Lee and Ramiro Boero\n9:30 – Midnight – Live big band dance music by the Dome Orchestra \nSuggested donation $25
URL:https://sftangowith.us/event/sumi-and-ramiro-the-dome-live-music/
LOCATION:The Dome\, 951 62nd St\, Oakland\, CA\, United States
CATEGORIES:milonga,music (live),Recommended for Visitors
ATTACH;FMTTYPE=image/jpeg:https://sftangowith.us/wp-content/uploads/2025/04/Sumi-Lee-Ramiro-Boero.jpg
GEO:37.8459067;-122.2777176
X-APPLE-STRUCTURED-LOCATION;VALUE=URI;X-ADDRESS=The Dome 951 62nd St Oakland CA United States;X-APPLE-RADIUS=500;X-TITLE=951 62nd St:geo:-122.2777176,37.8459067
END:VEVENT
BEGIN:VEVENT
DTSTART;VALUE=DATE:20261113
DTEND;VALUE=DATE:20261117
DTSTAMP:20260424T040910
CREATED:20260103T032911Z
LAST-MODIFIED:20260103T035425Z
UID:10016128-1794553200-1794812399@sftangowith.us
SUMMARY:Bay Tango Festival & Marathon (BTFM)
DESCRIPTION:Visit our website to learn more: baytango.com\nInstagram: @baytangofestival\nFB page: BayTango Festival & Marathon\nHighlights of 2025 edition: https://fb.watch/EohzkpaBAL/ 
URL:https://sftangowith.us/event/bay-tango-festival-marathon-btfm/
LOCATION:CA
CATEGORIES:class,festival,milonga,music (live),outdoor,performance,practica,Recommended for Visitors,workshop
ATTACH;FMTTYPE=image/jpeg:https://sftangowith.us/wp-content/uploads/2026/01/facebook_post-11.jpg
ORGANIZER;CN="Rena":MAILTO:Lacadenciatango@gmail.com
END:VEVENT
END:VCALENDAR