BEGIN:VCALENDAR
VERSION:2.0
PRODID:-//SF Tango With.Us - ECPv6.6.2//NONSGML v1.0//EN
CALSCALE:GREGORIAN
METHOD:PUBLISH
X-ORIGINAL-URL:https://sftangowith.us
X-WR-CALDESC:Events for SF Tango With.Us
REFRESH-INTERVAL;VALUE=DURATION:PT1H
X-Robots-Tag:noindex
X-PUBLISHED-TTL:PT1H
BEGIN:VTIMEZONE
TZID:America/Los_Angeles
BEGIN:DAYLIGHT
TZOFFSETFROM:-0800
TZOFFSETTO:-0700
TZNAME:PDT
DTSTART:20190310T100000
END:DAYLIGHT
BEGIN:STANDARD
TZOFFSETFROM:-0700
TZOFFSETTO:-0800
TZNAME:PST
DTSTART:20191103T090000
END:STANDARD
BEGIN:DAYLIGHT
TZOFFSETFROM:-0800
TZOFFSETTO:-0700
TZNAME:PDT
DTSTART:20200308T100000
END:DAYLIGHT
BEGIN:STANDARD
TZOFFSETFROM:-0700
TZOFFSETTO:-0800
TZNAME:PST
DTSTART:20201101T090000
END:STANDARD
END:VTIMEZONE
BEGIN:VEVENT
DTSTART;TZID=America/Los_Angeles:20200110T210000
DTEND;TZID=America/Los_Angeles:20200111T013000
DTSTAMP:20260421T055046
CREATED:20191112T112431Z
LAST-MODIFIED:20200110T202342Z
UID:10006367-1578690000-1578706200@sftangowith.us
SUMMARY:La Milonga Genesis w/ DJ Felipe
DESCRIPTION:9:00pm – 10:00 pm – Tango Lesson w/ Felipe & Ayano\n10:00pm – 1:30am – Milonga w/ DJ Felipe \nLesson & Milonga $20\nMilonga only $15\n$5 discount for full-time college students \n 
URL:https://sftangowith.us/event/la-milonga-genesis-20-2020-01-10/
LOCATION:Genesis Dance\, 404 Clement St.\, San Francisco\, CA
CATEGORIES:class,milonga
ATTACH;FMTTYPE=image/jpeg:https://sftangowith.us/wp-content/uploads/2018/10/Felipe-and-Ayano-Marie-Dominique-Verdier-e1539722962556.jpg
GEO:37.7832315;-122.4636431
X-APPLE-STRUCTURED-LOCATION;VALUE=URI;X-ADDRESS=Genesis Dance 404 Clement St. San Francisco CA;X-APPLE-RADIUS=500;X-TITLE=404 Clement St.:geo:-122.4636431,37.7832315
END:VEVENT
BEGIN:VEVENT
DTSTART;TZID=America/Los_Angeles:20200107T203000
DTEND;TZID=America/Los_Angeles:20200108T000000
DTSTAMP:20260421T055046
CREATED:20191112T111631Z
LAST-MODIFIED:20200107T074137Z
UID:10006357-1578429000-1578441600@sftangowith.us
SUMMARY:El Valenciano Milonga w/ DJ Jun
DESCRIPTION:8:30pm-12am Tango Bailongo w/ DJ Jun \n$15 Milonga\n$10 before 9PM and for FULL-TIME college students \nProvided by Julian & Claudia
URL:https://sftangowith.us/event/el-valenciano-milonga-0/
LOCATION:El Valenciano\, 1153 Valencia Street\, San Francisco\, CA\, United States
CATEGORIES:milonga
ATTACH;FMTTYPE=image/jpeg:https://sftangowith.us/wp-content/uploads/2019/03/Jun-e1623194978298.jpg
GEO:37.7545379;-122.4205807
X-APPLE-STRUCTURED-LOCATION;VALUE=URI;X-ADDRESS=El Valenciano 1153 Valencia Street San Francisco CA United States;X-APPLE-RADIUS=500;X-TITLE=1153 Valencia Street:geo:-122.4205807,37.7545379
END:VEVENT
BEGIN:VEVENT
DTSTART;TZID=America/Los_Angeles:20200106T201500
DTEND;TZID=America/Los_Angeles:20200107T004500
DTSTAMP:20260421T055046
CREATED:20170610T100313Z
LAST-MODIFIED:20200109T083144Z
UID:10006220-1578341700-1578357900@sftangowith.us
SUMMARY:Orange Practica @ The Beat w/ DJ Ziyan Zhu
DESCRIPTION:8:15 – 9:15   Intermediate Tango Class\n9:15 – 12:45   Practica w/ DJ Ziyan Zhu \n$15 Class + Practica*\n$10 Practica only* \n*Special Discount – There is an additional $5 off for full time college students with valid IDs (up to 30 years of age). \nJoin Felipe Martinez\, Homer Ladas\, and other local and visiting instructors/DJs for this weekly event. As a general rule\, our intermediate classes are challenging and our practicas are fun! DJed music can vary from all traditional to mixed (some alternative).
URL:https://sftangowith.us/event/orange-practica-the-beat-2020-01-06/
LOCATION:The Beat\, 2560 Ninth Street\, Berkeley\, CA\, United States
CATEGORIES:class,milonga,practica
ATTACH;FMTTYPE=image/jpeg:https://sftangowith.us/wp-content/uploads/2017/06/TangoatTheBeat.jpg
ORGANIZER;CN="Felipe and Ayano":MAILTO:tangonnection@gmail.com
GEO:37.8591971;-122.2917693
X-APPLE-STRUCTURED-LOCATION;VALUE=URI;X-ADDRESS=The Beat 2560 Ninth Street Berkeley CA United States;X-APPLE-RADIUS=500;X-TITLE=2560 Ninth Street:geo:-122.2917693,37.8591971
END:VEVENT
BEGIN:VEVENT
DTSTART;TZID=America/Los_Angeles:20200105T190000
DTEND;TZID=America/Los_Angeles:20200106T000000
DTSTAMP:20260421T055046
CREATED:20170610T102456Z
LAST-MODIFIED:20200109T185617Z
UID:10006218-1578250800-1578268800@sftangowith.us
SUMMARY:Milonga @ Alberto's w/ DJ Caleb Welton
DESCRIPTION:MILONGA @ Alberto’s\, 736 W. Dana\, Mountain View\, CA \n7pm – Midnight   $10 \nDJ: Caleb Welton
URL:https://sftangowith.us/event/milonga-albertos-2020-01-05/
LOCATION:Alberto’s Night Club\, 736 W. Dana St.\, Mountain View\, CA\, United States
CATEGORIES:milonga
ATTACH;FMTTYPE=image/jpeg:https://sftangowith.us/wp-content/uploads/2017/06/Caleb_2016-e1555155359955.jpg
GEO:37.3923683;-122.0789214
X-APPLE-STRUCTURED-LOCATION;VALUE=URI;X-ADDRESS=Alberto’s Night Club 736 W. Dana St. Mountain View CA United States;X-APPLE-RADIUS=500;X-TITLE=736 W. Dana St.:geo:-122.0789214,37.3923683
END:VEVENT
BEGIN:VEVENT
DTSTART;TZID=America/Los_Angeles:20200104T200000
DTEND;TZID=America/Los_Angeles:20200105T013000
DTSTAMP:20260421T055046
CREATED:20191225T011015Z
LAST-MODIFIED:20191225T011543Z
UID:10006457-1578168000-1578187800@sftangowith.us
SUMMARY:Vecher Tango @ The Russian Center w/ DJ Aijan Jumukova
DESCRIPTION:8:00 – 9:00 Class w/ Glenn Corteza & Julia Zharova\n9:00 – 1:30a Milonga w/ DJ Aijan Jumukova \n$20 Class + Milonga\n$15 Milonga Only\n$10 Class Only\n$5 after Midnight\nPrices higher on special event nights – live music\, visiting teachers\, performances \nVecher Tango milonga in the magnificent Grand Ballroom at the Russian Center of San Francisco is usually held first\, third and fifth Saturdays of the month. However it’s the nature of our venue that we occasionally have to slide our schedule to another Saturday\, so do check TangoMango.org and Facebook for updates. Dance to selections of Classic Argentine Tango by top local and visiting DJ’s. Live music on certain occasions. Awesome Sound System. Silk smooth floor\, Art Deco ambiance\, Romantic atmosphere\, great space for dancing! Class/workshop prior to milonga. Full licensed bar with zakuski (food). No outside alcohol please. Bar opens at 8:30pm. Table reservations for a party of 5+ \nvechertango@nullgmail.com
URL:https://sftangowith.us/event/vecher-tango-the-russian-center-of-sf-2020-01-04/
LOCATION:Russian Center of San Francisco\, 2460 Sutter St\, San Francisco\, CA\, United States
CATEGORIES:class,milonga
ATTACH;FMTTYPE=image/jpeg:https://sftangowith.us/wp-content/uploads/2017/06/Aijan-DJ.jpg
GEO:37.7853848;-122.440907
X-APPLE-STRUCTURED-LOCATION;VALUE=URI;X-ADDRESS=Russian Center of San Francisco 2460 Sutter St San Francisco CA United States;X-APPLE-RADIUS=500;X-TITLE=2460 Sutter St:geo:-122.440907,37.7853848
END:VEVENT
BEGIN:VEVENT
DTSTART;TZID=America/Los_Angeles:20200103T210000
DTEND;TZID=America/Los_Angeles:20200104T013000
DTSTAMP:20260421T055046
CREATED:20191112T112431Z
LAST-MODIFIED:20200109T083328Z
UID:10006366-1578085200-1578101400@sftangowith.us
SUMMARY:La Milonga Genesis w/ DJ Mungai
DESCRIPTION:9:00pm – 10:00 pm – Tango Lesson\n10:00pm – 1:30am – Milonga w/ DJ Mungai \nLesson & Milonga $20\nMilonga only $15\n$5 discount for full-time college students \n 
URL:https://sftangowith.us/event/la-milonga-genesis-2020-01-03/
LOCATION:Genesis Dance\, 404 Clement St.\, San Francisco\, CA
CATEGORIES:class,milonga
ATTACH;FMTTYPE=image/jpeg:https://sftangowith.us/wp-content/uploads/2017/06/Genesis-by-Yuling.jpg
GEO:37.7832315;-122.4636431
X-APPLE-STRUCTURED-LOCATION;VALUE=URI;X-ADDRESS=Genesis Dance 404 Clement St. San Francisco CA;X-APPLE-RADIUS=500;X-TITLE=404 Clement St.:geo:-122.4636431,37.7832315
END:VEVENT
BEGIN:VEVENT
DTSTART;TZID=America/Los_Angeles:20200102T200000
DTEND;TZID=America/Los_Angeles:20200103T010000
DTSTAMP:20260421T055046
CREATED:20170705T222432Z
LAST-MODIFIED:20191218T223253Z
UID:10006214-1577995200-1578013200@sftangowith.us
SUMMARY:Malevaje Milonga w/ DJ Olga Bogatova
DESCRIPTION:Milonga Malevaje once a month milonga\nThe first Thursday of every month \nCLASS from 8:00 to 9:00 pm\nMILONGA from 9:00 to 1:00am w/ DJ Olga Bogatova \nClass only $15.00\nMilonga only $15.00\nTogether $25.00 \nHosted by Adolfo Caszarry\nPlenty of parking and lots of restaurants in the area\nFor more info: call 415-810-6040
URL:https://sftangowith.us/event/malevaje-milonga-19-2019-12-05-2020-01-02/
LOCATION:Verdi Club\, 2424 Mariposa St\, San Francisco\, CA\, United States
CATEGORIES:class,milonga
ATTACH;FMTTYPE=image/jpeg:https://sftangowith.us/wp-content/uploads/2017/06/Olga-Bogatova-DJ.jpg
GEO:37.7634058;-122.4079386
X-APPLE-STRUCTURED-LOCATION;VALUE=URI;X-ADDRESS=Verdi Club 2424 Mariposa St San Francisco CA United States;X-APPLE-RADIUS=500;X-TITLE=2424 Mariposa St:geo:-122.4079386,37.7634058
END:VEVENT
BEGIN:VEVENT
DTSTART;TZID=America/Los_Angeles:20191231T200000
DTEND;TZID=America/Los_Angeles:20200101T010000
DTSTAMP:20260421T055046
CREATED:20191128T005540Z
LAST-MODIFIED:20191204T064227Z
UID:10006403-1577822400-1577840400@sftangowith.us
SUMMARY:New Year's Eve Milonga @ Alma del Tango (Live Music)
DESCRIPTION:Celebrate New Year’s Eve at Alma del Tango. Featuring Live music with Los Tangueros del Oeste\, Champagne Toast\, Performances\, Gourmet Appetizers and Desserts \nEarly Bird Tix $45 til Dec 15th\, $60 after\, $75 at door if available (space limited)
URL:https://sftangowith.us/event/new-years-eve-milonga-alma-del-tango-live-music/
LOCATION:Alma del Tango\, 167 Turnstead Av.\, San Anselmo\, CA\, 94960\, United States
CATEGORIES:milonga,music (live),performance
ORGANIZER;CN="Debbie Goodwin &amp%3B John Campbell":MAILTO:info@almadeltango.org
GEO:37.973697;-122.564118
X-APPLE-STRUCTURED-LOCATION;VALUE=URI;X-ADDRESS=Alma del Tango 167 Turnstead Av. San Anselmo CA 94960 United States;X-APPLE-RADIUS=500;X-TITLE=167 Turnstead Av.:geo:-122.564118,37.973697
END:VEVENT
END:VCALENDAR