BEGIN:VCALENDAR
VERSION:2.0
PRODID:-//SF Tango With.Us - ECPv6.6.2//NONSGML v1.0//EN
CALSCALE:GREGORIAN
METHOD:PUBLISH
X-WR-CALNAME:SF Tango With.Us
X-ORIGINAL-URL:https://sftangowith.us
X-WR-CALDESC:Events for SF Tango With.Us
REFRESH-INTERVAL;VALUE=DURATION:PT1H
X-Robots-Tag:noindex
X-PUBLISHED-TTL:PT1H
BEGIN:VTIMEZONE
TZID:America/Los_Angeles
BEGIN:DAYLIGHT
TZOFFSETFROM:-0800
TZOFFSETTO:-0700
TZNAME:PDT
DTSTART:20200308T100000
END:DAYLIGHT
BEGIN:STANDARD
TZOFFSETFROM:-0700
TZOFFSETTO:-0800
TZNAME:PST
DTSTART:20201101T090000
END:STANDARD
BEGIN:DAYLIGHT
TZOFFSETFROM:-0800
TZOFFSETTO:-0700
TZNAME:PDT
DTSTART:20210314T100000
END:DAYLIGHT
BEGIN:STANDARD
TZOFFSETFROM:-0700
TZOFFSETTO:-0800
TZNAME:PST
DTSTART:20211107T090000
END:STANDARD
BEGIN:DAYLIGHT
TZOFFSETFROM:-0800
TZOFFSETTO:-0700
TZNAME:PDT
DTSTART:20220313T100000
END:DAYLIGHT
BEGIN:STANDARD
TZOFFSETFROM:-0700
TZOFFSETTO:-0800
TZNAME:PST
DTSTART:20221106T090000
END:STANDARD
BEGIN:DAYLIGHT
TZOFFSETFROM:-0800
TZOFFSETTO:-0700
TZNAME:PDT
DTSTART:20230312T100000
END:DAYLIGHT
BEGIN:STANDARD
TZOFFSETFROM:-0700
TZOFFSETTO:-0800
TZNAME:PST
DTSTART:20231105T090000
END:STANDARD
BEGIN:DAYLIGHT
TZOFFSETFROM:-0800
TZOFFSETTO:-0700
TZNAME:PDT
DTSTART:20240310T100000
END:DAYLIGHT
BEGIN:STANDARD
TZOFFSETFROM:-0700
TZOFFSETTO:-0800
TZNAME:PST
DTSTART:20241103T090000
END:STANDARD
BEGIN:DAYLIGHT
TZOFFSETFROM:-0800
TZOFFSETTO:-0700
TZNAME:PDT
DTSTART:20250309T100000
END:DAYLIGHT
BEGIN:STANDARD
TZOFFSETFROM:-0700
TZOFFSETTO:-0800
TZNAME:PST
DTSTART:20251102T090000
END:STANDARD
END:VTIMEZONE
BEGIN:VEVENT
DTSTART;TZID=America/Los_Angeles:20201024T160000
DTEND;TZID=America/Los_Angeles:20201024T164500
DTSTAMP:20260421T104809
CREATED:20201031T005413Z
LAST-MODIFIED:20201031T005414Z
UID:10006751-1603555200-1603557900@sftangowith.us
SUMMARY:Tango Music To Your Soul\, Bandoneón & Piano Duo (Live Music)
DESCRIPTION:“Be part of the recovery. Socially enlightened & physically distanced outdoor performances on the bay!”\nGolden Gate Int’l Artists is proud to present “Tango Music to your Soul” – Las Almas\, Bandoneón & Piano Duo at San Francisco International Arts Festival OUTDOOR concert on OCT. 24\, 4pm. \nhttps://www.sfiaf.org/sumi_lee_heyni_solera \nBring your drinks\, food\, lawn chair/blanket and enjoy the music by the bay.
URL:https://sftangowith.us/event/tango-music-to-your-soul-bandoneon-piano-duo-live-music/
LOCATION:Fort Mason Center for Arts & Culture\, 2 Marina Blvd\, San Francisco\, CA
CATEGORIES:music (live),outdoor
ATTACH;FMTTYPE=image/jpeg:https://sftangowith.us/wp-content/uploads/2020/10/Tango-Music-to-your-Soul.jpg
GEO:37.8053418;-122.4324908
X-APPLE-STRUCTURED-LOCATION;VALUE=URI;X-ADDRESS=Fort Mason Center for Arts & Culture 2 Marina Blvd San Francisco CA;X-APPLE-RADIUS=500;X-TITLE=2 Marina Blvd:geo:-122.4324908,37.8053418
END:VEVENT
BEGIN:VEVENT
DTSTART;TZID=America/Los_Angeles:20220917T120000
DTEND;TZID=America/Los_Angeles:20220917T130000
DTSTAMP:20260421T104809
CREATED:20220802T221907Z
LAST-MODIFIED:20220802T221907Z
UID:10007650-1663416000-1663419600@sftangowith.us
SUMMARY:Trio Poema @ San Francisco Botanical Garden (Live Music)
DESCRIPTION:We are happy to return to the beloved Flower Piano event in San Francisco Botanical Gardens. We will play a set of golden age tangos along with tango nuevo pieces. \nFree entrance to the garden for SF Residents with valid ID\, free before 9am for all\, otherwise $10 admission. \nMore information about the Flower Piano can be found here https://www.sfbg.org/flowerpiano
URL:https://sftangowith.us/event/trio-poema-san-francisco-botanical-garden-live-music/
LOCATION:San Francisco Botanical Garden\, 1199 9th Ave\, San Francisco\, 94122\, United States
CATEGORIES:music (live),outdoor
ATTACH;FMTTYPE=image/jpeg:https://sftangowith.us/wp-content/uploads/2022/08/Trio-Poema-Tango.jpg
GEO:37.7666949;-122.4671355
X-APPLE-STRUCTURED-LOCATION;VALUE=URI;X-ADDRESS=San Francisco Botanical Garden 1199 9th Ave San Francisco 94122 United States;X-APPLE-RADIUS=500;X-TITLE=1199 9th Ave:geo:-122.4671355,37.7666949
END:VEVENT
BEGIN:VEVENT
DTSTART;TZID=America/Los_Angeles:20220918T120000
DTEND;TZID=America/Los_Angeles:20220918T130000
DTSTAMP:20260421T104809
CREATED:20220914T004133Z
LAST-MODIFIED:20220914T004356Z
UID:10007313-1663502400-1663506000@sftangowith.us
SUMMARY:Flower Piano Festival: Tango Concert at Great Meadow (Live Music)
DESCRIPTION:Have you danced tango to live music at the Flower piano festival at SF Botanical Garden while having a picnic? This would be another happy gathering over live music and dancing. We have the best spot\, “GREAT MEADOW”\, in the middle of the botanical garden for you to dance\, picnic\, run around\, or chill with your friends and family while listening to the live tango music. I will be performing with my new amazing colleague\, Basma Edrees\, and the local favorite Teresa Tam. I might have more guest artists joining. After the show\, we will hang out and have a picnic listening to other beautiful concerts in the park. There are 12 pianos throughout the park and many concerts will be offered all day. Hope to have you build another beautiful memory together. Free admission for SF residence w/ID. $7-17 for the senior/adult.\n(Festival Schedule: https://www.sfbg.org/flowerpiano) \nTango Artists’ websites:\nhttps://www.sumilee.com/\nhttps://basmaedreesviolin.com/\nhttps://www.facebook.com/TeresaTamMusic
URL:https://sftangowith.us/event/flower-piano-festival-tango-concert-at-great-meadow/
LOCATION:San Francisco Botanical Garden\, 1199 9th Ave\, San Francisco\, 94122\, United States
CATEGORIES:music (live),outdoor
ATTACH;FMTTYPE=image/jpeg:https://sftangowith.us/wp-content/uploads/2022/09/Flower-Piano-Great-Meadow.jpg
GEO:37.7666949;-122.4671355
X-APPLE-STRUCTURED-LOCATION;VALUE=URI;X-ADDRESS=San Francisco Botanical Garden 1199 9th Ave San Francisco 94122 United States;X-APPLE-RADIUS=500;X-TITLE=1199 9th Ave:geo:-122.4671355,37.7666949
END:VEVENT
BEGIN:VEVENT
DTSTART;TZID=America/Los_Angeles:20220924T130000
DTEND;TZID=America/Los_Angeles:20220924T160000
DTSTAMP:20260421T104809
CREATED:20220901T202819Z
LAST-MODIFIED:20220901T203017Z
UID:10007285-1664024400-1664035200@sftangowith.us
SUMMARY:Tango In the Square w/ Ramilonga (Live Music)
DESCRIPTION:Yes\, we are back with TiS on last Saturday in September. Join us for an afternoon for music and dance. \nBand — Ramilonga\nPerformers — The Christy Cote troupe\nDJ — Ivan \nVaccination and Masks strongly advised. \nHosted by the Bay Area Tango Association and the Union Square Alliance
URL:https://sftangowith.us/event/tango-in-the-square-live-music-2022-09-24/
LOCATION:Union Square\, 333 Post Street\, San Francisco\, CA\, United States
CATEGORIES:milonga,music (live),outdoor
ATTACH;FMTTYPE=image/jpeg:https://sftangowith.us/wp-content/uploads/2022/09/Ramilonga-Ivan-Shvarts.jpg
GEO:37.7879384;-122.4075056
X-APPLE-STRUCTURED-LOCATION;VALUE=URI;X-ADDRESS=Union Square 333 Post Street San Francisco CA United States;X-APPLE-RADIUS=500;X-TITLE=333 Post Street:geo:-122.4075056,37.7879384
END:VEVENT
BEGIN:VEVENT
DTSTART;TZID=America/Los_Angeles:20231029T130000
DTEND;TZID=America/Los_Angeles:20231029T170000
DTSTAMP:20260421T104809
CREATED:20231025T051504Z
LAST-MODIFIED:20231025T051504Z
UID:10011038-1698584400-1698598800@sftangowith.us
SUMMARY:Tango Picnic in the Park @ Conservatory of Flowers
DESCRIPTION:Look at what a beautiful city we live in – Let’s dance! \n\n(Weather Permitting) We’ll be setting up an out-door dance floor with tango music in Golden Gate park. Bring snacks and refreshments\, bringing some to share is encouraged\, the park is a perfect place for a picnic!
URL:https://sftangowith.us/event/tango-picnic-in-the-park-conservatory-of-flowers/
CATEGORIES:milonga,outdoor
ATTACH;FMTTYPE=image/jpeg:https://sftangowith.us/wp-content/uploads/2023/10/SF-Tango-Picnic.jpg
END:VEVENT
BEGIN:VEVENT
DTSTART;TZID=America/Los_Angeles:20240331T150000
DTEND;TZID=America/Los_Angeles:20240331T180000
DTSTAMP:20260421T104809
CREATED:20240330T031353Z
LAST-MODIFIED:20240330T031418Z
UID:10012155-1711897200-1711908000@sftangowith.us
SUMMARY:Tango Picnic in the Park
DESCRIPTION:Hello Beautiful Tango Friends – Spring is upon us! \n(Weather Permitting) We’ll be setting up an out-door dance floor with tango music in Golden Gate park. Bring snacks and refreshments\, bringing some to share is encouraged\, the park is a perfect place for music and a picnic! \nHere’s the goole maps link for our location – https://maps.app.goo.gl/DMZSahywPpbv4Wxj6 \nHere are the coordinates if that’s how you like to navigate\n37.77244481738951\, -122.45926604991998
URL:https://sftangowith.us/event/tango-picnic-in-the-park/
LOCATION:Conservatory of Flowers\, 100 John F Kennedy Dr\, San Francisco\, 94118\, United States
CATEGORIES:milonga,outdoor
ATTACH;FMTTYPE=image/jpeg:https://sftangowith.us/wp-content/uploads/2024/03/Picnic-in-the-Park-SF.jpg
END:VEVENT
BEGIN:VEVENT
DTSTART;TZID=America/Los_Angeles:20240921T120000
DTEND;TZID=America/Los_Angeles:20240921T133000
DTSTAMP:20260421T104809
CREATED:20240816T235238Z
LAST-MODIFIED:20240816T235238Z
UID:10013498-1726920000-1726925400@sftangowith.us
SUMMARY:Piano Concert at the Celebration Garden @ Flower Piano
DESCRIPTION:Sumi Lee Tango Collective will perform at the annual flower concert at the Golden Gate Park. This year’s concert will feature fantastic tango artists performing contemporary tango & Bach music.\nArtists:Heyni Solera: Bandoneonist from D.C.Rodrigo Alvarez: Bandoneonist from Buenos Aires.Keiko Cadby: Violinist from SoCal.\n\nVideo clips from the last year: https://www.youtube.com/watch?v=P45gfd50f4s&t=10s\nMore info: https://gggp.org/event/flower-piano/\nTickets: https://gggp.my.salesforce-sites.com/ticket/#/instances/a0FWP000000Afmf2AC
URL:https://sftangowith.us/event/piano-concert-at-the-celebration-garden-flower-piano/
LOCATION:San Francisco Botanical Garden\, 1199 9th Ave\, San Francisco\, 94122\, United States
CATEGORIES:music (live),outdoor,Recommended for Visitors
ATTACH;FMTTYPE=image/jpeg:https://sftangowith.us/wp-content/uploads/2024/08/Flower-Piano-Sumi.jpg
GEO:37.7666949;-122.4671355
X-APPLE-STRUCTURED-LOCATION;VALUE=URI;X-ADDRESS=San Francisco Botanical Garden 1199 9th Ave San Francisco 94122 United States;X-APPLE-RADIUS=500;X-TITLE=1199 9th Ave:geo:-122.4671355,37.7666949
END:VEVENT
BEGIN:VEVENT
DTSTART;TZID=America/Los_Angeles:20250502T170000
DTEND;TZID=America/Los_Angeles:20250502T200000
DTSTAMP:20260421T104809
CREATED:20250430T064846Z
LAST-MODIFIED:20250430T064846Z
UID:10015478-1746205200-1746216000@sftangowith.us
SUMMARY:Tango in the Square @ Union Square Park (Live Music)
DESCRIPTION:Tango in the Square this year on the 1st FRIDAY of the month starting at 5 PM. \nTrio Tangazo:\n-Sascha Jacobsen on bass\n-Seth Asarnow on Bandoneon\,\n– Lauro on Guitar and vocals\, special guest from Argentina.\nDon’t miss the performance by Marcelo Solis and Fiamma Clozza.\nOur teacher and DJ will be Marcelo Solis. \nTango for dancing until 8 PM!
URL:https://sftangowith.us/event/tango-in-the-square-union-square-park-live-music/
LOCATION:Union Square\, 333 Post Street\, San Francisco\, CA\, United States
CATEGORIES:class,milonga,music (live),outdoor
GEO:37.7879384;-122.4075056
X-APPLE-STRUCTURED-LOCATION;VALUE=URI;X-ADDRESS=Union Square 333 Post Street San Francisco CA United States;X-APPLE-RADIUS=500;X-TITLE=333 Post Street:geo:-122.4075056,37.7879384
END:VEVENT
BEGIN:VEVENT
DTSTART;TZID=America/Los_Angeles:20250518T120000
DTEND;TZID=America/Los_Angeles:20250518T150000
DTSTAMP:20260421T104809
CREATED:20250517T134125Z
LAST-MODIFIED:20250610T042033Z
UID:10015566-1747569600-1747580400@sftangowith.us
SUMMARY:Argentine Tango @ Salesforce Park (FREE PUBLIC EVENT)
DESCRIPTION:TJPA presents Argentine Tango with Che! Tango SF at Salesforce Park\nSponsored by East Cut Community Benefit District and the Transbay Joint Powers Authority\nEvery 3rd Sunday (except July on Sat 7/19) from May to October.\n~45 mins Intro to Tango class at noon~DJ or Live music (alternating month) for dancing till 3pm\nFull activities schedule:https://www.tjpa.org/salesforce-transit-center/activities\nVisitor information:https://www.tjpa.org/salesforce-transit-center/faq
URL:https://sftangowith.us/event/argentine-tango-salesforce-park-free-public-event/
LOCATION:Salesforce Park\, 425 Mission Street\, San Francisco\, 94105\, United States
CATEGORIES:class,milonga,music (live),outdoor,Recommended for Visitors
ATTACH;FMTTYPE=image/jpeg:https://sftangowith.us/wp-content/uploads/2025/05/Salesforce-Park-Tango-FB-event.jpg
END:VEVENT
BEGIN:VEVENT
DTSTART;TZID=America/Los_Angeles:20250615T120000
DTEND;TZID=America/Los_Angeles:20250615T150000
DTSTAMP:20260421T104809
CREATED:20250610T041952Z
LAST-MODIFIED:20250610T041952Z
UID:10015567-1749988800-1749999600@sftangowith.us
SUMMARY:Argentine Tango @ Salesforce Park (FREE PUBLIC EVENT)
DESCRIPTION:TJPA presents Argentine Tango with Che! Tango SF at Salesforce Park\nSponsored by East Cut Community Benefit District and the Transbay Joint Powers Authority\nEvery 3rd Sunday (except July on Sat 7/19) from May to October.\n~45 mins Intro to Tango class at noon~DJ or Live music (alternating month) for dancing till 3pm\nFull activities schedule:https://www.tjpa.org/salesforce-transit-center/activities\nVisitor information:https://www.tjpa.org/salesforce-transit-center/faq
URL:https://sftangowith.us/event/argentine-tango-salesforce-park-free-public-event-2/
LOCATION:Salesforce Park\, 425 Mission Street\, San Francisco\, 94105\, United States
CATEGORIES:class,milonga,music (live),outdoor,Recommended for Visitors
ATTACH;FMTTYPE=image/jpeg:https://sftangowith.us/wp-content/uploads/2025/05/Salesforce-Park-2025-06-15.jpg
END:VEVENT
BEGIN:VEVENT
DTSTART;TZID=America/Los_Angeles:20250719T133000
DTEND;TZID=America/Los_Angeles:20250719T163000
DTSTAMP:20260421T104809
CREATED:20250626T002140Z
LAST-MODIFIED:20250718T213749Z
UID:10015568-1752931800-1752942600@sftangowith.us
SUMMARY:Argentine Tango @ Salesforce Park (Free Public Event)
DESCRIPTION:Attention 📣! FREE PUBLIC Tango event for ALL this Saturday!!! It’s the perfect event to get your non-tango or not-yet-tango friends and families to experience Argentine Tango with you!!! \nThird edition on 7/19 at Argentine Tango @ Salesforce Park\n1:30-2:15pm: Intro to Tango class by Christy Cote & Emily Webb\n2:30-3:30pm: Live Music by Crystie Shum\, Rodrigo Avalos\, Heyni Solera\, Keiko Cadly & Sascha Jacobsen\n3:30-4:30pm: DJ Prashant \nFull activities schedule:https://www.tjpa.org/salesforce-transit-center/activities \n\nVisitor information:https://www.tjpa.org/salesforce-transit-center/faq
URL:https://sftangowith.us/event/argentine-tango-salesforce-park-free-public-event-3/
LOCATION:Salesforce Park\, 425 Mission Street\, San Francisco\, 94105\, United States
CATEGORIES:class,milonga,music (live),outdoor,Recommended for Visitors
ATTACH;FMTTYPE=image/jpeg:https://sftangowith.us/wp-content/uploads/2025/06/2025-07-19-Salesforce-Park.jpg
END:VEVENT
BEGIN:VEVENT
DTSTART;TZID=America/Los_Angeles:20250817T120000
DTEND;TZID=America/Los_Angeles:20250817T150000
DTSTAMP:20260421T104809
CREATED:20250830T213630Z
LAST-MODIFIED:20250830T213645Z
UID:10015624-1755432000-1755442800@sftangowith.us
SUMMARY:Argentine Tango @ Salesforce Park (Free Public Event)
DESCRIPTION:TJPA presents Argentine Tango with Che! Tango SF at Salesforce Park\nSponsored by East Cut Community Benefit District and the Transbay Joint Powers Authority\nEvery 3rd Sunday (except July on Sat 7/19) from May to October.\n~45 mins Intro to Tango class at noon~DJ or Live music (alternating month) for dancing till 3pm\nFull activities schedule:https://www.tjpa.org/salesforce-transit-center/activities\nVisitor information:https://www.tjpa.org/salesforce-transit-center/faq
URL:https://sftangowith.us/event/argentine-tango-salesforce-park-free-public-event-3-2-2/
LOCATION:Salesforce Park\, 425 Mission Street\, San Francisco\, 94105\, United States
CATEGORIES:class,milonga,music (live),outdoor,Recommended for Visitors
ATTACH;FMTTYPE=image/jpeg:https://sftangowith.us/wp-content/uploads/2025/06/Salesforce-Park-Tango-81725.jpg
END:VEVENT
BEGIN:VEVENT
DTSTART;TZID=America/Los_Angeles:20250921T120000
DTEND;TZID=America/Los_Angeles:20250921T150000
DTSTAMP:20260421T104809
CREATED:20250830T214008Z
LAST-MODIFIED:20250915T100214Z
UID:10015627-1758456000-1758466800@sftangowith.us
SUMMARY:Argentine Tango @ Salesforce Park (Free Public Event)
DESCRIPTION:TJPA presents Argentine Tango with Che! Tango SF at Salesforce Park\nSponsored by East Cut Community Benefit District and the Transbay Joint Powers Authority\nEvery 3rd Sunday (except July on Sat 7/19) from May to October.\n~45 mins Intro to Tango class at noon~DJ or Live music (alternating month) for dancing till 3pm\nFull activities schedule:https://www.tjpa.org/salesforce-transit-center/activities\nVisitor information:https://www.tjpa.org/salesforce-transit-center/faq
URL:https://sftangowith.us/event/argentine-tango-salesforce-park-free-public-event-3-2-3/
LOCATION:Salesforce Park\, 425 Mission Street\, San Francisco\, 94105\, United States
CATEGORIES:class,milonga,music (live),outdoor,Recommended for Visitors
ATTACH;FMTTYPE=image/jpeg:https://sftangowith.us/wp-content/uploads/2025/08/Salesforce-Park-Tango-92125.jpg
END:VEVENT
BEGIN:VEVENT
DTSTART;TZID=America/Los_Angeles:20251019T120000
DTEND;TZID=America/Los_Angeles:20251019T150000
DTSTAMP:20260421T104809
CREATED:20251014T115649Z
LAST-MODIFIED:20251014T115650Z
UID:10015628-1760875200-1760886000@sftangowith.us
SUMMARY:Argentine Tango @ Salesforce Park (Free Public Event)
DESCRIPTION:TJPA presents Argentine Tango with Che! Tango SF at Salesforce Park\nSponsored by East Cut Community Benefit District and the Transbay Joint Powers Authority\nEvery 3rd Sunday (except July on Sat 7/19) from May to October.\n~45 mins Intro to Tango class at noon~DJ or Live music (alternating month) for dancing till 3pm\nFull activities schedule:https://www.tjpa.org/salesforce-transit-center/activities\nVisitor information:https://www.tjpa.org/salesforce-transit-center/faq
URL:https://sftangowith.us/event/argentine-tango-salesforce-park-free-public-event-3-2-4/
LOCATION:Salesforce Park\, 425 Mission Street\, San Francisco\, 94105\, United States
CATEGORIES:class,milonga,music (live),outdoor,Recommended for Visitors
ATTACH;FMTTYPE=image/jpeg:https://sftangowith.us/wp-content/uploads/2025/06/Salesforce-Park-Tango-101925.jpg
END:VEVENT
BEGIN:VEVENT
DTSTART;TZID=America/Los_Angeles:20251114T140000
DTEND;TZID=America/Los_Angeles:20251117T030000
DTSTAMP:20260421T104809
CREATED:20250717T073612Z
LAST-MODIFIED:20251009T012021Z
UID:10015759-1763128800-1763348400@sftangowith.us
SUMMARY:Bay Tango Festival & Marathon
DESCRIPTION:Visit our website to learn more: baytango.com\nInstagram: @baytangofestival\nFB page: BayTango Festival & Marathon
URL:https://sftangowith.us/event/bay-tango-festival-marathon/
CATEGORIES:class,festival,milonga,music (live),outdoor,performance,practica,Recommended for Visitors,workshop
ATTACH;FMTTYPE=image/jpeg:https://sftangowith.us/wp-content/uploads/2025/07/BTFM-Flyer-7-x-5-in-1.jpg
ORGANIZER;CN="Rena":MAILTO:Lacadenciatango@gmail.com
END:VEVENT
END:VCALENDAR